Felt | Verdi |
AlreadyApplied | True |
Aperture | 5.6 |
ApertureValue | 5.6 |
ApproximateFocusDistance | 18.3 |
AutoLateralCA | 0 |
BitsPerSample | 8 |
Blacks2012 | +7 |
BlueHue | 0 |
BlueSaturation | 0 |
CameraProfile | Adobe Standard |
CircleOfConfusion | 0.019 mm |
Clarity2012 | +27 |
ColorComponents | 3 |
ColorNoiseReduction | 25 |
ColorNoiseReductionDetail | 50 |
ColorTemperature | 6778 |
Contrast2012 | +33 |
ConvertToGrayscale | False |
CreateDate (1) | 2014:03:08 14:03:59.01 |
CreateDate | 2014:03:08 14:03:59 |
CreatorTool | Adobe Photoshop Lightroom 4.1 (Macintosh) |
CropAngle | 0 |
CropBottom | 0.807163 |
CropConstrainToWarp | 0 |
CropHeight | 2675 |
CropLeft | 0.137913 |
CropRight | 0.912018 |
CropTop | 0.033058 |
CropUnit | pixels |
CropWidth | 4013 |
CustomRendered | Normal |
DateCreated (1) | 2014:03:08 |
DateCreated | 2014:03:08 14:03:59.01 |
DateTimeOriginal | 2014:03:08 14:03:59 |
DefringeGreenAmount | 0 |
DefringeGreenHueHi | 60 |
DefringeGreenHueLo | 40 |
DefringePurpleAmount | 0 |
DefringePurpleHueHi | 70 |
DefringePurpleHueLo | 30 |
DOF | 0.78 m (17.92 - 18.70 m) |
Exposure2012 | +0.90 |
ExposureCompensation | 0 |
ExposureMode | Manual |
ExposureProgram | Manual |
ExposureTime | 1/1000 |
Firmware | 1.1.1 |
Flash | Off, Did not fire |
FlashCompensation | 0 |
FNumber | 5.6 |
FocalLength | 300.0 mm |
FocalLength35efl | 300.0 mm (35 mm equivalent: 471.8 mm) |
Format | image/jpeg |
FOV | 4.4 deg |
GrainAmount | 0 |
GreenHue | 0 |
GreenSaturation | 0 |
HasCrop | True |
HasSettings | True |
Highlights2012 | -7 |
HueAdjustmentAqua | 0 |
HueAdjustmentBlue | 0 |
HueAdjustmentGreen | 0 |
HueAdjustmentMagenta | 0 |
HueAdjustmentOrange | 0 |
HueAdjustmentPurple | 0 |
HueAdjustmentRed | 0 |
HueAdjustmentYellow | 0 |
HyperfocalDistance | 841.25 m |
ImageHeight | 4013 |
ImageNumber | 0 |
ImageSize | 2675x4013 |
ImageWidth | 2675 |
ISO | 640 |
Label | Red |
Lens | EF70-300mm f/4-5.6 IS USM |
LensID (1) | 238 |
LensID | Canon EF 70-300mm f/4-5.6 IS USM |
LensInfo | 70-300mm f/? |
LensManualDistortionAmount | 0 |
LensModel | EF70-300mm f/4-5.6 IS USM |
LensProfileChromaticAberrationScale | 100 |
LensProfileDistortionScale | 109 |
LensProfileEnable | 1 |
LensProfileFilename | Canon EOS-1Ds Mark III (Canon EF 70-300mm f4-5.6 IS USM) - RAW.lcp |
LensProfileName | Adobe (Canon EF 70-300mm f/4-5.6 IS USM) |
LensProfileSetup | Custom |
LensProfileVignettingScale | 120 |
LensSerialNumber | 000012ee13 |
LightValue | 12.3 |
LuminanceAdjustmentAqua | 0 |
LuminanceAdjustmentBlue | -33 |
LuminanceAdjustmentGreen | 0 |
LuminanceAdjustmentMagenta | 0 |
LuminanceAdjustmentOrange | 0 |
LuminanceAdjustmentPurple | 0 |
LuminanceAdjustmentRed | 0 |
LuminanceAdjustmentYellow | 0 |
LuminanceSmoothing | 0 |
Make | Canon |
MaxApertureValue | 5.7 |
Megapixels | 10.7 |
MeteringMode | Multi-segment |
Model | Canon EOS 60D |
ModifyDate (1) | 2014:04:02 14:30:14+02:00 |
ModifyDate | 2014:04:02 14:30:14 |
ParametricDarks | 0 |
ParametricHighlights | 0 |
ParametricHighlightSplit | 75 |
ParametricLights | 0 |
ParametricMidtoneSplit | 50 |
ParametricShadows | 0 |
ParametricShadowSplit | 25 |
PerspectiveHorizontal | 0 |
PerspectiveRotate | 0.0 |
PerspectiveScale | 100 |
PerspectiveVertical | 0 |
PostCropVignetteAmount | 0 |
ProcessVersion | 6.7 |
ProfileDescription | sRGB IEC61966-2.1 |
RecommendedExposureIndex | 640 |
RedHue | 0 |
RedSaturation | 0 |
Saturation | -9 |
SaturationAdjustmentAqua | 0 |
SaturationAdjustmentBlue | +17 |
SaturationAdjustmentGreen | -29 |
SaturationAdjustmentMagenta | 0 |
SaturationAdjustmentOrange | -2 |
SaturationAdjustmentPurple | 0 |
SaturationAdjustmentRed | -6 |
SaturationAdjustmentYellow | -23 |
ScaleFactor35efl | 1.6 |
SceneCaptureType | Standard |
SensitivityType | Recommended Exposure Index |
SerialNumber | 2681409087 |
Shadows2012 | +71 |
ShadowTint | 0 |
SharpenDetail | 25 |
SharpenEdgeMasking | 0 |
SharpenRadius | +1.0 |
Sharpness | 25 |
ShutterSpeed | 1/1000 |
ShutterSpeedValue | 1/1000 |
Software | Adobe Photoshop Lightroom 4.1 (Macintosh) |
SplitToningBalance | 0 |
SplitToningHighlightHue | 0 |
SplitToningHighlightSaturation | 0 |
SplitToningShadowHue | 0 |
SplitToningShadowSaturation | 0 |
Tint | +10 |
ToneCurveName2012 | Custom |
ToneCurvePV2012 | 0, 0, 126, 119, 255, 255 |
ToneCurvePV2012Blue | 0, 0, 255, 255 |
ToneCurvePV2012Green | 0, 0, 255, 255 |
ToneCurvePV2012Red | 0, 0, 255, 255 |
Version | 7.1 |
Vibrance | +27 |
VignetteAmount | 0 |
WhiteBalance (1) | Custom |
WhiteBalance | Manual |
Whites2012 | +22 |