Felt | Verdi |
AlreadyApplied | True |
Aperture | 4.5 |
ApertureValue | 4.5 |
ApproximateFocusDistance | 1.17 |
BitsPerSample (1) | 8 8 8 |
BitsPerSample | 8 |
BlueHue | 0 |
BlueSaturation | 0 |
Brightness | +29 |
CameraProfile | Adobe Standard |
ChromaticAberrationB | 0 |
ChromaticAberrationR | 0 |
CircleOfConfusion | 0.019 mm |
Clarity | +6 |
ColorComponents | 3 |
ColorMode | RGB |
ColorNoiseReduction | 31 |
ColorNoiseReductionDetail | 50 |
ColorSpace | sRGB |
ColorTemperature | 6100 |
Contrast | +45 |
ConvertToGrayscale | False |
CreateDate (1) | 2013:03:27 11:44+01:00 |
CreateDate | 2013:03:27 11:44:00 |
CreatorTool | Adobe Photoshop Lightroom |
CropAngle | 0 |
CropBottom | 0.883517 |
CropConstrainToWarp | 0 |
CropHeight | 1654 |
CropLeft | 0.266471 |
CropRight | 0.689605 |
CropTop | 0.25055 |
CropUnit | pixels |
CropWidth | 1659 |
CustomRendered | Normal |
DateCreated (1) | 2013:03:27 |
DateCreated | 2013:03:27 11:44+01:00 |
DateTimeOriginal | 2013:03:27 11:44:00 |
Defringe | 0 |
DOF | 0.02 m (1.16 - 1.18 m) |
ExifImageHeight | 2260 |
ExifImageWidth | 2265 |
Exposure | +0.78 |
ExposureCompensation | 0 |
ExposureMode | Manual |
ExposureProgram | Manual |
ExposureTime | 1/250 |
FillLight | 0 |
Firmware | 1.2.3 |
Flash | Off, Did not fire |
FlashCompensation | 0 |
FNumber | 4.5 |
FocalLength | 100.0 mm |
FocalLength35efl | 100.0 mm (35 mm equivalent: 157.0 mm) |
Format | image/jpeg |
FOV | 13.1 deg |
GradientBasedCorrActive | true |
GradientBasedCorrAmount | 1.000000 |
GradientBasedCorrBrightness | -0.049000 |
GradientBasedCorrClarity | -0.060000 |
GradientBasedCorrContrast | -0.073000 |
GradientBasedCorrExposure | 0.415000 |
GradientBasedCorrHue | 0.000000 |
GradientBasedCorrMaskFullX | 0.272966 |
GradientBasedCorrMaskFullY | 0.278373 |
GradientBasedCorrMaskValue | 1.000000 |
GradientBasedCorrMaskWhat | Mask/Gradient |
GradientBasedCorrMaskZeroX | 0.580109 |
GradientBasedCorrMaskZeroY | 0.633112 |
GradientBasedCorrSaturation (1) | -0.060000 |
GradientBasedCorrSaturation | 0.000000 |
GradientBasedCorrSharpness | 0.000000 |
GradientBasedCorrWhat | Correction |
GrainAmount | 0 |
GreenHue | 0 |
GreenSaturation | 0 |
HasCrop | True |
HasSettings | True |
HighlightRecovery | 6 |
HueAdjustmentAqua | 0 |
HueAdjustmentBlue | 0 |
HueAdjustmentGreen | 0 |
HueAdjustmentMagenta | 0 |
HueAdjustmentOrange | 0 |
HueAdjustmentPurple | 0 |
HueAdjustmentRed | 0 |
HueAdjustmentYellow | 0 |
HyperfocalDistance | 116.14 m |
ICCProfileName | sRGB IEC61966-2.1 |
ImageHeight (1) | 1654 |
ImageHeight | 2260 |
ImageNumber | 0 |
ImageSize | 2265x2260 |
ImageWidth (1) | 1659 |
ImageWidth | 2265 |
ISO | 100 |
Lens | EF100mm f/2.8L Macro IS USM |
LensID (1) | 254 |
LensID | Canon EF 100mm f/2.8L Macro IS USM |
LensInfo | 100mm f/? |
LensManualDistortionAmount | 0 |
LensProfileEnable | 0 |
LensProfileSetup | LensDefaults |
LightValue | 12.3 |
LuminanceAdjustmentAqua | 0 |
LuminanceAdjustmentBlue | 0 |
LuminanceAdjustmentGreen | 0 |
LuminanceAdjustmentMagenta | 0 |
LuminanceAdjustmentOrange | 0 |
LuminanceAdjustmentPurple | 0 |
LuminanceAdjustmentRed | 0 |
LuminanceAdjustmentYellow | 0 |
LuminanceNoiseReductionContrast | 0 |
LuminanceNoiseReductionDetail | 50 |
LuminanceSmoothing | 17 |
Make | Canon |
MaxApertureValue | 2.8 |
Megapixels | 5.1 |
MeteringMode | Multi-segment |
Model | Canon EOS 7D |
ModifyDate (1) | 2013:03:27 23:05:37+01:00 |
ModifyDate | 2013:03:27 23:05:37 |
Orientation | Horizontal (normal) |
PaintCorrectionActive | true |
PaintCorrectionAmount | 1.000000 |
PaintCorrectionBrightness | -0.146000 |
PaintCorrectionClarity | -0.060000 |
PaintCorrectionContrast | -0.073000 |
PaintCorrectionExposure | -0.024000 |
PaintCorrectionHue | 21.000000 |
PaintCorrectionMaskCenterWeight | 0.030865 |
PaintCorrectionMaskFlow | 0.906000 |
PaintCorrectionMaskRadius | 0.038579 |
PaintCorrectionMaskValue | 0.476000 |
PaintCorrectionMaskWhat | Mask/Paint |
PaintCorrectionSaturation (1) | -0.060000 |
PaintCorrectionSaturation | 0.790000 |
PaintCorrectionSharpness | 0.000000 |
PaintCorrectionWhat | Correction |
ParametricDarks | 0 |
ParametricHighlights | 0 |
ParametricHighlightSplit | 75 |
ParametricLights | 0 |
ParametricMidtoneSplit | 50 |
ParametricShadows | 0 |
ParametricShadowSplit | 25 |
PerspectiveHorizontal | 0 |
PerspectiveRotate | 0.0 |
PerspectiveScale | 100 |
PerspectiveVertical | 0 |
PhotometricInterpretation | RGB |
PostCropVignetteAmount | 0 |
ProcessVersion | 5.7 |
ProfileDescription | sRGB IEC61966-2.1 |
RedHue | 0 |
RedSaturation | 0 |
Saturation | +1 |
SaturationAdjustmentAqua | 0 |
SaturationAdjustmentBlue | 0 |
SaturationAdjustmentGreen | 0 |
SaturationAdjustmentMagenta | 0 |
SaturationAdjustmentOrange | 0 |
SaturationAdjustmentPurple | 0 |
SaturationAdjustmentRed | 0 |
SaturationAdjustmentYellow | 0 |
ScaleFactor35efl | 1.6 |
SceneCaptureType | Standard |
SerialNumber | 1961000057 |
Shadows | 5 |
ShadowTint | 0 |
SharpenDetail | 15 |
SharpenEdgeMasking | 18 |
SharpenRadius | +0.9 |
Sharpness | 52 |
ShutterSpeed | 1/250 |
ShutterSpeedValue | 1/250 |
Software | Adobe Photoshop Elements 11.0 Windows |
SplitToningBalance | 0 |
SplitToningHighlightHue | 0 |
SplitToningHighlightSaturation | 0 |
SplitToningShadowHue | 0 |
SplitToningShadowSaturation | 0 |
SubjectDistance | 1.17 m |
Tint | +6 |
ToneCurve | 0, 0, 32, 22, 64, 56, 128, 128, 192, 196, 255, 255 |
ToneCurveName | Medium Contrast |
URL_List | |
Version | 6.1 |
Vibrance | +1 |
VignetteAmount | 0 |
WhiteBalance (1) | Custom |
WhiteBalance | Manual |