Felt | Verdi |
AlreadyApplied | True |
Aperture | 2.8 |
ApertureValue | 2.8 |
AutoLateralCA | 0 |
BitsPerSample | 8 |
Blacks2012 | 0 |
BlueHue | +7 |
BlueSaturation | -2 |
BrightnessValue | 3.22 |
CameraProfile | Embedded |
CircleOfConfusion | 0.008 mm |
Clarity2012 | +60 |
ColorComponents | 3 |
ColorNoiseReduction | 0 |
Contrast2012 | -14 |
ConvertToGrayscale | False |
CreateDate | 2012:09:25 12:42:03 |
CreatorTool | Adobe Photoshop Lightroom 4.2 (Windows) |
CustomRendered | Normal |
DateAcquired | 2012:09:25 15:54:20.118 |
DateCreated (1) | 2012:09:25 |
DateCreated | 2012:09:25 12:42:03 |
DateTimeOriginal | 2012:09:25 12:42:03 |
DefringeGreenAmount | 0 |
DefringeGreenHueHi | 60 |
DefringeGreenHueLo | 40 |
DefringePurpleAmount | 0 |
DefringePurpleHueHi | 70 |
DefringePurpleHueLo | 30 |
Exposure2012 | +0.83 |
ExposureCompensation | 0 |
ExposureMode | Auto |
ExposureProgram | Program AE |
ExposureTime | 1/50 |
Flash | Off, Did not fire |
FNumber | 2.8 |
FocalLength | 21.0 mm |
FocalLength35efl | 21.0 mm (35 mm equivalent: 82.8 mm) |
Format | image/jpeg |
FOV | 24.5 deg |
GrainAmount | 0 |
GreenHue | +12 |
GreenSaturation | +21 |
HasCrop | False |
HasSettings | True |
Highlights2012 | 0 |
HueAdjustmentAqua | 0 |
HueAdjustmentBlue | -40 |
HueAdjustmentGreen | -100 |
HueAdjustmentMagenta | -100 |
HueAdjustmentOrange | -100 |
HueAdjustmentPurple | -100 |
HueAdjustmentRed | -100 |
HueAdjustmentYellow | -100 |
HyperfocalDistance | 20.66 m |
ImageHeight | 3000 |
ImageSize | 4000x3000 |
ImageWidth | 4000 |
IncrementalTemperature | 0 |
IncrementalTint | 0 |
ISO | 400 |
LensManualDistortionAmount | 0 |
LensProfileEnable | 0 |
LensProfileSetup | LensDefaults |
LightSource | Unknown |
LightValue | 6.6 |
LuminanceAdjustmentAqua | -33 |
LuminanceAdjustmentBlue | +27 |
LuminanceAdjustmentGreen | -100 |
LuminanceAdjustmentMagenta | -100 |
LuminanceAdjustmentOrange | -100 |
LuminanceAdjustmentPurple | -100 |
LuminanceAdjustmentRed | -100 |
LuminanceAdjustmentYellow | -100 |
LuminanceSmoothing | 0 |
Make | FUJIFILM |
MaxApertureValue | 2.0 |
Megapixels | 12.0 |
MeteringMode | Multi-segment |
Model | X10 |
ModifyDate (1) | 2012:10:09 09:49:27+02:00 |
ModifyDate | 2012:10:09 09:49:27 |
ParametricDarks | -22 |
ParametricHighlights | +20 |
ParametricHighlightSplit | 75 |
ParametricLights | -90 |
ParametricMidtoneSplit | 50 |
ParametricShadows | +100 |
ParametricShadowSplit | 25 |
PerspectiveHorizontal | 0 |
PerspectiveRotate | 0.0 |
PerspectiveScale | 100 |
PerspectiveVertical | 0 |
PostCropVignetteAmount | 0 |
ProcessVersion | 6.7 |
ProfileDescription | sRGB IEC61966-2.1 |
RedHue | -45 |
RedSaturation | -19 |
Saturation | +10 |
SaturationAdjustmentAqua | 0 |
SaturationAdjustmentBlue | +31 |
SaturationAdjustmentGreen | -100 |
SaturationAdjustmentMagenta | -100 |
SaturationAdjustmentOrange | -100 |
SaturationAdjustmentPurple | -100 |
SaturationAdjustmentRed | -100 |
SaturationAdjustmentYellow | -100 |
ScaleFactor35efl | 3.9 |
SceneCaptureType | Standard |
SceneType | Directly photographed |
SensingMethod | One-chip color area |
SensitivityType | Standard Output Sensitivity |
Shadows2012 | 0 |
ShadowTint | -5 |
SharpenDetail | 25 |
SharpenEdgeMasking | 0 |
SharpenRadius | +1.0 |
Sharpness (1) | 0 |
Sharpness | Normal |
ShutterSpeed | 1/50 |
ShutterSpeedValue | 1/50 |
Software | Adobe Photoshop Lightroom 4.2 (Windows) |
SplitToningBalance | +100 |
SplitToningHighlightHue | 360 |
SplitToningHighlightSaturation | 0 |
SplitToningShadowHue | 111 |
SplitToningShadowSaturation | 0 |
SubjectDistanceRange | Unknown |
ToneCurveName2012 | Linear |
ToneCurvePV2012 | 0, 0, 255, 255 |
ToneCurvePV2012Blue | 0, 0, 255, 255 |
ToneCurvePV2012Green | 0, 0, 255, 255 |
ToneCurvePV2012Red | 0, 0, 255, 255 |
Version | 7.2 |
Vibrance | +14 |
VignetteAmount | +100 |
VignetteMidpoint | 81 |
WhiteBalance (1) | As Shot |
WhiteBalance | Auto |
Whites2012 | 0 |