Felt | Verdi |
AlreadyApplied | True |
Aperture | 3.5 |
ApproximateFocusDistance | 17.8 |
AutoLateralCA | 0 |
BitsPerSample (1) | 16 16 16 |
BitsPerSample | 8 |
BlackClip | 1.833700 |
Blacks2012 | -23 |
BlueHue | 0 |
BlueSaturation | 0 |
CameraProfile | Adobe Standard |
Clarity2012 | +42 |
ColorComponents | 3 |
ColorMode | RGB |
ColorNoiseReduction | 25 |
ColorNoiseReductionDetail | 50 |
ColorSaturation | 73.0 |
ColorSpace | sRGB |
ColorTemperature (1) | 7.8 |
ColorTemperature | 5200 |
Contrast2012 | 0 |
ConvertToGrayscale | False |
CreateDate | 2012:10:06 12:51:26+02:00 |
CreatorTool | Adobe Photoshop Elements 11.0 Windows |
DateCreated (1) | 2012:10:06 |
DateCreated | 2012:10:06 12:51:26 |
DateTimeOriginal | 2012:10:06 12:51:26 |
DefringeGreenAmount | 0 |
DefringeGreenHueHi | 60 |
DefringeGreenHueLo | 40 |
DefringePurpleAmount | 0 |
DefringePurpleHueHi | 70 |
DefringePurpleHueLo | 30 |
ExifImageHeight | 3248 |
ExifImageWidth | 4912 |
Exposure2012 | +0.65 |
ExposureTime | 1/320 |
FNumber | 3.5 |
FocalLength | 22.0 mm |
FocalLength35efl | 22.0 mm |
Format | image/jpeg |
Gamma | 1.06 |
GrainAmount | 0 |
GreenHue | 0 |
GreenSaturation | 0 |
HasCrop | False |
HasSettings | True |
Highlights2012 | -22 |
HighlightsSmoothing | 36.0 |
HueAdjustmentAqua | 0 |
HueAdjustmentBlue | 0 |
HueAdjustmentGreen | 0 |
HueAdjustmentMagenta | 0 |
HueAdjustmentOrange | 0 |
HueAdjustmentPurple | 0 |
HueAdjustmentRed | 0 |
HueAdjustmentYellow | 0 |
ICCProfileName | sRGB IEC61966-2.1 |
ImageHeight | 3248 |
ImageNumber | 3366 |
ImageSize | 4912x3248 |
ImageWidth | 4912 |
ISO | 200 |
IsPano360 | No |
Lens | 18.0-250.0 mm f/3.5-6.3 |
LensID | 165 |
LensInfo | 18-250mm f/3.5-6.3 |
LensManualDistortionAmount | 0 |
LensProfileEnable | 0 |
LensProfileSetup | LensDefaults |
LightValue | 10.9 |
LuminanceAdjustmentAqua | 0 |
LuminanceAdjustmentBlue | 0 |
LuminanceAdjustmentGreen | 0 |
LuminanceAdjustmentMagenta | 0 |
LuminanceAdjustmentOrange | 0 |
LuminanceAdjustmentPurple | 0 |
LuminanceAdjustmentRed | 0 |
LuminanceAdjustmentYellow | 0 |
LuminanceSmoothing | 0 |
Luminosity | -8.8 |
Megapixels | 16.0 |
Method | Details Enhancer |
Microcontrast | 10.0 |
Microsmoothing | 13.9 |
Model | NIKON D5100 |
ModifyDate (1) | 2012:10:18 19:43:42+02:00 |
ModifyDate | 2012:10:18 19:43:42 |
Orientation | Horizontal (normal) |
ParametricDarks | 0 |
ParametricHighlights | 0 |
ParametricHighlightSplit | 75 |
ParametricLights | 0 |
ParametricMidtoneSplit | 50 |
ParametricShadows | 0 |
ParametricShadowSplit | 25 |
PerspectiveHorizontal | 0 |
PerspectiveRotate | 0.0 |
PerspectiveScale | 100 |
PerspectiveVertical | 0 |
PhotometricInterpretation | RGB |
PlanarConfiguration | Chunky |
PostCropVignetteAmount | 0 |
ProcessVersion | 6.7 |
ProfileDescription | sRGB IEC61966-2.1 |
Rating | 0 |
RawFileName | _DSC0591.NEF |
RedHue | 0 |
RedSaturation | 0 |
Saturation | 0 |
SaturationAdjustmentAqua | 0 |
SaturationAdjustmentBlue | 0 |
SaturationAdjustmentGreen | 0 |
SaturationAdjustmentMagenta | 0 |
SaturationAdjustmentOrange | 0 |
SaturationAdjustmentPurple | 0 |
SaturationAdjustmentRed | 0 |
SaturationAdjustmentYellow | 0 |
SaturationHighlights | 2.5 |
SaturationShadows | 2.4 |
SerialNumber | 6318539 |
Shadows2012 | +22 |
ShadowsClipping | 0.0 |
ShadowsSmoothing | 6.0 |
ShadowTint | 0 |
SharpenDetail | 25 |
SharpenEdgeMasking | 0 |
SharpenRadius | +1.0 |
Sharpness | 25 |
ShutterSpeed | 1/320 |
Smoothing | -10.0 |
SmoothingMode | Slider |
Software | Adobe Photoshop Elements 11.0 Windows |
SplitToningBalance | 0 |
SplitToningHighlightHue | 0 |
SplitToningHighlightSaturation | 0 |
SplitToningShadowHue | 0 |
SplitToningShadowSaturation | 0 |
Strength | 55.0 |
Tint | +10 |
ToneCurveName2012 | Linear |
ToneCurvePV2012 | 0, 0, 255, 255 |
ToneCurvePV2012Blue | 0, 0, 255, 255 |
ToneCurvePV2012Green | 0, 0, 255, 255 |
ToneCurvePV2012Red | 0, 0, 255, 255 |
URL_List | |
Version (1) | 4.1 |
Version | 7.1 |
Vibrance | +30 |
VignetteAmount | 0 |
WhiteBalance | As Shot |
WhiteClip | 2.289750 |
Whites2012 | 0 |