Felt | Verdi |
AlreadyApplied | True |
Aperture | 11.0 |
ApertureValue | 11.0 |
ApproximateFocusDistance | 0.25 |
BitsPerSample | 8 |
BlueHue | 0 |
BlueSaturation | 0 |
Brightness | +49 |
CameraProfile | Adobe Standard |
CFAPattern | [Green,Blue][Red,Green] |
ChromaticAberrationB | 0 |
ChromaticAberrationR | 0 |
CircleOfConfusion | 0.020 mm |
Clarity | +100 |
ColorComponents | 3 |
ColorNoiseReduction | 25 |
ColorNoiseReductionDetail | 50 |
ColorTemperature | 5650 |
Contrast (1) | +43 |
Contrast | Normal |
ConvertToGrayscale | False |
Copyright | Kjetil Andersen |
CopyrightFlag | True |
CopyrightNotice | Kjetil Andersen |
CreateDate (1) | 2012:09:19 15:05:40.00 |
CreateDate | 2012:09:19 15:05:40 |
CreatorTool | Adobe Photoshop Lightroom 3.5 (Macintosh) |
CropAngle | 0 |
CropBottom | 0.771105 |
CropConstrainToWarp | 0 |
CropHeight | 1285 |
CropLeft | 0.223571 |
CropRight | 0.658351 |
CropTop | 0.320065 |
CropUnit | pixels |
CropWidth | 1864 |
CustomRendered | Normal |
DateCreated (1) | 2012:09:19 |
DateCreated | 2012:09:19 15:05:40.00 |
DateTimeOriginal | 2012:09:19 15:05:40 |
Defringe | 0 |
DigitalZoomRatio | 1 |
DOF | 0.006 m (0.247 - 0.253 m) |
Exposure | +0.15 |
ExposureCompensation | 0 |
ExposureMode | Manual |
ExposureProgram | Manual |
ExposureTime | 1/400 |
FillLight | 3 |
Flash | No Flash |
FNumber | 11.0 |
FocalLength | 60.0 mm |
FocalLength35efl | 60.0 mm (35 mm equivalent: 90.0 mm) |
FocalLengthIn35mmFormat | 90 mm |
FOV | 22.6 deg |
GainControl | None |
GrainAmount | 0 |
GreenHue | 0 |
GreenSaturation | 0 |
HasCrop | True |
HasSettings | True |
HighlightRecovery | 68 |
HueAdjustmentAqua | 0 |
HueAdjustmentBlue | 0 |
HueAdjustmentGreen | 0 |
HueAdjustmentMagenta | 0 |
HueAdjustmentOrange | 0 |
HueAdjustmentPurple | 0 |
HueAdjustmentRed | 0 |
HueAdjustmentYellow | 0 |
HyperfocalDistance | 16.34 m |
ImageHeight | 1285 |
ImageNumber | 10361 |
ImageSize | 1864x1285 |
ImageWidth | 1864 |
ISO | 200 |
Lens | 60.0 mm f/2.8 |
LensID (1) | 49 |
LensID | AF Micro-Nikkor 60mm f/2.8D |
LensInfo | 60mm f/2.8 |
LensManualDistortionAmount | 0 |
LensModel | 60.0 mm f/2.8 |
LensProfileEnable | 0 |
LensProfileSetup | LensDefaults |
LightSource | Cloudy |
LightValue | 14.6 |
LuminanceAdjustmentAqua | 0 |
LuminanceAdjustmentBlue | 0 |
LuminanceAdjustmentGreen | 0 |
LuminanceAdjustmentMagenta | 0 |
LuminanceAdjustmentOrange | 0 |
LuminanceAdjustmentPurple | 0 |
LuminanceAdjustmentRed | 0 |
LuminanceAdjustmentYellow | 0 |
LuminanceSmoothing | 0 |
Make | NIKON CORPORATION |
Marked | True |
MaxApertureValue | 4.0 |
Megapixels | 2.4 |
MeteringMode | Spot |
Model | NIKON D90 |
ModifyDate (1) | 2012:09:19 17:28:00+02:00 |
ModifyDate | 2012:09:19 17:28:00 |
ParametricDarks | 0 |
ParametricHighlights | 0 |
ParametricHighlightSplit | 75 |
ParametricLights | 0 |
ParametricMidtoneSplit | 50 |
ParametricShadows | 0 |
ParametricShadowSplit | 25 |
PerspectiveHorizontal | 0 |
PerspectiveRotate | 0.0 |
PerspectiveScale | 100 |
PerspectiveVertical | 0 |
PostCropVignetteAmount | -69 |
PostCropVignetteFeather | 76 |
PostCropVignetteHighlightContrast | 0 |
PostCropVignetteMidpoint | 35 |
PostCropVignetteRoundness | +49 |
PostCropVignetteStyle | 1 |
ProcessVersion | 5.7 |
ProfileDescription | sRGB IEC61966-2.1 |
RedHue | 0 |
RedSaturation | 0 |
Rights | Kjetil Andersen |
Saturation (1) | -1 |
Saturation | Normal |
SaturationAdjustmentAqua | 0 |
SaturationAdjustmentBlue | 0 |
SaturationAdjustmentGreen | 0 |
SaturationAdjustmentMagenta | 0 |
SaturationAdjustmentOrange | 0 |
SaturationAdjustmentPurple | 0 |
SaturationAdjustmentRed | 0 |
SaturationAdjustmentYellow | 0 |
ScaleFactor35efl | 1.5 |
SceneCaptureType | Standard |
SceneType | Directly photographed |
SensingMethod | One-chip color area |
SerialNumber | 6300152 |
Shadows | 4 |
ShadowTint | 0 |
SharpenDetail | 25 |
SharpenEdgeMasking | 0 |
SharpenRadius | +1.0 |
Sharpness (1) | 25 |
Sharpness | Normal |
ShutterSpeed | 1/400 |
ShutterSpeedValue | 1/400 |
Software | Adobe Photoshop Lightroom 3.5 (Macintosh) |
SplitToningBalance | 0 |
SplitToningHighlightHue | 0 |
SplitToningHighlightSaturation | 0 |
SplitToningShadowHue | 0 |
SplitToningShadowSaturation | 0 |
SubjectDistance | 0.25 m |
SubjectDistanceRange | Unknown |
Tint | -9 |
ToneCurve | 0, 0, 32, 22, 64, 56, 128, 128, 192, 196, 255, 255 |
ToneCurveName | Medium Contrast |
Version | 6.5 |
Vibrance | -1 |
VignetteAmount | 0 |
WhiteBalance (1) | As Shot |
WhiteBalance | Manual |