Felt | Verdi |
AlreadyApplied | True |
Aperture | 2.9 |
ApertureValue | 2.9 |
AutoLateralCA | 0 |
BitsPerSample | 8 |
Blacks2012 | -29 |
BlueHue | 0 |
BlueSaturation | 0 |
Brightness | +50 |
CameraProfile | Adobe Standard |
Caption-Abstract | OLYMPUS DIGITAL CAMERA |
CFAPattern | [Red,Green][Green,Blue] |
CircleOfConfusion | 0.015 mm |
Clarity | 0 |
Clarity2012 | 0 |
ColorComponents | 1 |
ColorNoiseReduction | 25 |
ColorNoiseReductionDetail | 50 |
ColorTemperature | 5050 |
Contrast (1) | +25 |
Contrast | High |
Contrast2012 | +44 |
ConvertToGrayscale | True |
CreateDate | 2012:03:15 09:22:28 |
CreatorTool | Adobe Photoshop Lightroom 4.0 (Windows) |
CropAngle | 1.552 |
CropBottom | 0.902656 |
CropConstrainToWarp | 0 |
CropHeight | 2306 |
CropLeft | 0.178933 |
CropRight | 0.793748 |
CropTop | 0.037245 |
CropUnit | pixels |
CropWidth | 2306 |
CustomRendered | Custom |
DateCreated (1) | 2012:03:15 |
DateCreated | 2012:03:15 09:22:28 |
DateTimeOriginal | 2012:03:15 09:22:28 |
Defringe | 0 |
Description | OLYMPUS DIGITAL CAMERA |
DigitalZoomRatio | 1 |
Exposure | 0.00 |
Exposure2012 | -0.37 |
ExposureCompensation | +0.7 |
ExposureMode | Manual |
ExposureProgram | Aperture-priority AE |
ExposureTime | 1/2000 |
FillLight | 0 |
Flash | On, Did not fire |
FlashCompensation | 0 |
FNumber | 2.9 |
FocalLength | 25.0 mm |
FocalLength35efl | 25.0 mm (35 mm equivalent: 50.0 mm) |
FocalLengthIn35mmFormat | 50 mm |
Format | image/jpeg |
FOV | 39.6 deg |
GainControl | High gain up |
GrainAmount | 0 |
GrayMixerAqua | -17 |
GrayMixerBlue | -20 |
GrayMixerGreen | -27 |
GrayMixerMagenta | +4 |
GrayMixerOrange | -20 |
GrayMixerPurple | +17 |
GrayMixerRed | -10 |
GrayMixerYellow | -24 |
GreenHue | 0 |
GreenSaturation | 0 |
HasCrop | True |
HasSettings | True |
HighlightRecovery | 0 |
Highlights2012 | 0 |
HyperfocalDistance | 14.35 m |
ImageDescription | OLYMPUS DIGITAL CAMERA |
ImageHeight | 2306 |
ImageSize | 2306x2306 |
ImageWidth | 2306 |
ISO | 250 |
Lens | 14.0-54.0 mm f/2.8-3.5 |
LensInfo | 14-54mm f/2.8-3.5 |
LensManualDistortionAmount | 0 |
LensModel | 14.0-54.0 mm f/2.8-3.5 |
LensProfileEnable | 0 |
LensProfileSetup | LensDefaults |
LensSerialNumber | 310102488 |
LightSource | Unknown |
LightValue | 12.7 |
LuminanceNoiseReductionContrast | 0 |
LuminanceNoiseReductionDetail | 50 |
LuminanceSmoothing | 52 |
Make | OLYMPUS IMAGING CORP. |
MaxApertureValue | 2.8 |
Megapixels | 5.3 |
MeteringMode | Multi-segment |
Model | E-3 |
ModifyDate (1) | 2012:03:15 16:47:26+01:00 |
ModifyDate | 2012:03:15 16:47:26 |
PaintCorrectionActive | true |
PaintCorrectionAmount | 1.000000 |
PaintCorrectionBrightness | 0.000000 |
PaintCorrectionClarity2012 | 0.223530 |
PaintCorrectionContrast2012 | 0.176470 |
PaintCorrectionExposure2012 | 1.000000 |
PaintCorrectionHighlights2012 | 0.411760 |
PaintCorrectionHue | 0.000000 |
PaintCorrectionLuminanceNoise | 0.000000 |
PaintCorrectionMaskCenterWeight | 0.057135 |
PaintCorrectionMaskFlow | 0.647000 |
PaintCorrectionMaskRadius | 0.105087 |
PaintCorrectionMaskValue | 0.391000 |
PaintCorrectionMaskWhat | Mask/Paint |
PaintCorrectionMoire | 0.000000 |
PaintCorrectionSaturation | 0.000000 |
PaintCorrectionShadows2012 | 0.223530 |
PaintCorrectionSharpness | -0.058820 |
PaintCorrectionTemperature | 0.000000 |
PaintCorrectionTint | 0.000000 |
PaintCorrectionWhat | Correction |
ParametricDarks | 0 |
ParametricHighlights | 0 |
ParametricHighlightSplit | 75 |
ParametricLights | 0 |
ParametricMidtoneSplit | 50 |
ParametricShadows | 0 |
ParametricShadowSplit | 25 |
PerspectiveHorizontal | 0 |
PerspectiveRotate | 0.0 |
PerspectiveScale | 100 |
PerspectiveVertical | 0 |
PostCropVignetteAmount | 0 |
ProcessVersion | 6.7 |
ProfileDescription | sRGB IEC61966-2.1 |
RedHue | 0 |
RedSaturation | 0 |
Saturation | High |
ScaleFactor35efl | 2.0 |
SceneCaptureType | Standard |
SerialNumber | D70518049 |
Shadows | 5 |
Shadows2012 | +7 |
ShadowTint | 0 |
SharpenDetail | 25 |
SharpenEdgeMasking | 0 |
SharpenRadius | +1.0 |
Sharpness (1) | 25 |
Sharpness | Hard |
ShutterSpeed | 1/2000 |
ShutterSpeedValue | 1/2000 |
Software | Adobe Photoshop Lightroom 4.0 (Windows) |
SplitToningBalance | 0 |
SplitToningHighlightHue | 0 |
SplitToningHighlightSaturation | 0 |
SplitToningShadowHue | 0 |
SplitToningShadowSaturation | 0 |
Tint | +2 |
ToneCurve | 0, 0, 255, 255 |
ToneCurveBlue | 0, 0, 255, 255 |
ToneCurveGreen | 0, 0, 255, 255 |
ToneCurveName | Linear |
ToneCurveName2012 | Linear |
ToneCurvePV2012 | 0, 0, 255, 255 |
ToneCurvePV2012Blue | 0, 0, 255, 255 |
ToneCurvePV2012Green | 0, 0, 255, 255 |
ToneCurvePV2012Red | 0, 0, 255, 255 |
ToneCurveRed | 0, 0, 255, 255 |
Version | 7.0 |
VignetteAmount | 0 |
WhiteBalance (1) | As Shot |
WhiteBalance | Manual |
Whites2012 | +32 |