Felt | Verdi |
AlreadyApplied | True |
Aperture | 5.6 |
ApertureValue | 5.6 |
ApproximateFocusDistance | 0.35 |
BitsPerSample | 8 |
BlueHue | 0 |
BlueSaturation | 0 |
Brightness | 0 |
CameraProfile | Embedded |
ChromaticAberrationB | 0 |
ChromaticAberrationR | 0 |
CircleOfConfusion | 0.021 mm |
Clarity | +45 |
ColorComponents | 1 |
ColorNoiseReduction | 0 |
Contrast (1) | 0 |
Contrast | Normal |
ConvertToGrayscale | False |
CreateDate (1) | 2012:01:29 09:34:02.32 |
CreateDate | 2012:01:29 09:34:02 |
CreatorTool | Adobe Photoshop Lightroom 3.5 (Windows) |
DateCreated (1) | 2012:01:29 |
DateCreated | 2012:01:29 09:34:02.32 |
DateTimeOriginal | 2012:01:29 09:34:02 |
Defringe | 0 |
DigitalZoomRatio | 1 |
DOF | 0.29 m (0.26 - 0.55 m) |
Exposure | 0.00 |
ExposureCompensation | +1 |
ExposureMode | Auto |
ExposureProgram | Aperture-priority AE |
ExposureTime | 1/60 |
FillLight | 51 |
Flash | No Flash |
FNumber | 5.6 |
FocalLength | 10.5 mm |
FocalLength35efl | 10.5 mm (35 mm equivalent: 15.0 mm) |
FocalLengthIn35mmFormat | 15 mm |
FOV | 100.4 deg |
GainControl | None |
GrainAmount | 0 |
GreenHue | 0 |
GreenSaturation | 0 |
HasCrop | False |
HasSettings | True |
HighlightRecovery | 0 |
HueAdjustmentAqua | 0 |
HueAdjustmentBlue | 0 |
HueAdjustmentGreen | 0 |
HueAdjustmentMagenta | 0 |
HueAdjustmentOrange | 0 |
HueAdjustmentPurple | 0 |
HueAdjustmentRed | 0 |
HueAdjustmentYellow | 0 |
HyperfocalDistance | 0.94 m |
ImageHeight | 950 |
ImageNumber | 11744 |
ImageSize | 631x950 |
ImageWidth | 631 |
IncrementalTemperature | 0 |
IncrementalTint | 0 |
ISO | 200 |
Lens | 10.5 mm f/2.8 |
LensID (1) | 128 |
LensID | Tokina atx-i 11-16mm F2.8 CF |
LensInfo | 10.5mm f/2.8 |
LensManualDistortionAmount | -1 |
LensModel | 10.5 mm f/2.8 |
LensProfileChromaticAberrationScale | 100 |
LensProfileDistortionScale | 100 |
LensProfileEnable | 0 |
LensProfileFilename | NIKON D90 (Nikon DX 10.5mm f2.8 G ED).lcp |
LensProfileName | Adobe (Nikon AF DX Fisheye-Nikkor 10.5mm f/2.8G ED) |
LensProfileSetup | LensDefaults |
LensProfileVignettingScale | 100 |
LightSource | Unknown |
LightValue | 9.9 |
LuminanceAdjustmentAqua | 0 |
LuminanceAdjustmentBlue | 0 |
LuminanceAdjustmentGreen | 0 |
LuminanceAdjustmentMagenta | 0 |
LuminanceAdjustmentOrange | 0 |
LuminanceAdjustmentPurple | 0 |
LuminanceAdjustmentRed | 0 |
LuminanceAdjustmentYellow | 0 |
LuminanceSmoothing | 0 |
Make | NIKON CORPORATION |
MaxApertureValue | 2.8 |
Megapixels | 0.599 |
MeteringMode | Multi-segment |
Model | NIKON D300 |
ModifyDate (1) | 2012:01:29 10:21:50+01:00 |
ModifyDate | 2012:01:29 10:21:50 |
PaintCorrectionActive | true |
PaintCorrectionAmount | 1.000000 |
PaintCorrectionBrightness (1) | 0.097560 |
PaintCorrectionBrightness (2) | 0.000000 |
PaintCorrectionBrightness | 0.073170 |
PaintCorrectionClarity (2) | 0.634150 |
PaintCorrectionClarity | 0.366000 |
PaintCorrectionContrast (2) | -1.000000 |
PaintCorrectionContrast | 0.243900 |
PaintCorrectionExposure (1) | 0.024500 |
PaintCorrectionExposure (2) | -0.024500 |
PaintCorrectionExposure | 0.219500 |
PaintCorrectionHue | 0.000000 |
PaintCorrectionMaskCenterWeight | 0.236112 |
PaintCorrectionMaskFlow | 1.000000 |
PaintCorrectionMaskRadius (2) | 0.033122 |
PaintCorrectionMaskRadius | 0.032631 |
PaintCorrectionMaskValue | 1.000000 |
PaintCorrectionMaskWhat | Mask/Paint |
PaintCorrectionSaturation (1) | 0.073000 |
PaintCorrectionSaturation | 0.000000 |
PaintCorrectionSharpness | 0.098000 |
PaintCorrectionWhat | Correction |
ParametricDarks | -7 |
ParametricHighlights | +5 |
ParametricHighlightSplit | 75 |
ParametricLights | 0 |
ParametricMidtoneSplit | 50 |
ParametricShadows | +39 |
ParametricShadowSplit | 25 |
PerspectiveHorizontal | 0 |
PerspectiveRotate | 0.0 |
PerspectiveScale | 101 |
PerspectiveVertical | 0 |
PostCropVignetteAmount | 0 |
ProcessVersion | 5.7 |
ProfileDescription | sRGB IEC61966-2.1 |
RedHue | 0 |
RedSaturation | 0 |
Saturation (1) | 0 |
Saturation | High |
SaturationAdjustmentAqua | 0 |
SaturationAdjustmentBlue | 0 |
SaturationAdjustmentGreen | 0 |
SaturationAdjustmentMagenta | 0 |
SaturationAdjustmentOrange | 0 |
SaturationAdjustmentPurple | 0 |
SaturationAdjustmentRed | 0 |
SaturationAdjustmentYellow | 0 |
ScaleFactor35efl | 1.4 |
SceneCaptureType | Standard |
SceneType | Directly photographed |
SensingMethod | One-chip color area |
SerialNumber | 4020049 |
Shadows | 10 |
ShadowTint | 0 |
SharpenDetail | 25 |
SharpenEdgeMasking | 0 |
SharpenRadius | +1.0 |
Sharpness (1) | 76 |
Sharpness | Hard |
ShutterSpeed | 1/60 |
ShutterSpeedValue | 1/60 |
Software | Adobe Photoshop Lightroom 3.5 (Windows) |
SplitToningBalance | 0 |
SplitToningHighlightHue | 0 |
SplitToningHighlightSaturation | 0 |
SplitToningShadowHue | 0 |
SplitToningShadowSaturation | 0 |
SubjectDistance | 0.35 m |
SubjectDistanceRange | Unknown |
ToneCurve | 0, 0, 255, 255 |
ToneCurveName | Linear |
Version | 6.5 |
Vibrance | 0 |
VignetteAmount | 0 |
WhiteBalance (1) | As Shot |
WhiteBalance | Auto |