Felt | Verdi |
AlreadyApplied | True |
Aperture | 5.3 |
ApertureValue | 5.3 |
ApproximateFocusDistance | 4294967295 |
BitsPerSample | 8 |
BlueHue | 0 |
BlueSaturation | 0 |
Brightness | -16 |
CameraProfile | Embedded |
CFAPattern | [Red,Green][Green,Blue] |
ChromaticAberrationB | 0 |
ChromaticAberrationR | 0 |
CircleOfConfusion | 0.020 mm |
Clarity | +17 |
ColorComponents | 3 |
ColorNoiseReduction | 0 |
Contrast (1) | +69 |
Contrast | Normal |
ConvertToGrayscale | False |
CreateDate (1) | 2011:07:11 07:46:17.60 |
CreateDate | 2011:07:11 07:46:17 |
CreatorTool | Adobe Photoshop Lightroom 3.5 (Windows) |
CropAngle | 0 |
CropBottom | 0.823152 |
CropConstrainToWarp | 0 |
CropHeight | 479 |
CropLeft | 0.001849 |
CropRight | 0.916821 |
CropTop | 0.061093 |
CropUnit | pixels |
CropWidth | 1000 |
CustomRendered | Normal |
DateCreated (1) | 2011:07:11 |
DateCreated | 2011:07:11 07:46:17.60 |
DateTimeOriginal | 2011:07:11 07:46:17 |
Defringe | 0 |
DigitalZoomRatio | 1 |
DOF | inf (455.90 m - inf) |
Exposure | +0.69 |
ExposureCompensation | -2 |
ExposureMode | Auto |
ExposureProgram | Aperture-priority AE |
ExposureTime | 1/2000 |
FillLight | 0 |
Flash | No Flash |
FNumber | 5.3 |
FocalLength | 220.0 mm |
FocalLength35efl | 220.0 mm (35 mm equivalent: 330.0 mm) |
FocalLengthIn35mmFormat | 330 mm |
FOV | 6.2 deg |
GainControl | None |
GrainAmount | 0 |
GreenHue | 0 |
GreenSaturation | 0 |
HasCrop | True |
HasSettings | True |
HighlightRecovery | 100 |
HueAdjustmentAqua | 0 |
HueAdjustmentBlue | -61 |
HueAdjustmentGreen | 0 |
HueAdjustmentMagenta | 0 |
HueAdjustmentOrange | +25 |
HueAdjustmentPurple | 0 |
HueAdjustmentRed | +43 |
HueAdjustmentYellow | -45 |
HyperfocalDistance | 455.90 m |
ImageHeight | 479 |
ImageNumber | 10457 |
ImageSize | 1000x479 |
ImageWidth | 1000 |
IncrementalTemperature | -40 |
IncrementalTint | 0 |
ISO | 100 |
Lens | 80.0-400.0 mm f/4.5-5.6 |
LensID (1) | 101 |
LensID | AF VR Zoom-Nikkor 80-400mm f/4.5-5.6D ED |
LensInfo | 80-400mm f/4.5-5.6 |
LensManualDistortionAmount | 0 |
LensModel | 80.0-400.0 mm f/4.5-5.6 |
LensProfileEnable | 0 |
LensProfileSetup | LensDefaults |
LightSource | Fine Weather |
LightValue | 15.8 |
LuminanceAdjustmentAqua | -91 |
LuminanceAdjustmentBlue | -34 |
LuminanceAdjustmentGreen | 0 |
LuminanceAdjustmentMagenta | 0 |
LuminanceAdjustmentOrange | 0 |
LuminanceAdjustmentPurple | 0 |
LuminanceAdjustmentRed | 0 |
LuminanceAdjustmentYellow | 0 |
LuminanceNoiseReductionContrast | 0 |
LuminanceNoiseReductionDetail | 50 |
LuminanceSmoothing | 77 |
Make | NIKON CORPORATION |
MaxApertureValue | 5.3 |
Megapixels | 0.479 |
MeteringMode | Spot |
Model | NIKON D300 |
ModifyDate (1) | 2012:01:01 16:35:30+01:00 |
ModifyDate | 2012:01:01 16:35:30 |
PaintCorrectionActive | true |
PaintCorrectionAmount | 1.000000 |
PaintCorrectionBrightness (1) | -0.098000 |
PaintCorrectionBrightness (3) | -0.024390 |
PaintCorrectionBrightness (4) | -0.097560 |
PaintCorrectionBrightness | -0.048780 |
PaintCorrectionClarity | 0.366000 |
PaintCorrectionContrast (1) | 0.366000 |
PaintCorrectionContrast | 0.561000 |
PaintCorrectionExposure (1) | -0.073000 |
PaintCorrectionExposure (4) | -0.048750 |
PaintCorrectionExposure | -0.024500 |
PaintCorrectionHue | 0.000000 |
PaintCorrectionMaskCenterWeight (1) | 0.215185 |
PaintCorrectionMaskCenterWeight | 0.076995 |
PaintCorrectionMaskFlow | 1.000000 |
PaintCorrectionMaskRadius (1) | 0.092054 |
PaintCorrectionMaskRadius (3) | 0.083567 |
PaintCorrectionMaskRadius (4) | 0.042150 |
PaintCorrectionMaskRadius (5) | 0.155556 |
PaintCorrectionMaskRadius | 0.067419 |
PaintCorrectionMaskValue | 1.000000 |
PaintCorrectionMaskWhat | Mask/Paint |
PaintCorrectionSaturation (3) | 0.073000 |
PaintCorrectionSaturation | 0.000000 |
PaintCorrectionSharpness | 0.098000 |
PaintCorrectionWhat | Correction |
ParametricDarks | +26 |
ParametricHighlights | +35 |
ParametricHighlightSplit | 75 |
ParametricLights | +54 |
ParametricMidtoneSplit | 50 |
ParametricShadows | +3 |
ParametricShadowSplit | 25 |
PerspectiveHorizontal | 0 |
PerspectiveRotate | 0.0 |
PerspectiveScale | 100 |
PerspectiveVertical | 0 |
PostCropVignetteAmount | 0 |
ProcessVersion | 5.7 |
ProfileDescription | sRGB IEC61966-2.1 |
RedHue | 0 |
RedSaturation | 0 |
Saturation (1) | 0 |
Saturation | High |
SaturationAdjustmentAqua | +48 |
SaturationAdjustmentBlue | +30 |
SaturationAdjustmentGreen | -57 |
SaturationAdjustmentMagenta | 0 |
SaturationAdjustmentOrange | 0 |
SaturationAdjustmentPurple | 0 |
SaturationAdjustmentRed | -16 |
SaturationAdjustmentYellow | 0 |
ScaleFactor35efl | 1.5 |
SceneCaptureType | Standard |
SceneType | Directly photographed |
SensingMethod | One-chip color area |
SerialNumber | 4020049 |
Shadows | 6 |
ShadowTint | 0 |
SharpenDetail | 25 |
SharpenEdgeMasking | 0 |
SharpenRadius | +1.0 |
Sharpness (1) | 59 |
Sharpness | Hard |
ShutterSpeed | 1/2000 |
ShutterSpeedValue | 1/2000 |
Software | Adobe Photoshop Lightroom 3.5 (Windows) |
SplitToningBalance | 0 |
SplitToningHighlightHue | 0 |
SplitToningHighlightSaturation | 0 |
SplitToningShadowHue | 0 |
SplitToningShadowSaturation | 0 |
SubjectDistance | 4294967295 m |
SubjectDistanceRange | Unknown |
ToneCurve | 0, 0, 255, 255 |
ToneCurveName | Linear |
Version | 6.5 |
Vibrance | 0 |
VignetteAmount | 0 |
WhiteBalance (1) | Custom |
WhiteBalance | Manual |