Felt | Verdi |
AlreadyApplied | True |
Aperture | 5.0 |
ApertureValue | 5.0 |
BitsPerSample | 8 |
BlueHue | 0 |
BlueSaturation | 0 |
Brightness | 0 |
CameraProfile | Embedded |
ChromaticAberrationB | 0 |
ChromaticAberrationR | 0 |
CircleOfConfusion | 0.031 mm |
Clarity | +10 |
ColorComponents | 1 |
ColorNoiseReduction | 0 |
Contrast | +15 |
ConvertToGrayscale | True |
CreateDate (1) | 2011:07:02 00:45:25.53 |
CreateDate | 2011:07:02 00:45:25 |
CreatorTool | Adobe Photoshop Lightroom 3.4.1 |
CropAngle | 0 |
CropBottom | 0.74359 |
CropConstrainToWarp | 0 |
CropHeight | 2757 |
CropLeft | 0.230769 |
CropRight | 0.807692 |
CropTop | 0.252747 |
CropUnit | pixels |
CropWidth | 2160 |
CustomRendered | Normal |
DateCreated (1) | 2011:07:02 |
DateCreated | 2011:07:02 00:45:25.53 |
DateTimeOriginal | 2011:07:02 00:45:25 |
Defringe | 0 |
Exposure | 0.00 |
ExposureCompensation | 0 |
ExposureMode | Auto |
ExposureProgram | Program AE |
ExposureTime | 1/125 |
FillLight | 0 |
Flash | Off, Did not fire |
FNumber | 5.0 |
FocalLength | 24.0 mm |
FocalLength35efl | 24.0 mm (35 mm equivalent: 23.4 mm) |
FOV | 75.1 deg |
GradientBasedCorrActive | true |
GradientBasedCorrAmount | 1.000000 |
GradientBasedCorrBrightness | -0.049000 |
GradientBasedCorrClarity | 0.537000 |
GradientBasedCorrContrast | 0.805000 |
GradientBasedCorrExposure (1) | -0.246000 |
GradientBasedCorrExposure (2) | -0.446000 |
GradientBasedCorrExposure | -0.646000 |
GradientBasedCorrHue | 0.000000 |
GradientBasedCorrMaskFullX (1) | 0.827911 |
GradientBasedCorrMaskFullX (2) | 0.820163 |
GradientBasedCorrMaskFullX | 0.265545 |
GradientBasedCorrMaskFullY (1) | 0.277918 |
GradientBasedCorrMaskFullY (2) | 0.705151 |
GradientBasedCorrMaskFullY | 0.719576 |
GradientBasedCorrMaskValue | 1.000000 |
GradientBasedCorrMaskWhat | Mask/Gradient |
GradientBasedCorrMaskZeroX (1) | 0.156632 |
GradientBasedCorrMaskZeroX (2) | 0.568316 |
GradientBasedCorrMaskZeroX | 0.550235 |
GradientBasedCorrMaskZeroY (1) | 0.490977 |
GradientBasedCorrMaskZeroY (2) | 0.458796 |
GradientBasedCorrMaskZeroY | 0.530535 |
GradientBasedCorrSaturation (3) | 0.366000 |
GradientBasedCorrSaturation | 0.000000 |
GradientBasedCorrSharpness | 1.000000 |
GradientBasedCorrWhat | Correction |
GrainAmount | 0 |
GrayMixerAqua | -10 |
GrayMixerBlue | +27 |
GrayMixerGreen | -31 |
GrayMixerMagenta | +6 |
GrayMixerOrange | -25 |
GrayMixerPurple | +27 |
GrayMixerRed | -15 |
GrayMixerYellow | -30 |
GreenHue | 0 |
GreenSaturation | 0 |
HasCrop | True |
HasSettings | True |
HighlightRecovery | 10 |
HyperfocalDistance | 3.74 m |
ImageHeight | 2757 |
ImageSize | 2160x2757 |
ImageWidth | 2160 |
IncrementalTemperature | +97 |
IncrementalTint | +31 |
ISO | 100 |
LensManualDistortionAmount | 0 |
LensProfileEnable | 0 |
LensProfileSetup | LensDefaults |
LightValue | 11.6 |
LuminanceNoiseReductionContrast | 0 |
LuminanceNoiseReductionDetail | 50 |
LuminanceSmoothing | 39 |
Make | Canon |
Megapixels | 6.0 |
MeteringMode | Partial |
Model | Canon EOS 5D Mark II |
ModifyDate (1) | 2011:09:05 00:55:22+02:00 |
ModifyDate | 2011:09:05 00:55:22 |
PaintCorrectionActive | true |
PaintCorrectionAmount | 1.000000 |
PaintCorrectionBrightness (1) | 0.196000 |
PaintCorrectionBrightness (2) | 0.166000 |
PaintCorrectionBrightness (3) | -0.034000 |
PaintCorrectionBrightness (4) | 0.710000 |
PaintCorrectionBrightness | -0.049000 |
PaintCorrectionClarity | 0.537000 |
PaintCorrectionContrast | 0.805000 |
PaintCorrectionExposure (1) | 0.800000 |
PaintCorrectionExposure (10) | 0.154000 |
PaintCorrectionExposure (3) | 0.754000 |
PaintCorrectionExposure (4) | 0.300000 |
PaintCorrectionExposure (5) | -0.346000 |
PaintCorrectionExposure (6) | -0.146000 |
PaintCorrectionExposure (7) | 0.454000 |
PaintCorrectionExposure (9) | 0.354000 |
PaintCorrectionExposure | 1.000000 |
PaintCorrectionHue | 0.000000 |
PaintCorrectionMaskCenterWeight (133) | 0.081674 |
PaintCorrectionMaskCenterWeight (144) | 0.236112 |
PaintCorrectionMaskCenterWeight (178) | 0.030865 |
PaintCorrectionMaskCenterWeight (95) | 0.000000 |
PaintCorrectionMaskCenterWeight | 0.247212 |
PaintCorrectionMaskFlow | 0.823000 |
PaintCorrectionMaskRadius (104) | 0.064602 |
PaintCorrectionMaskRadius (12) | 0.019943 |
PaintCorrectionMaskRadius (123) | 0.107044 |
PaintCorrectionMaskRadius (126) | 0.113478 |
PaintCorrectionMaskRadius (137) | 0.184737 |
PaintCorrectionMaskRadius (143) | 0.128099 |
PaintCorrectionMaskRadius (144) | 0.114972 |
PaintCorrectionMaskRadius (145) | 0.090118 |
PaintCorrectionMaskRadius (149) | 0.168278 |
PaintCorrectionMaskRadius (15) | 0.017487 |
PaintCorrectionMaskRadius (150) | 0.182904 |
PaintCorrectionMaskRadius (156) | 0.126622 |
PaintCorrectionMaskRadius (163) | 0.120004 |
PaintCorrectionMaskRadius (168) | 0.197900 |
PaintCorrectionMaskRadius (169) | 0.229002 |
PaintCorrectionMaskRadius (172) | 0.161104 |
PaintCorrectionMaskRadius (174) | 0.147034 |
PaintCorrectionMaskRadius (179) | 0.116842 |
PaintCorrectionMaskRadius (181) | 0.098776 |
PaintCorrectionMaskRadius (22) | 0.025076 |
PaintCorrectionMaskRadius (30) | 0.031833 |
PaintCorrectionMaskRadius (36) | 0.058909 |
PaintCorrectionMaskRadius (63) | 0.047801 |
PaintCorrectionMaskRadius (67) | 0.053309 |
PaintCorrectionMaskRadius (71) | 0.042386 |
PaintCorrectionMaskRadius (79) | 0.076265 |
PaintCorrectionMaskRadius (88) | 0.088299 |
PaintCorrectionMaskRadius (93) | 0.070387 |
PaintCorrectionMaskRadius (97) | 0.100703 |
PaintCorrectionMaskRadius | 0.048413 |
PaintCorrectionMaskValue | 0.488000 |
PaintCorrectionMaskWhat | Mask/Paint |
PaintCorrectionSaturation (3) | 0.366000 |
PaintCorrectionSaturation (5) | 0.346000 |
PaintCorrectionSaturation | 0.000000 |
PaintCorrectionSharpness | 1.000000 |
PaintCorrectionWhat | Correction |
ParametricDarks | 0 |
ParametricHighlights | 0 |
ParametricHighlightSplit | 75 |
ParametricLights | 0 |
ParametricMidtoneSplit | 50 |
ParametricShadows | 0 |
ParametricShadowSplit | 25 |
PerspectiveHorizontal | 0 |
PerspectiveRotate | 0.0 |
PerspectiveScale | 100 |
PerspectiveVertical | 0 |
PostCropVignetteAmount | 0 |
ProcessVersion | 5.7 |
ProfileDescription | sRGB IEC61966-2.1 |
RedHue | 0 |
RedSaturation | 0 |
ScaleFactor35efl | 1.0 |
SceneCaptureType | Standard |
Shadows | 5 |
ShadowTint | 0 |
SharpenDetail | 81 |
SharpenEdgeMasking | 78 |
SharpenRadius | +3.0 |
Sharpness | 149 |
ShutterSpeed | 1/125 |
ShutterSpeedValue | 1/125 |
Software | Adobe Photoshop Lightroom 3.4.1 |
SplitToningBalance | 0 |
SplitToningHighlightHue | 0 |
SplitToningHighlightSaturation | 0 |
SplitToningShadowHue | 0 |
SplitToningShadowSaturation | 0 |
ToneCurve | 0, 0, 255, 255 |
ToneCurveName | Linear |
Version | 6.4.1 |
VignetteAmount | 0 |
WhiteBalance (1) | Custom |
WhiteBalance | Auto |