Felt | Verdi |
AlreadyApplied | True |
Aperture | 8.0 |
ApertureValue | 8.0 |
BitsPerSample | 8 |
BlueHue | 0 |
BlueSaturation | 0 |
Brightness | +50 |
CameraProfile | ACR 4.4 |
ChromaticAberrationB | 0 |
ChromaticAberrationR | 0 |
CircleOfConfusion | 0.030 mm |
Clarity | 0 |
ColorComponents | 1 |
ColorNoiseReduction | 25 |
ColorTemperature | 5404 |
Contrast | +25 |
ConvertToGrayscale | True |
CreateDate (1) | 2011:04:24 17:16:15+02:00 |
CreateDate | 2011:04:24 17:16:15 |
CreatorTool | Adobe Photoshop Lightroom |
CropAngle | -1.9287 |
CropBottom | 0.909459 |
CropHeight | 1000 |
CropLeft | 0.255105 |
CropRight | 0.880274 |
CropTop | 0.032807 |
CropUnit | pixels |
CropWidth | 1000 |
CustomRendered | Normal |
DateTimeDigitized | 2011:04:24 17:16:15+02:00 |
DateTimeOriginal (1) | 2011:04:24 17:16:15+02:00 |
DateTimeOriginal | 2011:04:24 17:16:15 |
Defringe | 0 |
ExifImageHeight | 1000 |
ExifImageWidth | 1000 |
Exposure | 0.00 |
ExposureCompensation | 0 |
ExposureMode | Manual |
ExposureProgram | Manual |
ExposureTime | 1/100 |
FillLight | 0 |
Firmware | 1.1.0 |
Flash | Off, Did not fire |
FlashCompensation | 0 |
FlashFired | False |
FlashFunction | False |
FlashMode | Off |
FlashRedEyeMode | False |
FlashReturn | No return detection |
FNumber | 8.0 |
FocalLength | 24.0 mm |
FocalLength35efl | 24.0 mm (35 mm equivalent: 24.0 mm) |
FOV | 73.6 deg |
GradientBasedCorrActive | true |
GradientBasedCorrAmount | 1.000000 |
GradientBasedCorrBrightness (1) | -0.482353 |
GradientBasedCorrBrightness (2) | 0.317647 |
GradientBasedCorrBrightness (3) | -0.388235 |
GradientBasedCorrBrightness | -0.176471 |
GradientBasedCorrClarity (3) | 1.000000 |
GradientBasedCorrClarity | 0.011765 |
GradientBasedCorrContrast (2) | 1.000000 |
GradientBasedCorrContrast (3) | 0.011765 |
GradientBasedCorrContrast | 0.000000 |
GradientBasedCorrExposure (1) | 0.011765 |
GradientBasedCorrExposure (2) | -0.011765 |
GradientBasedCorrExposure | 0.000000 |
GradientBasedCorrHue | 7.000000 |
GradientBasedCorrMaskFullX (1) | 0.428576 |
GradientBasedCorrMaskFullX (2) | 0.501093 |
GradientBasedCorrMaskFullX (3) | 0.372953 |
GradientBasedCorrMaskFullX | 0.529623 |
GradientBasedCorrMaskFullY (1) | 0.033339 |
GradientBasedCorrMaskFullY (2) | 0.980595 |
GradientBasedCorrMaskFullY (3) | 0.023691 |
GradientBasedCorrMaskFullY | 0.975129 |
GradientBasedCorrMaskValue | 1.000000 |
GradientBasedCorrMaskWhat | Mask/Gradient |
GradientBasedCorrMaskZeroX (1) | 0.449754 |
GradientBasedCorrMaskZeroX (2) | 0.469220 |
GradientBasedCorrMaskZeroX (3) | 0.378493 |
GradientBasedCorrMaskZeroX | 0.528505 |
GradientBasedCorrMaskZeroY (1) | 0.729887 |
GradientBasedCorrMaskZeroY (2) | -0.130661 |
GradientBasedCorrMaskZeroY (3) | 0.270484 |
GradientBasedCorrMaskZeroY | 0.753935 |
GradientBasedCorrSaturation (3) | -0.035294 |
GradientBasedCorrSaturation (5) | -0.011765 |
GradientBasedCorrSaturation | 0.000000 |
GradientBasedCorrSharpness (2) | 0.811765 |
GradientBasedCorrSharpness | 0.000000 |
GradientBasedCorrWhat | Correction |
GrayMixerAqua | -19 |
GrayMixerBlue | +8 |
GrayMixerGreen | -26 |
GrayMixerMagenta | +4 |
GrayMixerOrange | -17 |
GrayMixerPurple | +14 |
GrayMixerRed | -9 |
GrayMixerYellow | -21 |
GreenHue | 0 |
GreenSaturation | 0 |
HasCrop | True |
HasSettings | True |
HighlightRecovery | 82 |
HyperfocalDistance | 2.40 m |
ImageHeight | 1000 |
ImageNumber | 12 |
ImageSize | 1000x1000 |
ImageWidth | 1000 |
ISO | 100 |
Lens | EF24-105mm f/4L IS USM |
LensInfo | 24-105mm f/? |
LightValue | 12.6 |
LuminanceSmoothing | 0 |
Make | Canon |
MaxApertureValue | 4.0 |
Megapixels | 1.0 |
MeteringMode | Multi-segment |
Model | Canon EOS 5D |
ModifyDate (1) | 2011:05:03 13:27:23+02:00 |
ModifyDate | 2011:05:03 13:27:23 |
ParametricDarks | -11 |
ParametricHighlights | -83 |
ParametricHighlightSplit | 75 |
ParametricLights | -2 |
ParametricMidtoneSplit | 50 |
ParametricShadows | -40 |
ParametricShadowSplit | 25 |
PostCropVignetteAmount | +2 |
PostCropVignetteFeather | 100 |
PostCropVignetteMidpoint | 50 |
PostCropVignetteRoundness | 0 |
ProfileDescription | Adobe RGB (1998) |
RedHue | 0 |
RedSaturation | 0 |
ScaleFactor35efl | 1.0 |
SceneCaptureType | Standard |
SerialNumber | 2721201972 |
Shadows | 5 |
ShadowTint | 0 |
SharpenDetail | 25 |
SharpenEdgeMasking | 0 |
SharpenRadius | +1.0 |
Sharpness | 25 |
ShutterSpeed | 1/100 |
ShutterSpeedValue | 1/100 |
SplitToningBalance | 0 |
SplitToningHighlightHue | 0 |
SplitToningHighlightSaturation | 0 |
SplitToningShadowHue | 0 |
SplitToningShadowSaturation | 0 |
Tint | -61 |
ToneCurve | 0, 0, 32, 22, 64, 56, 128, 128, 192, 196, 255, 255 |
ToneCurveName | Medium Contrast |
Version | 4.5 |
VignetteAmount | -6 |
VignetteMidpoint | 50 |
WhiteBalance (2) | Custom |
WhiteBalance | Auto |