Felt | Verdi |
AlreadyApplied | True |
Aperture | 3.5 |
ApertureValue | 3.5 |
BitsPerSample (1) | 16, 16, 16 |
BitsPerSample | 8 |
BlueHue | 0 |
BlueSaturation | 0 |
Brightness | +30 |
CameraProfile | Adobe Standard |
ChromaticAberrationB | 0 |
ChromaticAberrationR | 0 |
CircleOfConfusion | 0.006 mm |
Clarity | +70 |
ColorComponents | 1 |
ColorMode | RGB |
ColorNoiseReduction | 25 |
ColorSpace | Uncalibrated |
ColorTemperature | 6000 |
Contrast | +30 |
ConvertToGrayscale | True |
CreateDate (1) | 2008:11:01 17:09:19+01:00 |
CreateDate | 2008:11:01 17:09:19 |
CustomRendered | Normal |
DateTimeDigitized | 2008:11:01 17:09:19+01:00 |
DateTimeOriginal (1) | 2008:11:01 17:09:19+01:00 |
DateTimeOriginal | 2008:11:01 17:09:19 |
Defringe | 0 |
DigitalZoomRatio | 1 |
DOF | 0.77 m (2.53 - 3.30 m) |
ExifImageHeight | 1143 |
ExifImageWidth | 857 |
Exposure | 0.00 |
ExposureCompensation | 0 |
ExposureMode | Auto |
ExposureTime | 1/25 |
FillLight | 50 |
Firmware | 1.00 |
Flash | On, Fired |
FlashCompensation | 0 |
FlashFired | True |
FlashFunction | False |
FlashMode | On |
FlashRedEyeMode | False |
FlashReturn | No return detection |
FNumber | 3.5 |
FocalLength | 22.0 mm |
FocalLength35efl | 22.0 mm (35 mm equivalent: 102.7 mm) |
Format | image/jpeg |
FOV | 19.9 deg |
GrainAmount | 0 |
GrayMixerAqua | -79 |
GrayMixerBlue | -18 |
GrayMixerGreen | -39 |
GrayMixerMagenta | +11 |
GrayMixerOrange | -46 |
GrayMixerPurple | +34 |
GrayMixerRed | +73 |
GrayMixerYellow | -68 |
GreenHue | 0 |
GreenSaturation | 0 |
HasCrop | False |
HasSettings | True |
HighlightRecovery | 0 |
HyperfocalDistance | 21.46 m |
ICCProfileName | Adobe RGB (1998) |
ImageHeight (1) | 4000 |
ImageHeight | 1143 |
ImageSize | 857x1143 |
ImageWidth (1) | 3000 |
ImageWidth | 857 |
ISO | 100 |
Lens | 7.4-44.4 mm |
LensID (1) | 65535 |
LensID | Unknown 7-44mm |
LensInfo | 7.4-44.4mm f/? |
LightValue | 8.3 |
LuminanceSmoothing | 0 |
Make | Canon |
MaxApertureValue | 3.5 |
Megapixels | 0.980 |
MeteringMode | Center-weighted average |
Model | Canon PowerShot G9 |
ModifyDate (1) | 2011:01:27 20:36:06+01:00 |
ModifyDate | 2011:01:27 20:36:06 |
Orientation | Horizontal (normal) |
ParametricDarks | +4 |
ParametricHighlights | +59 |
ParametricHighlightSplit | 75 |
ParametricLights | +57 |
ParametricMidtoneSplit | 50 |
ParametricShadows | 0 |
ParametricShadowSplit | 25 |
PhotometricInterpretation | RGB |
PlanarConfiguration | Chunky |
PostCropVignetteAmount | 0 |
ProcessVersion | 5.0 |
ProfileDescription | Adobe RGB (1998) |
Rating | 0 |
RawFileName | IMG_2847.CR2 |
RedHue | 0 |
RedSaturation | 0 |
SamplesPerPixel | 3 |
ScaleFactor35efl | 4.7 |
SceneCaptureType | Standard |
SensingMethod | One-chip color area |
Shadows | 10 |
ShadowTint | 0 |
SharpenDetail | 70 |
SharpenEdgeMasking | 70 |
SharpenRadius | +1.0 |
Sharpness | 100 |
ShutterSpeed | 1/25 |
ShutterSpeedValue | 1/25 |
SidecarForExtension | CR2 |
Software | Adobe Photoshop CS4 Windows |
SplitToningBalance | 0 |
SplitToningHighlightHue | 0 |
SplitToningHighlightSaturation | 0 |
SplitToningShadowHue | 0 |
SplitToningShadowSaturation | 0 |
SubjectDistance | 2.86 m |
Tint | 0 |
ToneCurve | 0, 0, 32, 22, 64, 56, 128, 128, 192, 196, 255, 255 |
ToneCurveName | Medium Contrast |
URL_List | |
Version | 5.7 |
VignetteAmount | 0 |
WhiteBalance (2) | As Shot |
WhiteBalance | Auto |