Felt | Verdi |
AlreadyApplied | True |
Aperture | 4.5 |
ApertureValue | 4.5 |
Artist | Rolf Selvik |
BitsPerSample | 8 |
BlueHue | 0 |
BlueSaturation | 0 |
Brightness | +50 |
By-line | Rolf Selvik |
CameraProfile | Adobe Standard |
Caption-Abstract | Pattedyr, Hjort, bukk, brunst, høst, Furuskog |
ChromaticAberrationB | 0 |
ChromaticAberrationR | 0 |
CircleOfConfusion | 0.027 mm |
Clarity | +12 |
ColorComponents | 3 |
ColorNoiseReduction | 25 |
ColorNoiseReductionDetail | 50 |
ColorTemperature | 6368 |
Contrast | +25 |
ConvertToGrayscale | False |
Copyright | Rolf Selvik |
CopyrightNotice | Rolf Selvik |
CreateDate (1) | 2010:10:12 17:28:33.00+02:00 |
CreateDate | 2010:10:12 17:28:33 |
Creator | Rolf Selvik |
CreatorTool | Adobe Photoshop Lightroom |
CropAngle | 1.20573 |
CropBottom | 0.836035 |
CropConstrainToWarp | 0 |
CropHeight | 683 |
CropLeft | 0.181622 |
CropRight | 0.980698 |
CropTop | 0 |
CropUnit | pixels |
CropWidth | 1024 |
CustomRendered | Normal |
DateTimeDigitized | 2010:10:12 17:28:33.00+02:00 |
DateTimeOriginal (1) | 2010:10:12 17:28:33.00+02:00 |
DateTimeOriginal | 2010:10:12 17:28:33 |
Defringe | 0 |
Description | Pattedyr, Hjort, bukk, brunst, høst, Furuskog |
ExifImageHeight | 683 |
ExifImageWidth | 1024 |
Exposure | 0.00 |
ExposureCompensation | -1/3 |
ExposureMode | Auto |
ExposureProgram | Aperture-priority AE |
ExposureTime | 1/250 |
FillLight | 0 |
Firmware | 1.0.4 |
Flash | Off, Did not fire |
FlashCompensation | 0 |
FlashFired | False |
FlashFunction | False |
FlashMode | Off |
FlashRedEyeMode | False |
FlashReturn | No return detection |
FNumber | 4.5 |
FocalLength | 500.0 mm |
FocalLength35efl | 500.0 mm (35 mm equivalent: 554.1 mm) |
FOV | 3.7 deg |
GrainAmount | 0 |
GreenHue | 0 |
GreenSaturation | 0 |
HasCrop | True |
HasSettings | True |
HighlightRecovery | 0 |
HueAdjustmentAqua | 0 |
HueAdjustmentBlue | 0 |
HueAdjustmentGreen | 0 |
HueAdjustmentMagenta | 0 |
HueAdjustmentOrange | 0 |
HueAdjustmentPurple | 0 |
HueAdjustmentRed | 0 |
HueAdjustmentYellow | 0 |
HyperfocalDistance | 2048.92 m |
ImageDescription | Pattedyr, Hjort, bukk, brunst, host, Furuskog |
ImageHeight | 683 |
ImageNumber | 0 |
ImageSize | 1024x683 |
ImageWidth | 1024 |
ISO | 800 |
Lens | EF500mm f/4.5L USM |
LensID (1) | 141 |
LensID | Canon EF 500mm f/4.5L USM |
LensInfo | 500mm f/? |
LensManualDistortionAmount | 0 |
LensModel | EF500mm f/4.5L USM |
LensProfileEnable | 0 |
LensProfileSetup | LensDefaults |
LightValue | 9.3 |
LuminanceAdjustmentAqua | 0 |
LuminanceAdjustmentBlue | 0 |
LuminanceAdjustmentGreen | 0 |
LuminanceAdjustmentMagenta | 0 |
LuminanceAdjustmentOrange | 0 |
LuminanceAdjustmentPurple | 0 |
LuminanceAdjustmentRed | 0 |
LuminanceAdjustmentYellow | 0 |
LuminanceNoiseReductionContrast | 11 |
LuminanceNoiseReductionDetail | 20 |
LuminanceSmoothing | 32 |
Make | Canon |
MaxApertureValue | 4.6 |
Megapixels | 0.699 |
MeteringMode | Multi-segment |
Model | Canon EOS-1D Mark IV |
ModifyDate (1) | 2010:12:07 20:52:34+01:00 |
ModifyDate | 2010:12:07 20:52:34 |
ObjectName | Hjort, 10 takker |
ParametricDarks | -16 |
ParametricHighlights | 0 |
ParametricHighlightSplit | 75 |
ParametricLights | +37 |
ParametricMidtoneSplit | 50 |
ParametricShadows | 0 |
ParametricShadowSplit | 25 |
PerspectiveHorizontal | 0 |
PerspectiveRotate | 0.0 |
PerspectiveScale | 100 |
PerspectiveVertical | 0 |
PostCropVignetteAmount | 0 |
ProcessVersion | 5.7 |
ProfileDescription | sRGB IEC61966-2.1 |
RedHue | 0 |
RedSaturation | 0 |
Rights | Rolf Selvik |
Saturation | 0 |
SaturationAdjustmentAqua | 0 |
SaturationAdjustmentBlue | 0 |
SaturationAdjustmentGreen | 0 |
SaturationAdjustmentMagenta | 0 |
SaturationAdjustmentOrange | 0 |
SaturationAdjustmentPurple | 0 |
SaturationAdjustmentRed | 0 |
SaturationAdjustmentYellow | 0 |
ScaleFactor35efl | 1.1 |
SceneCaptureType | Standard |
SensitivityType | Unknown |
SerialNumber | 330200514 |
Shadows | 15 |
ShadowTint | 0 |
SharpenDetail | 25 |
SharpenEdgeMasking | 0 |
SharpenRadius | +1.0 |
Sharpness | 59 |
ShutterSpeed | 1/250 |
ShutterSpeedValue | 1/250 |
SplitToningBalance | 0 |
SplitToningHighlightHue | 0 |
SplitToningHighlightSaturation | 0 |
SplitToningShadowHue | 0 |
SplitToningShadowSaturation | 0 |
Tint | +16 |
Title | Hjort, 10 takker |
ToneCurve | 0, 0, 32, 22, 64, 56, 128, 128, 192, 196, 255, 255 |
ToneCurveName | Medium Contrast |
Version | 6.2 |
Vibrance | +21 |
VignetteAmount | 0 |
WhiteBalance (2) | Custom |
WhiteBalance | Auto |