Felt | Verdi |
AlreadyApplied | True |
Aperture | 2.8 |
ApertureValue | 2.8 |
BitsPerSample | 8 |
BlueHue | 0 |
BlueSaturation | 0 |
Brightness | +26 |
By-line | Jan Kuraas |
CameraProfile | Adobe Standard |
ChromaticAberrationB | 0 |
ChromaticAberrationR | 0 |
CircleOfConfusion | 0.019 mm |
Clarity | +98 |
ColorComponents | 1 |
ColorNoiseReduction | 25 |
ColorNoiseReductionDetail | 50 |
ColorTemperature | 8974 |
Contrast | +52 |
ConvertToGrayscale | True |
Copyright | Jan Kuraas |
CopyrightFlag | True |
CopyrightNotice | Jan Kuraas |
CreateDate (1) | 2010:03:03 18:11:07.09+01:00 |
CreateDate | 2010:03:03 18:11:07 |
Creator | Jan Kuraas |
CreatorCity | Bodoe |
CreatorCountry | Norway |
CreatorRegion | Nordland |
CreatorTool | Adobe Photoshop Lightroom |
CreatorWorkEmail | jankuraas@gmail.com |
CropAngle | 0 |
CropBottom | 0.898854 |
CropConstrainToWarp | 0 |
CropHeight | 853 |
CropLeft | 0.049618 |
CropRight | 0.889312 |
CropTop | 0.05916 |
CropUnit | pixels |
CropWidth | 1280 |
CustomRendered | Normal |
DateTimeDigitized | 2010:03:03 18:11:07.09+01:00 |
DateTimeOriginal (1) | 2010:03:03 18:11:07.09+01:00 |
DateTimeOriginal | 2010:03:03 18:11:07 |
Defringe | 0 |
ExifImageHeight | 853 |
ExifImageWidth | 1280 |
Exposure | 0.00 |
ExposureCompensation | 0 |
ExposureMode | Manual |
ExposureProgram | Manual |
ExposureTime | 2 |
FillLight | 0 |
Firmware | 1.0.7 |
Flash | Off, Did not fire |
FlashCompensation | 0 |
FlashFired | False |
FlashFunction | False |
FlashMode | Off |
FlashRedEyeMode | False |
FlashReturn | No return detection |
FNumber | 2.8 |
FocalLength | 50.0 mm |
FocalLength35efl | 50.0 mm (35 mm equivalent: 79.2 mm) |
FOV | 25.6 deg |
GrainAmount | 0 |
GrayMixerAqua | -17 |
GrayMixerBlue | +15 |
GrayMixerGreen | -28 |
GrayMixerMagenta | +5 |
GrayMixerOrange | -21 |
GrayMixerPurple | +20 |
GrayMixerRed | -11 |
GrayMixerYellow | -25 |
GreenHue | 0 |
GreenSaturation | 0 |
HasCrop | True |
HasSettings | True |
HighlightRecovery | 4 |
HyperfocalDistance | 47.09 m |
ImageHeight | 853 |
ImageNumber | 0 |
ImageSize | 1280x853 |
ImageWidth | 1280 |
ISO | 125 |
Keywords | Planke, Sjø |
Lens | EF50mm f/1.8 II |
LensID (1) | 29 |
LensID | Canon EF 50mm f/1.8 II |
LensInfo | 50mm f/? |
LensManualDistortionAmount | 0 |
LensProfileEnable | 0 |
LensProfileSetup | LensDefaults |
LightValue | 1.6 |
LuminanceSmoothing | 0 |
Make | Canon |
Marked | True |
MaxApertureValue | 1.8 |
Megapixels | 1.1 |
MeteringMode | Center-weighted average |
Model | Canon EOS 50D |
ModifyDate (1) | 2010:12:03 18:08:12+01:00 |
ModifyDate | 2010:12:03 18:08:12 |
PaintCorrectionActive | true |
PaintCorrectionAmount | 1.000000 |
PaintCorrectionBrightness | 0.000000 |
PaintCorrectionClarity (1) | 0.390000 |
PaintCorrectionClarity | 0.000000 |
PaintCorrectionContrast | 0.000000 |
PaintCorrectionExposure (1) | -0.805000 |
PaintCorrectionExposure | 0.683000 |
PaintCorrectionHue | 0.000000 |
PaintCorrectionMaskCenterWeight | 0.437858 |
PaintCorrectionMaskFlow (3) | 0.293000 |
PaintCorrectionMaskFlow | 0.399000 |
PaintCorrectionMaskRadius (1) | 0.040142 |
PaintCorrectionMaskRadius (2) | 0.008794 |
PaintCorrectionMaskRadius (4) | 0.025162 |
PaintCorrectionMaskRadius | 0.022312 |
PaintCorrectionMaskValue | 0.750000 |
PaintCorrectionMaskWhat | Mask/Paint |
PaintCorrectionSaturation | 0.000000 |
PaintCorrectionSharpness | 0.000000 |
PaintCorrectionWhat | Correction |
ParametricDarks | 0 |
ParametricHighlights | 0 |
ParametricHighlightSplit | 75 |
ParametricLights | 0 |
ParametricMidtoneSplit | 50 |
ParametricShadows | 0 |
ParametricShadowSplit | 25 |
PerspectiveHorizontal | 0 |
PerspectiveRotate | 0.0 |
PerspectiveScale | 100 |
PerspectiveVertical | 0 |
PostCropVignetteAmount | 0 |
ProcessVersion | 5.7 |
ProfileDescription | sRGB IEC61966-2.1 |
RedHue | 0 |
RedSaturation | 0 |
Rights | Jan Kuraas |
ScaleFactor35efl | 1.6 |
SceneCaptureType | Standard |
SerialNumber | 1530723103 |
Shadows | 8 |
ShadowTint | 0 |
SharpenDetail | 25 |
SharpenEdgeMasking | 0 |
SharpenRadius | +1.0 |
Sharpness | 25 |
ShutterSpeed | 2 |
ShutterSpeedValue | 2 |
SplitToningBalance | 0 |
SplitToningHighlightHue | 0 |
SplitToningHighlightSaturation | 0 |
SplitToningShadowHue | 0 |
SplitToningShadowSaturation | 0 |
Subject | Planke, Sjø |
Tint | +8 |
ToneCurve | 0, 0, 32, 22, 64, 56, 128, 128, 192, 196, 255, 255 |
ToneCurveName | Medium Contrast |
Version | 6.1 |
VignetteAmount | 0 |
WhiteBalance (2) | Custom |
WhiteBalance | Auto |