Felt | Verdi |
AlreadyApplied | True |
Aperture | 8.0 |
ApertureValue | 8.0 |
ApproximateFocusDistance | 4294967295 |
BitsPerSample | 8 |
BlueHue | 0 |
BlueSaturation | 0 |
Brightness | +50 |
By-line | Robin Strand |
CameraProfile | Camera Landscape |
Caption-Abstract | Høst ved Aurlandsfjorden |
CFAPattern | [Red,Green][Green,Blue] |
ChromaticAberrationB | 0 |
ChromaticAberrationR | 0 |
CircleOfConfusion | 0.030 mm |
Clarity | +45 |
ColorComponents | 3 |
ColorNoiseReduction | 25 |
ColorNoiseReductionDetail | 50 |
ColorTemperature | 5511 |
Contrast (2) | +25 |
Contrast | Normal |
ConvertToGrayscale | False |
Copyright | ROBIN STRAND / NORPHOTO AS |
CopyrightFlag | True |
CopyrightNotice | ROBIN STRAND / NORPHOTO AS |
Country | Norway |
Country-PrimaryLocationName | Norway |
CreateDate (1) | 2010:09:27 16:45:32.07+02:00 |
CreateDate | 2010:09:27 16:45:32 |
Creator | Robin Strand |
CreatorAddress | Porsveien 23 |
CreatorCity | Bergen |
CreatorCountry | Norway |
CreatorPostalCode | 5142 |
CreatorRegion | Fyllingsdalen |
CreatorTool | Adobe Photoshop Lightroom |
CreatorWorkEmail | robinstrand56@gmail.com |
CreatorWorkTelephone | 0047 90764724 |
CreatorWorkURL | www.norphoto.no and http://norphoto.smugmug.com |
CustomRendered | Normal |
DateTimeDigitized | 2010:09:27 16:45:32.07+02:00 |
DateTimeOriginal (1) | 2010:09:27 16:45:32.07+02:00 |
DateTimeOriginal | 2010:09:27 16:45:32 |
Defringe | 0 |
Description | Høst ved Aurlandsfjorden |
DigitalZoomRatio | 1 |
DOF | inf (8.05 m - inf) |
ExifImageHeight | 798 |
ExifImageWidth | 1200 |
Exposure | +0.51 |
ExposureCompensation | 0 |
ExposureMode | Auto |
ExposureProgram | Aperture-priority AE |
ExposureTime | 1/45 |
FillLight | 0 |
Flash | No Flash |
FlashFired | False |
FlashFunction | False |
FlashMode | Unknown |
FlashRedEyeMode | False |
FlashReturn | No return detection |
FNumber | 8.0 |
FocalLength | 44.0 mm |
FocalLength35efl | 44.0 mm (35 mm equivalent: 44.0 mm) |
FocalLengthIn35mmFormat | 44 mm |
FOV | 44.5 deg |
GainControl | Low gain up |
GradientBasedCorrActive | true |
GradientBasedCorrAmount | 1.000000 |
GradientBasedCorrBrightness | 0.000000 |
GradientBasedCorrClarity | 0.000000 |
GradientBasedCorrContrast | 0.000000 |
GradientBasedCorrExposure (1) | -0.303000 |
GradientBasedCorrExposure (2) | -0.213000 |
GradientBasedCorrExposure | -0.258000 |
GradientBasedCorrHue (1) | 15.000000 |
GradientBasedCorrHue | 0.000000 |
GradientBasedCorrMaskFullX (1) | 0.439576 |
GradientBasedCorrMaskFullX (2) | 0.470255 |
GradientBasedCorrMaskFullX | 0.006206 |
GradientBasedCorrMaskFullY (1) | 0.023696 |
GradientBasedCorrMaskFullY (2) | 0.990265 |
GradientBasedCorrMaskFullY | 0.064331 |
GradientBasedCorrMaskValue | 1.000000 |
GradientBasedCorrMaskWhat | Mask/Gradient |
GradientBasedCorrMaskZeroX (1) | 0.452971 |
GradientBasedCorrMaskZeroX (2) | 0.455911 |
GradientBasedCorrMaskZeroX | 0.140379 |
GradientBasedCorrMaskZeroY (1) | 0.408164 |
GradientBasedCorrMaskZeroY (2) | 0.741907 |
GradientBasedCorrMaskZeroY | 0.419679 |
GradientBasedCorrSaturation (1) | 0.000000 |
GradientBasedCorrSaturation (2) | 0.740000 |
GradientBasedCorrSaturation (3) | 0.393000 |
GradientBasedCorrSaturation (5) | 0.191000 |
GradientBasedCorrSaturation | 0.010000 |
GradientBasedCorrSharpness | 0.000000 |
GradientBasedCorrWhat | Correction |
GrainAmount | 0 |
GreenHue | 0 |
GreenSaturation | 0 |
HasCrop | False |
HasSettings | True |
HighlightRecovery | 4 |
HueAdjustmentAqua | 0 |
HueAdjustmentBlue | 0 |
HueAdjustmentGreen | 0 |
HueAdjustmentMagenta | 0 |
HueAdjustmentOrange | 0 |
HueAdjustmentPurple | 0 |
HueAdjustmentRed | 0 |
HueAdjustmentYellow | 0 |
HyperfocalDistance | 8.05 m |
ImageDescription | Host ved Aurlandsfjorden |
ImageHeight | 798 |
ImageNumber | 8719 |
ImageSize | 1200x798 |
ImageWidth | 1200 |
ISO | 400 |
Keywords | aurland, aurlandsfjorden, autumn, autumn colours, fall, fjellet, fjord, fjordbilder, hoest, hoestbilder, host, hostbilder, høst, høst i fjellet, høstbilder, høstfarger, mountain photos, norge, norway, sogn, sogn og fjordane, vestlandet, vestlandsfjord, western norway |
Lens | 24.0-70.0 mm f/2.8 |
LensID (1) | 147 |
LensID | AF-S Zoom-Nikkor 24-70mm f/2.8G ED |
LensInfo | 24-70mm f/2.8 |
LensManualDistortionAmount | 0 |
LensModel | 24.0-70.0 mm f/2.8 |
LensProfileChromaticAberrationScale | 100 |
LensProfileDistortionScale | 100 |
LensProfileEnable | 1 |
LensProfileFilename | NIKON D3X (Nikon FX 24-70mm f2.8 G ED) - RAW.lcp |
LensProfileName | Adobe (Nikon AF-S NIKKOR 24-70mm f/2.8G ED) |
LensProfileSetup | Auto |
LensProfileVignettingScale | 100 |
LightSource | Unknown |
LightValue | 9.5 |
LuminanceAdjustmentAqua | 0 |
LuminanceAdjustmentBlue | -37 |
LuminanceAdjustmentGreen | 0 |
LuminanceAdjustmentMagenta | 0 |
LuminanceAdjustmentOrange | 0 |
LuminanceAdjustmentPurple | 0 |
LuminanceAdjustmentRed | 0 |
LuminanceAdjustmentYellow | 0 |
LuminanceSmoothing | 0 |
Make | NIKON CORPORATION |
Marked | True |
MaxApertureValue | 2.8 |
Megapixels | 0.958 |
MeteringMode | Multi-segment |
Model | NIKON D700 |
ModifyDate (1) | 2010:10:03 23:45:46+02:00 |
ModifyDate | 2010:10:03 23:45:46 |
PaintCorrectionActive | true |
PaintCorrectionAmount | 1.000000 |
PaintCorrectionBrightness | 0.000000 |
PaintCorrectionClarity | 0.000000 |
PaintCorrectionContrast | 0.000000 |
PaintCorrectionExposure (2) | -0.101000 |
PaintCorrectionExposure | -0.258000 |
PaintCorrectionHue | 0.000000 |
PaintCorrectionMaskCenterWeight | 0.000000 |
PaintCorrectionMaskFlow (1) | 0.445000 |
PaintCorrectionMaskFlow | 0.347000 |
PaintCorrectionMaskRadius (1) | 0.086384 |
PaintCorrectionMaskRadius (2) | 0.087335 |
PaintCorrectionMaskRadius (3) | 0.085457 |
PaintCorrectionMaskRadius (4) | 0.087927 |
PaintCorrectionMaskRadius | 0.143920 |
PaintCorrectionMaskValue | 1.000000 |
PaintCorrectionMaskWhat | Mask/Paint |
PaintCorrectionSaturation (1) | 0.000000 |
PaintCorrectionSaturation (5) | 0.663000 |
PaintCorrectionSaturation | 0.010000 |
PaintCorrectionSharpness | 0.000000 |
PaintCorrectionWhat | Correction |
ParametricDarks | 0 |
ParametricHighlights | 0 |
ParametricHighlightSplit | 75 |
ParametricLights | 0 |
ParametricMidtoneSplit | 50 |
ParametricShadows | +16 |
ParametricShadowSplit | 25 |
PerspectiveHorizontal | 0 |
PerspectiveRotate | 0.0 |
PerspectiveScale | 100 |
PerspectiveVertical | 0 |
PostCropVignetteAmount | 0 |
ProcessVersion | 5.7 |
ProfileDescription | sRGB IEC61966-2.1 |
Rating | 5 |
RedHue | 0 |
RedSaturation | 0 |
Rights | ROBIN STRAND / NORPHOTO AS |
Saturation (2) | +2 |
Saturation | Normal |
SaturationAdjustmentAqua | 0 |
SaturationAdjustmentBlue | 0 |
SaturationAdjustmentGreen | 0 |
SaturationAdjustmentMagenta | 0 |
SaturationAdjustmentOrange | 0 |
SaturationAdjustmentPurple | 0 |
SaturationAdjustmentRed | 0 |
SaturationAdjustmentYellow | 0 |
ScaleFactor35efl | 1.0 |
SceneCaptureType | Standard |
SceneType | Directly photographed |
SensingMethod | One-chip color area |
SensitivityType | Unknown |
SerialNumber | 2121873 |
Shadows | 13 |
ShadowTint | 0 |
SharpenDetail | 38 |
SharpenEdgeMasking | 35 |
SharpenRadius | +0.8 |
Sharpness (2) | 26 |
Sharpness | Normal |
ShutterSpeed | 1/45 |
ShutterSpeedValue | 1/45 |
Software | Ver.1.02 |
SplitToningBalance | 0 |
SplitToningHighlightHue | 0 |
SplitToningHighlightSaturation | 0 |
SplitToningShadowHue | 0 |
SplitToningShadowSaturation | 0 |
Subject | aurland, aurlandsfjorden, autumn, autumn colours, fall, fjellet, fjord, fjordbilder, hoest, hoestbilder, host, hostbilder, høst, høst i fjellet, høstbilder, høstfarger, mountain photos, norge, norway, sogn, sogn og fjordane, vestlandet, vestlandsfjord, western norway |
SubjectDistance | 4294967295 m |
SubjectDistanceRange | Unknown |
Tint | 0 |
ToneCurve | 0, 0, 32, 16, 64, 50, 128, 128, 192, 202, 255, 255 |
ToneCurveName | Strong Contrast |
UsageTerms | Single time use unless otherwise stated |
Version | 6.2 |
Vibrance | +60 |
VignetteAmount | 0 |
WhiteBalance (2) | Custom |
WhiteBalance | Auto |