Felt | Verdi |
AlreadyApplied | True |
Aperture | 2.0 |
ApertureValue | 2.0 |
BitsPerSample | 8 |
BlueHue | 0 |
BlueSaturation | 0 |
Brightness | +50 |
By-line | Størker Moe |
CameraProfile | Camera Portrait |
CFAPattern | [Red,Green][Green,Blue] |
ChromaticAberrationB | 0 |
ChromaticAberrationR | 0 |
CircleOfConfusion | 0.020 mm |
City | Trondheim |
Clarity | 0 |
ColorComponents | 3 |
ColorNoiseReduction | 25 |
ColorTemperature | 4800 |
Contrast (2) | +25 |
Contrast | Normal |
ConvertToGrayscale | False |
Copyright | Storker Moe |
CopyrightNotice | Størker Moe |
Country | Norway |
Country-PrimaryLocationCode | NOR |
Country-PrimaryLocationName | Norway |
CountryCode | NOR |
CreateDate (1) | 2010:05:09 13:28:12+02:00 |
CreateDate | 2010:05:09 13:28:12 |
Creator | Størker Moe |
CreatorCountry | Norway |
CreatorTool | Adobe Photoshop Lightroom |
CropAngle | 6.7622 |
CropBottom | 0.6696 |
CropHeight | 800 |
CropLeft | 0.459432 |
CropRight | 0.640508 |
CropTop | 0.130564 |
CropUnit | pixels |
CropWidth | 531 |
CustomRendered | Normal |
DateTimeDigitized | 2010:05:09 13:28:12+02:00 |
DateTimeOriginal (1) | 2010:05:09 13:28:12+02:00 |
DateTimeOriginal | 2010:05:09 13:28:12 |
Defringe | 0 |
DigitalZoomRatio | 1 |
DOF | 0.007 m (0.836 - 0.844 m) |
ExifImageHeight | 800 |
ExifImageWidth | 531 |
Exposure | -0.40 |
ExposureCompensation | +2/3 |
ExposureMode | Auto |
ExposureProgram | Aperture-priority AE |
ExposureTime | 1/1600 |
FillLight | 0 |
Flash | No Flash |
FlashFired | False |
FlashFunction | False |
FlashMode | Unknown |
FlashRedEyeMode | False |
FlashReturn | No return detection |
FNumber | 2.0 |
FocalLength | 85.0 mm |
FocalLength35efl | 85.0 mm (35 mm equivalent: 127.0 mm) |
FocalLengthIn35mmFormat | 127 mm |
FOV | 16.1 deg |
GainControl | None |
GPSAltitude (1) | 170.290650406504 m |
GPSAltitude (2) | 170.2906504 m |
GPSAltitude | 170.2 m Above Sea Level |
GPSAltitudeRef | Above Sea Level |
GPSDateStamp | 2010:05:09 |
GPSDateTime | 2010:05:09 11:28:12Z |
GPSLatitude (1) | 63 deg 24' 15.37" N |
GPSLatitude | |
GPSLatitudeRef | North |
GPSLongitude (1) | 10 deg 28' 46.64" E |
GPSLongitude | |
GPSLongitudeRef | East |
GPSMapDatum | WGS-84 |
GPSTimeStamp | 11:28:12 |
GPSVersionID | 2.2.0.0 |
GreenHue | 0 |
GreenSaturation | 0 |
HasCrop | True |
HasSettings | True |
HighlightRecovery | 0 |
HueAdjustmentAqua | 0 |
HueAdjustmentBlue | 0 |
HueAdjustmentGreen | 0 |
HueAdjustmentMagenta | 0 |
HueAdjustmentOrange | 0 |
HueAdjustmentPurple | 0 |
HueAdjustmentRed | 0 |
HueAdjustmentYellow | 0 |
HyperfocalDistance | 179.64 m |
ImageHeight | 800 |
ImageNumber | 4935 |
ImageSize | 531x800 |
ImageWidth | 531 |
ISO | 200 |
Keywords | Friluft/Natur, Natur, Planter/blomster, Vår |
Lens | 85.0 mm f/1.4 |
LensID (1) | 74 |
LensID | AF Nikkor 85mm f/1.4D IF or Samyang AE 85mm f/1.4 AS IF UMC |
LensInfo | 85mm f/1.4 |
LightSource | Unknown |
LightValue | 11.6 |
Location | Stokkan |
LuminanceAdjustmentAqua | 0 |
LuminanceAdjustmentBlue | 0 |
LuminanceAdjustmentGreen | 0 |
LuminanceAdjustmentMagenta | 0 |
LuminanceAdjustmentOrange | 0 |
LuminanceAdjustmentPurple | 0 |
LuminanceAdjustmentRed | 0 |
LuminanceAdjustmentYellow | 0 |
LuminanceSmoothing | 0 |
Make | NIKON CORPORATION |
MaxApertureValue | 1.4 |
Megapixels | 0.425 |
MeteringMode | Multi-segment |
Model | NIKON D300 |
ModifyDate (1) | 2010:05:11 07:49:09+02:00 |
ModifyDate | 2010:05:11 07:49:09 |
PaintCorrectionActive | true |
PaintCorrectionAmount | 1.000000 |
PaintCorrectionBrightness | 0.000000 |
PaintCorrectionClarity | 0.000000 |
PaintCorrectionContrast | 0.000000 |
PaintCorrectionExposure (1) | -0.125000 |
PaintCorrectionExposure | 0.000000 |
PaintCorrectionHue | 0.000000 |
PaintCorrectionMaskCenterWeight | 0.000000 |
PaintCorrectionMaskFlow | 1.000000 |
PaintCorrectionMaskRadius (11) | 0.049725 |
PaintCorrectionMaskRadius (4) | 0.068644 |
PaintCorrectionMaskRadius (7) | 0.016091 |
PaintCorrectionMaskRadius | 0.084788 |
PaintCorrectionMaskValue (7) | 0.000000 |
PaintCorrectionMaskValue | 0.500000 |
PaintCorrectionMaskWhat | Mask/Paint |
PaintCorrectionSaturation (3) | -0.600000 |
PaintCorrectionSaturation | 0.000000 |
PaintCorrectionSharpness | 0.000000 |
PaintCorrectionWhat | Correction |
ParametricDarks | 0 |
ParametricHighlights | 0 |
ParametricHighlightSplit | 75 |
ParametricLights | 0 |
ParametricMidtoneSplit | 50 |
ParametricShadows | 0 |
ParametricShadowSplit | 25 |
PostCropVignetteAmount | +69 |
PostCropVignetteFeather | 100 |
PostCropVignetteMidpoint | 50 |
PostCropVignetteRoundness | +20 |
ProfileDescription | sRGB IEC61966-2.1 |
Province-State | Sør-Trøndelag |
RedHue | 0 |
RedSaturation | 0 |
Rights | Størker Moe |
Saturation (2) | -10 |
Saturation | Normal |
SaturationAdjustmentAqua | +7 |
SaturationAdjustmentBlue | -14 |
SaturationAdjustmentGreen | +31 |
SaturationAdjustmentMagenta | -38 |
SaturationAdjustmentOrange | +2 |
SaturationAdjustmentPurple | -26 |
SaturationAdjustmentRed | -17 |
SaturationAdjustmentYellow | +17 |
ScaleFactor35efl | 1.5 |
SceneCaptureType | Standard |
SceneType | Directly photographed |
SensingMethod | One-chip color area |
SerialNumber | 4123049 |
Shadows | 5 |
ShadowTint | 0 |
SharpenDetail | 50 |
SharpenEdgeMasking | 42 |
SharpenRadius | +0.5 |
Sharpness (2) | 50 |
Sharpness | Normal |
ShutterSpeed | 1/1600 |
ShutterSpeedValue | 1/1600 |
Software | Ver.1.10 |
SplitToningBalance | 0 |
SplitToningHighlightHue | 0 |
SplitToningHighlightSaturation | 0 |
SplitToningShadowHue | 0 |
SplitToningShadowSaturation | 0 |
State | Sør-Trøndelag |
Sub-location | Stokkan |
Subject | Friluft/Natur, Natur, Planter/blomster, Vår |
SubjectDistance | 0.84 m |
SubjectDistanceRange | Unknown |
Tint | 0 |
ToneCurve | 0, 0, 32, 22, 64, 56, 128, 128, 192, 196, 255, 255 |
ToneCurveName | Medium Contrast |
Version | 5.7 |
Vibrance | 0 |
VignetteAmount | 0 |
WhiteBalance (2) | Custom |
WhiteBalance | Auto |