Felt | Verdi |
AlreadyApplied | True |
Aperture | 5.6 |
ApertureValue | 5.6 |
BitsPerSample | 8 |
BlueHue | 0 |
BlueSaturation | 0 |
Brightness | +150 |
CameraProfile | Embedded |
ChromaticAberrationB | 0 |
ChromaticAberrationR | 0 |
CircleOfConfusion | 0.031 mm |
ColorComponents | 3 |
ColorMode | RGB |
ColorNoiseReduction | 25 |
ColorSpace (1) | Unknown (-1) |
ColorSpace | Uncalibrated |
ColorTemperature | 5350 |
Contrast | +33 |
ConvertToGrayscale | False |
CopyrightFlag | False |
CreateDate (1) | 2010:05:02 21:38:21+02:00 |
CreateDate | 2010:05:02 12:54:08 |
CreatorTool | Adobe Photoshop CS3 Macintosh |
CustomRendered | Normal |
DateTimeDigitized | 2010:05:02 12:54:08.19+02:00 |
DateTimeOriginal (1) | 2010:05:02 12:54:08.19+02:00 |
DateTimeOriginal | 2010:05:02 12:54:08 |
ExifImageHeight | 737 |
ExifImageWidth | 1000 |
Exposure | -1.55 |
ExposureCompensation | 0 |
ExposureMode | Auto |
ExposureProgram | Program AE |
ExposureTime | 1/250 |
FillLight | 0 |
Firmware | 1.0.7 |
Flash | Off, Did not fire |
FlashCompensation | 0 |
FlashFired | False |
FlashFunction | False |
FlashMode | Off |
FlashRedEyeMode | False |
FlashReturn | No return detection |
FNumber | 5.6 |
FocalLength | 300.0 mm |
FocalLength35efl | 300.0 mm (35 mm equivalent: 292.8 mm) |
Format | image/jpeg |
FOV | 7.0 deg |
GreenHue | 0 |
GreenSaturation | 0 |
HasCrop | False |
HasSettings | True |
HighlightRecovery | 26 |
HueAdjustmentAqua | 0 |
HueAdjustmentBlue | 0 |
HueAdjustmentGreen | 0 |
HueAdjustmentMagenta | 0 |
HueAdjustmentOrange | 0 |
HueAdjustmentPurple | 0 |
HueAdjustmentRed | 0 |
HueAdjustmentYellow | 0 |
HyperfocalDistance | 522.02 m |
ICCProfileName | Adobe RGB (1998) |
ImageHeight | 737 |
ImageNumber | 0 |
ImageSize | 1000x737 |
ImageWidth | 1000 |
ISO | 100 |
Lens | EF75-300mm f/4-5.6 |
LensInfo | 75-300mm f/? |
LightValue | 12.9 |
LuminanceAdjustmentAqua | 0 |
LuminanceAdjustmentBlue | 0 |
LuminanceAdjustmentGreen | 0 |
LuminanceAdjustmentMagenta | 0 |
LuminanceAdjustmentOrange | 0 |
LuminanceAdjustmentPurple | 0 |
LuminanceAdjustmentRed | 0 |
LuminanceAdjustmentYellow | 0 |
LuminanceSmoothing | 0 |
Make | Canon |
MaxApertureValue | 5.7 |
Megapixels | 0.737 |
MeteringMode | Multi-segment |
Model | Canon EOS 5D Mark II |
ModifyDate (1) | 2010:05:02 21:38:21+02:00 |
ModifyDate | 2010:05:02 21:38:21 |
Orientation | Horizontal (normal) |
ParametricDarks | -7 |
ParametricHighlights | -24 |
ParametricHighlightSplit | 75 |
ParametricLights | +10 |
ParametricMidtoneSplit | 50 |
ParametricShadows | +5 |
ParametricShadowSplit | 25 |
ProfileDescription | Adobe RGB (1998) |
Rating | 0 |
RawFileName | IMG_6140.dng |
RedHue | 0 |
RedSaturation | 0 |
Saturation | 0 |
SaturationAdjustmentAqua | 0 |
SaturationAdjustmentBlue | 0 |
SaturationAdjustmentGreen | 0 |
SaturationAdjustmentMagenta | 0 |
SaturationAdjustmentOrange | 0 |
SaturationAdjustmentPurple | 0 |
SaturationAdjustmentRed | 0 |
SaturationAdjustmentYellow | 0 |
ScaleFactor35efl | 1.0 |
SceneCaptureType | Standard |
SerialNumber | 720303411 |
Shadows | 5 |
ShadowTint | 0 |
Sharpness | 68 |
ShutterSpeed | 1/250 |
ShutterSpeedValue | 1/250 |
Software | Adobe Photoshop CS3 Macintosh |
SplitToningBalance | 0 |
SplitToningHighlightHue | 0 |
SplitToningHighlightSaturation | 0 |
SplitToningShadowHue | 0 |
SplitToningShadowSaturation | 0 |
TimeZoneOffset | 2 2 |
Tint | +3 |
ToneCurve | 0, 0, 32, 22, 64, 56, 128, 128, 192, 196, 255, 255 |
ToneCurveName | Medium Contrast |
URL_List | |
Version | 4.0 |
Vibrance | 0 |
VignetteAmount | -69 |
VignetteMidpoint | 50 |
WhiteBalance (2) | As Shot |
WhiteBalance | Auto |