Felt | Verdi |
AlreadyApplied | True |
Aperture | 8.0 |
ApertureValue | 8.0 |
BitsPerSample | 8 |
BlueHue | 0 |
BlueSaturation | 0 |
Brightness | +50 |
CameraProfile | Adobe Standard |
CFAPattern | [Green,Blue][Red,Green] |
ChromaticAberrationB | 0 |
ChromaticAberrationR | 0 |
CircleOfConfusion | 0.020 mm |
Clarity | +100 |
ColorComponents | 3 |
ColorMode | RGB |
ColorNoiseReduction | 25 |
ColorSpace | Uncalibrated |
ColorTemperature | 5800 |
Contrast (2) | +38 |
Contrast | Normal |
ConvertToGrayscale | False |
CopyrightFlag | True |
CreateDate (1) | 2009:09:06 14:04:27.00+02:00 |
CreateDate | 2009:09:06 14:04:27 |
CreatorTool | Nikon Transfer 1.4 W |
CustomRendered | Normal |
DateTimeDigitized | 2009:09:06 14:04:27.00+02:00 |
DateTimeOriginal (1) | 2009:09:06 14:04:27.00+02:00 |
DateTimeOriginal | 2009:09:06 14:04:27 |
Defringe | 0 |
DigitalZoomRatio | 1 |
ExifImageHeight | 1275 |
ExifImageWidth | 1920 |
Exposure | 0.00 |
ExposureCompensation | 0 |
ExposureMode | Auto |
ExposureProgram | Not Defined |
ExposureTime | 1/60 |
FillLight | 0 |
Flash | Auto, Did not fire |
FlashFired | False |
FlashFunction | False |
FlashMode | Auto |
FlashRedEyeMode | False |
FlashReturn | No return detection |
FNumber | 8.0 |
FocalLength | 18.0 mm |
FocalLength35efl | 18.0 mm (35 mm equivalent: 27.0 mm) |
FocalLengthIn35mmFormat | 27 mm |
Format | image/jpeg |
FOV | 67.4 deg |
GainControl | None |
GreenHue | 0 |
GreenSaturation | 0 |
HasCrop | False |
HasSettings | True |
HighlightRecovery | 100 |
HueAdjustmentAqua | 0 |
HueAdjustmentBlue | 0 |
HueAdjustmentGreen | 0 |
HueAdjustmentMagenta | 0 |
HueAdjustmentOrange | 0 |
HueAdjustmentPurple | 0 |
HueAdjustmentRed | 0 |
HueAdjustmentYellow | 0 |
HyperfocalDistance | 2.02 m |
ICCProfileName | Adobe RGB (1998) |
ImageHeight | 1275 |
ImageNumber | 1354 |
ImageSize | 1920x1275 |
ImageWidth | 1920 |
ISO | 360 |
Lens | 18.0-55.0 mm f/3.5-5.6 |
LensInfo | 18-55mm f/3.5-5.6 |
LightSource | Unknown |
LightValue | 10.1 |
LuminanceAdjustmentAqua | 0 |
LuminanceAdjustmentBlue | 0 |
LuminanceAdjustmentGreen | 0 |
LuminanceAdjustmentMagenta | 0 |
LuminanceAdjustmentOrange | 0 |
LuminanceAdjustmentPurple | 0 |
LuminanceAdjustmentRed | 0 |
LuminanceAdjustmentYellow | 0 |
LuminanceSmoothing | 0 |
Make | NIKON CORPORATION |
Marked | True |
MaxApertureValue | 3.5 |
Megapixels | 2.4 |
MeteringMode | Multi-segment |
Model | NIKON D5000 |
ModifyDate (1) | 2009:09:26 18:50:09+02:00 |
ModifyDate | 2009:09:26 18:50:09 |
Orientation | Horizontal (normal) |
ParametricDarks | 0 |
ParametricHighlights | +20 |
ParametricHighlightSplit | 75 |
ParametricLights | +5 |
ParametricMidtoneSplit | 50 |
ParametricShadows | -20 |
ParametricShadowSplit | 25 |
PostCropVignetteAmount | -100 |
PostCropVignetteFeather | 15 |
PostCropVignetteMidpoint | 0 |
PostCropVignetteRoundness | -100 |
ProfileDescription | Adobe RGB (1998) |
Rating | 0 |
RatingPercent | 0 |
RawFileName | _DSC0206.NEF |
RedHue | 0 |
RedSaturation | 0 |
Saturation (2) | +65 |
Saturation | Normal |
SaturationAdjustmentAqua | 0 |
SaturationAdjustmentBlue | 0 |
SaturationAdjustmentGreen | 0 |
SaturationAdjustmentMagenta | 0 |
SaturationAdjustmentOrange | 0 |
SaturationAdjustmentPurple | 0 |
SaturationAdjustmentRed | 0 |
SaturationAdjustmentYellow | 0 |
ScaleFactor35efl | 1.5 |
SceneCaptureType | Landscape |
SceneType | Directly photographed |
SensingMethod | One-chip color area |
SerialNumber | 6026750 |
Shadows | 15 |
ShadowTint | 0 |
SharpenDetail | 25 |
SharpenEdgeMasking | 0 |
SharpenRadius | +1.0 |
Sharpness (2) | 25 |
Sharpness | Normal |
ShutterSpeed | 1/60 |
ShutterSpeedValue | 1/60 |
SidecarForExtension | NEF |
Software | Adobe Photoshop CS4 Windows |
SplitToningBalance | 0 |
SplitToningHighlightHue | 0 |
SplitToningHighlightSaturation | 0 |
SplitToningShadowHue | 245 |
SplitToningShadowSaturation | 0 |
SubjectDistanceRange | Unknown |
Tint | +14 |
ToneCurve | 0, 0, 32, 22, 64, 56, 128, 128, 192, 196, 255, 255 |
ToneCurveName | Medium Contrast |
URL | http://www.digimarc.com/cgi-bin/ci.pl?4+10101+0+2009+5 |
URL_List | |
Version | 5.4 |
Vibrance | +33 |
VignetteAmount | 0 |
WebStatement | http://www.digimarc.com/cgi-bin/ci.pl?4+10101+0+2009+5 |
WhiteBalance (2) | Custom |
WhiteBalance | Auto |