Felt | Verdi |
AlreadyApplied | True |
Aperture | 2.2 |
ApertureValue | 2.2 |
Artist | Christian Yri |
BitsPerSample | 8 |
BlueHue | 0 |
BlueSaturation | 0 |
Brightness | +79 |
By-line | Christian Yri |
CameraProfile | ACR 3.3 |
Caption-Abstract | ' macaque monkey, Hat Phra Nang, Krabi, Thailand ' |
CFAPattern | [Green,Red][Blue,Green] |
ChromaticAberrationB | 0 |
ChromaticAberrationR | 0 |
CircleOfConfusion | 0.020 mm |
Clarity | 0 |
ColorComponents | 3 |
ColorNoiseReduction | 25 |
ColorTemperature | 4750 |
Contrast (2) | +60 |
Contrast | Normal |
ConvertToGrayscale | False |
Copyright | Christian Yri |
CopyrightFlag | True |
CopyrightNotice | Christian Yri |
CreateDate (1) | 2008:02:29 09:18:03.49+01:00 |
CreateDate | 2008:02:29 09:18:03 |
Creator | Christian Yri |
CreatorAddress | Oskar Braatensg. 4 A |
CreatorCity | Oslo |
CreatorCountry | Norway |
CreatorPostalCode | 0474 |
CreatorRegion | Oslo |
CreatorTool | Adobe Photoshop Lightroom |
CreatorWorkEmail | cy@silvercorn.com |
CreatorWorkTelephone | +47 930 17 863 |
CreatorWorkURL | www.silvercorn.com |
CustomRendered | Normal |
DateTimeDigitized | 2008:02:29 09:18:03.49+01:00 |
DateTimeOriginal (1) | 2008:02:29 09:18:03.49+01:00 |
DateTimeOriginal | 2008:02:29 09:18:03 |
Defringe | 0 |
Description | ' macaque monkey, Hat Phra Nang, Krabi, Thailand ' |
DigitalZoomRatio | 1 |
ExifImageHeight | 669 |
ExifImageWidth | 1000 |
Exposure | +0.38 |
ExposureCompensation | 0 |
ExposureMode | Auto |
ExposureProgram | Aperture-priority AE |
ExposureTime | 1/750 |
FillLight | 0 |
Flash | No Flash |
FlashFired | False |
FlashFunction | False |
FlashMode | Unknown |
FlashRedEyeMode | False |
FlashReturn | No return detection |
FNumber | 2.2 |
FocalLength | 20.0 mm |
FocalLength35efl | 20.0 mm (35 mm equivalent: 30.0 mm) |
FocalLengthIn35mmFormat | 30 mm |
FOV | 61.9 deg |
GainControl | None |
GreenHue | 0 |
GreenSaturation | 0 |
HasCrop | False |
HasSettings | True |
HighlightRecovery | 0 |
HueAdjustmentAqua | 0 |
HueAdjustmentBlue | 0 |
HueAdjustmentGreen | 0 |
HueAdjustmentMagenta | 0 |
HueAdjustmentOrange | 0 |
HueAdjustmentPurple | 0 |
HueAdjustmentRed | 0 |
HueAdjustmentYellow | 0 |
HyperfocalDistance | 9.08 m |
ImageDescription | ' macaque monkey, Hat Phra Nang, Krabi, Thailand ' |
ImageHeight | 669 |
ImageNumber | 21698 |
ImageSize | 1000x669 |
ImageWidth | 1000 |
ISO | 100 |
Label | Purple |
Lens | 20.0 mm f/1.8 |
LensInfo | 20mm f/1.8 |
LightSource | Unknown |
LightValue | 11.8 |
Location | Thailand |
LuminanceAdjustmentAqua | 0 |
LuminanceAdjustmentBlue | 0 |
LuminanceAdjustmentGreen | 0 |
LuminanceAdjustmentMagenta | 0 |
LuminanceAdjustmentOrange | 0 |
LuminanceAdjustmentPurple | 0 |
LuminanceAdjustmentRed | 0 |
LuminanceAdjustmentYellow | 0 |
LuminanceSmoothing | 0 |
Make | NIKON CORPORATION |
Marked | True |
MaxApertureValue | 1.7 |
Megapixels | 0.669 |
MeteringMode | Multi-segment |
Model | NIKON D200 |
ModifyDate (1) | 2009:02:21 17:56:28+01:00 |
ModifyDate | 2009:02:21 17:56:28 |
ObjectName | Yeah? |
ParametricDarks | 0 |
ParametricHighlights | 0 |
ParametricHighlightSplit | 75 |
ParametricLights | 0 |
ParametricMidtoneSplit | 50 |
ParametricShadows | 0 |
ParametricShadowSplit | 25 |
PostCropVignetteAmount | 0 |
ProfileDescription | sRGB IEC61966-2.1 |
Rating | 5 |
RedHue | 0 |
RedSaturation | 0 |
Rights | Christian Yri |
Saturation (2) | 0 |
Saturation | Normal |
SaturationAdjustmentAqua | 0 |
SaturationAdjustmentBlue | 0 |
SaturationAdjustmentGreen | 0 |
SaturationAdjustmentMagenta | 0 |
SaturationAdjustmentOrange | -29 |
SaturationAdjustmentPurple | 0 |
SaturationAdjustmentRed | 0 |
SaturationAdjustmentYellow | -81 |
ScaleFactor35efl | 1.5 |
SceneCaptureType | Standard |
SceneType | Directly photographed |
SensingMethod | One-chip color area |
Shadows | 5 |
ShadowTint | 0 |
SharpenDetail | 25 |
SharpenEdgeMasking | 0 |
SharpenRadius | +1.0 |
Sharpness (2) | 25 |
Sharpness | Normal |
ShutterSpeed | 1/750 |
ShutterSpeedValue | 1/750 |
Software | Ver.2.00 |
SplitToningBalance | 0 |
SplitToningHighlightHue | 0 |
SplitToningHighlightSaturation | 0 |
SplitToningShadowHue | 0 |
SplitToningShadowSaturation | 0 |
Sub-location | Thailand |
SubjectDistanceRange | Unknown |
Tint | -5 |
Title | Yeah? |
ToneCurve | 0, 0, 32, 22, 64, 56, 128, 128, 192, 196, 255, 255 |
ToneCurveName | Medium Contrast |
UsageTerms | All rights reserved |
UserComment | (c)christian.yri@silvercorn.com |
Version | 5.2 |
Vibrance | 0 |
VignetteAmount | 0 |
WhiteBalance (2) | As Shot |
WhiteBalance | Auto |