Felt | Verdi |
AlreadyApplied | True |
Aperture | 5.6 |
ApertureValue | 5.6 |
BitsPerSample | 8 |
BlueHue | 0 |
BlueSaturation | 0 |
Brightness | +50 |
CameraProfile | ACR 3.7 |
CFAPattern | [Blue,Green][Green,Red] |
CFAPatternColumns | 2 |
CFAPatternRows | 2 |
CFAPatternValues | 2, 1, 1, 0 |
ChromaticAberrationB | 0 |
ChromaticAberrationR | 0 |
CircleOfConfusion | 0.020 mm |
Clarity | 0 |
ColorComponents | 1 |
ColorMode | RGB |
ColorSpace | sRGB |
ColorTemperature | 4588 |
Contrast (2) | +25 |
Contrast | Normal |
ConvertToGrayscale | True |
CopyrightFlag | False |
CreateDate (1) | 2008:05:29 19:03:30+02:00 |
CreateDate | 2008:05:26 19:38:52 |
CreatorTool | Adobe Photoshop Elements 5.0 (20060914.r.77) Windows |
CropAngle | 0 |
CropBottom | 0.980529 |
CropHeight | 1857 |
CropLeft | 0.028786 |
CropRight | 0.957486 |
CropTop | 0.051829 |
CropUnit | pixels |
CropWidth | 2794 |
CustomRendered | Custom |
DateTimeDigitized | 2008:05:26 19:38:52.00+02:00 |
DateTimeOriginal (1) | 2008:05:26 19:38:52.00+02:00 |
DateTimeOriginal | 2008:05:26 19:38:52 |
Defringe | 0 |
DigitalZoomRatio | 1 |
ExifImageHeight | 731 |
ExifImageWidth | 1100 |
Exposure | 0.00 |
ExposureCompensation | -2/3 |
ExposureMode | Auto |
ExposureProgram | Shutter speed priority AE |
ExposureTime | 1/640 |
FillLight | 0 |
Flash | No Flash |
FlashFired | False |
FlashFunction | False |
FlashMode | Unknown |
FlashRedEyeMode | False |
FlashReturn | No return detection |
FNumber | 5.6 |
FocalLength | 48.0 mm |
FocalLength35efl | 48.0 mm (35 mm equivalent: 72.0 mm) |
FocalLengthIn35mmFormat | 72 mm |
Format | image/jpeg |
FOV | 28.1 deg |
GainControl | None |
GrayMixerAqua | -95 |
GrayMixerBlue | +55 |
GrayMixerGreen | -91 |
GrayMixerMagenta | -100 |
GrayMixerOrange | -22 |
GrayMixerPurple | -11 |
GrayMixerRed | -8 |
GrayMixerYellow | +1 |
GreenHue | 0 |
GreenSaturation | 0 |
HasCrop | True |
HasSettings | True |
HighlightRecovery | 0 |
HyperfocalDistance | 20.54 m |
ICCProfileName | sRGB IEC61966-2.1 |
ImageHeight (1) | 1857 |
ImageHeight | 731 |
ImageNumber | 11952 |
ImageSize | 1100x731 |
ImageWidth (1) | 2794 |
ImageWidth | 1100 |
ISO | 200 |
Lens | 18.0-70.0 mm f/3.5-4.5 |
LensInfo | 18-70mm f/3.5-4.5 |
LightSource | Fine Weather |
LightValue | 13.3 |
LuminanceSmoothing | 0 |
Make | NIKON CORPORATION |
MaxApertureValue | 4.4 |
Megapixels | 0.804 |
MeteringMode | Multi-segment |
Model | NIKON D40 |
ModifyDate (1) | 2008:05:29 19:03:30+02:00 |
ModifyDate | 2008:05:29 19:03:30 |
Orientation | Horizontal (normal) |
ParametricDarks | -29 |
ParametricHighlights | +46 |
ParametricHighlightSplit | 75 |
ParametricLights | +25 |
ParametricMidtoneSplit | 50 |
ParametricShadows | -41 |
ParametricShadowSplit | 25 |
ProfileDescription | sRGB IEC61966-2.1 |
RedHue | 0 |
RedSaturation | 0 |
Saturation | High |
ScaleFactor35efl | 1.5 |
SceneCaptureType | Standard |
SceneType | Directly photographed |
SensingMethod | One-chip color area |
Shadows | 5 |
ShadowTint | 0 |
SharpenDetail | 25 |
SharpenEdgeMasking | 0 |
SharpenRadius | +1.0 |
Sharpness (2) | 25 |
Sharpness | Normal |
ShutterSpeed | 1/640 |
ShutterSpeedValue | 1/640 |
Software | Adobe Photoshop Elements 5.0 (20060914.r.77) Windows |
SplitToningBalance | 0 |
SplitToningHighlightHue | 0 |
SplitToningHighlightSaturation | 0 |
SplitToningShadowHue | 0 |
SplitToningShadowSaturation | 0 |
SubjectDistanceRange | Unknown |
TimeZoneOffset | 2 2 |
Tint | -4 |
ToneCurve | 0, 0, 32, 22, 64, 56, 128, 128, 192, 196, 255, 255 |
ToneCurveName | Medium Contrast |
URL_List | |
UserComment | (c) Sverre Kvalvik |
Version | 1.0 |
VignetteAmount | 0 |
WhiteBalance (2) | Custom |
WhiteBalance | Manual |