Felt | Verdi |
AlreadyApplied | True |
Aperture | 13.0 |
ApertureValue | 13.0 |
BitsPerSample | 8 |
BlueHue | 0 |
BlueSaturation | 0 |
Brightness | 0 |
By-line | Gaute Bruvik |
CameraProfile | ACR 3.1 |
CFAPattern | [Red,Green][Green,Blue] |
ChromaticAberrationB | 0 |
ChromaticAberrationR | 0 |
CircleOfConfusion | 0.021 mm |
Clarity | 55 |
ColorComponents | 3 |
ColorNoiseReduction | 25 |
ColorTemperature | 5810 |
Contrast (2) | 0 |
Contrast | Normal |
ConvertToGrayscale | False |
Copyright | Kodiak Photography |
CopyrightNotice | Kodiak Photography |
CreateDate | 2008:04:29 08:51:53 |
Creator | Gaute Bruvik |
CreatorAddress | Mølnenga 19 |
CreatorCity | Kvaløysletta |
CreatorPostalCode | 9100 |
CreatorRegion | Tromsø |
CreatorTool | Adobe Photoshop Lightroom |
CustomRendered | Normal |
DateTimeDigitized | 2008:04:29 08:51:53.75+02:00 |
DateTimeOriginal (1) | 2008:04:29 08:51:53.75+02:00 |
DateTimeOriginal | 2008:04:29 08:51:53 |
Defringe | 0 |
DigitalZoomRatio | 1 |
ExifImageHeight | 600 |
ExifImageWidth | 398 |
Exposure | +0.86 |
ExposureCompensation | 0 |
ExposureMode | Auto |
ExposureProgram | Aperture-priority AE |
ExposureTime | 1/4000 |
FillLight | 0 |
Flash | On, Return detected |
FlashFired | True |
FlashFunction | False |
FlashMode | On |
FlashRedEyeMode | False |
FlashReturn | Return detected |
FNumber | 13.0 |
FocalLength | 10.5 mm |
FocalLength35efl | 10.5 mm (35 mm equivalent: 15.0 mm) |
FocalLengthIn35mmFormat | 15 mm |
FOV | 100.4 deg |
GainControl | Low gain up |
GreenHue | 0 |
GreenSaturation | 0 |
HasCrop | False |
HasSettings | True |
HighlightRecovery | 25 |
HueAdjustmentAqua | 0 |
HueAdjustmentBlue | 0 |
HueAdjustmentGreen | 0 |
HueAdjustmentMagenta | 0 |
HueAdjustmentOrange | 0 |
HueAdjustmentPurple | 0 |
HueAdjustmentRed | 0 |
HueAdjustmentYellow | 0 |
HyperfocalDistance | 0.40 m |
ImageHeight (1) | 4288 |
ImageHeight | 600 |
ImageNumber | 3855 |
ImageSize | 398x600 |
ImageWidth (1) | 2848 |
ImageWidth | 398 |
ISO | 800 |
Keywords | avinor, lufthavn, widerøe |
Lens | 10.5 mm f/2.8 |
LensInfo | 10.5mm f/2.8 |
LightSource | Unknown |
LightValue | 16.4 |
LuminanceAdjustmentAqua | 0 |
LuminanceAdjustmentBlue | 0 |
LuminanceAdjustmentGreen | 0 |
LuminanceAdjustmentMagenta | 0 |
LuminanceAdjustmentOrange | 0 |
LuminanceAdjustmentPurple | 0 |
LuminanceAdjustmentRed | 0 |
LuminanceAdjustmentYellow | 0 |
LuminanceSmoothing | 0 |
Make | NIKON CORPORATION |
MaxApertureValue | 2.8 |
Megapixels | 0.239 |
MeteringMode | Multi-segment |
Model | NIKON D300 |
ModifyDate (1) | 2008:04:29 17:33:21+02:00 |
ModifyDate | 2008:04:29 17:57:48 |
Orientation | Horizontal (normal) |
ParametricDarks | -20 |
ParametricHighlights | +4 |
ParametricHighlightSplit | 75 |
ParametricLights | +6 |
ParametricMidtoneSplit | 50 |
ParametricShadows | -41 |
ParametricShadowSplit | 25 |
ProfileDescription | sRGB IEC61966-2.1 |
RedHue | 0 |
RedSaturation | 0 |
Rights | Kodiak Photography |
Saturation (2) | +57 |
Saturation | Normal |
SaturationAdjustmentAqua | +50 |
SaturationAdjustmentBlue | +58 |
SaturationAdjustmentGreen | +10 |
SaturationAdjustmentMagenta | 0 |
SaturationAdjustmentOrange | +13 |
SaturationAdjustmentPurple | +23 |
SaturationAdjustmentRed | 0 |
SaturationAdjustmentYellow | +23 |
ScaleFactor35efl | 1.4 |
SceneCaptureType | Standard |
SceneType | Directly photographed |
SensingMethod | One-chip color area |
Shadows | 14 |
ShadowTint | 0 |
SharpenDetail | 25 |
SharpenEdgeMasking | 0 |
SharpenRadius | +1.0 |
Sharpness (2) | 25 |
Sharpness | Normal |
ShutterSpeed | 1/4000 |
ShutterSpeedValue | 1/4000 |
Software | ACD Systems Digital Imaging |
SplitToningBalance | 0 |
SplitToningHighlightHue | 0 |
SplitToningHighlightSaturation | 0 |
SplitToningShadowHue | 0 |
SplitToningShadowSaturation | 0 |
Subject | avinor, lufthavn, widerøe |
SubjectDistanceRange | Unknown |
Tint | 0 |
ToneCurve | 0, 0, 255, 255 |
ToneCurveName | Linear |
Version | 4.4.1 |
Vibrance | +4 |
VignetteAmount | -100 |
VignetteMidpoint | 50 |
WhiteBalance (2) | Custom |
WhiteBalance | Auto |