Felt | Verdi |
AlreadyApplied | True |
Aperture | 8.0 |
ApertureValue | 8.0 |
BitsPerSample | 8 |
BlueHue | 0 |
BlueSaturation | 0 |
Brightness | +97 |
By-line | Øyvind Ask |
CameraProfile | ACR 2.4 |
CFAPattern | [Blue,Green][Green,Red] |
ChromaticAberrationB | 0 |
ChromaticAberrationR | 0 |
CircleOfConfusion | 0.020 mm |
Clarity | 0 |
ColorComponents | 1 |
ColorTemperature | 2353 |
Contrast (2) | +31 |
Contrast | Normal |
ConvertToGrayscale | True |
Copyright | Oyvind Ask |
CopyrightNotice | Øyvind Ask |
CreateDate | 2008:02:17 17:22:18 |
Creator | Øyvind Ask |
CreatorTool | Adobe Photoshop Lightroom |
CreatorWorkEmail | rename@ndt-lan.com |
CropAngle | 0 |
CropBottom | 0.855355 |
CropHeight | 600 |
CropLeft | 0.049908 |
CropRight | 0.90573 |
CropTop | 0.038943 |
CropUnit | pixels |
CropWidth | 946 |
CustomRendered | Normal |
DateTimeDigitized | 2008:02:17 17:22:18.20+01:00 |
DateTimeOriginal (1) | 2008:02:17 17:22:18.20+01:00 |
DateTimeOriginal | 2008:02:17 17:22:18 |
Defringe | 0 |
DigitalZoomRatio | 1 |
Exposure | 0.00 |
ExposureCompensation | +1/3 |
ExposureMode | Auto |
ExposureProgram | Aperture-priority AE |
ExposureTime | 3 |
FillLight | 0 |
Flash | No Flash |
FlashFired | False |
FlashFunction | False |
FlashMode | Unknown |
FlashRedEyeMode | False |
FlashReturn | No return detection |
FNumber | 8.0 |
FocalLength | 70.0 mm |
FocalLength35efl | 70.0 mm (35 mm equivalent: 105.0 mm) |
FocalLengthIn35mmFormat | 105 mm |
FOV | 19.5 deg |
GainControl | None |
GrayMixerAqua | -24 |
GrayMixerBlue | -2 |
GrayMixerGreen | -18 |
GrayMixerMagenta | +14 |
GrayMixerOrange | 0 |
GrayMixerPurple | +12 |
GrayMixerRed | +10 |
GrayMixerYellow | -6 |
GreenHue | 0 |
GreenSaturation | 0 |
HasCrop | True |
HasSettings | True |
HighlightRecovery | 4 |
HyperfocalDistance | 30.58 m |
ImageHeight | 600 |
ImageNumber | 6750 |
ImageSize | 946x600 |
ImageWidth | 946 |
ISO | 200 |
Lens | 18.0-70.0 mm f/3.5-4.5 |
LensInfo | 18-70mm f/3.5-4.5 |
LightSource | Unknown |
LightValue | 3.4 |
LuminanceSmoothing | 100 |
Make | NIKON CORPORATION |
Marked | True |
MaxApertureValue | 4.4 |
Megapixels | 0.568 |
MeteringMode | Multi-segment |
Model | NIKON D70s |
ModifyDate (1) | 2008:02:23 16:55:28+01:00 |
ModifyDate | 2008:02:23 16:55:28 |
ParametricDarks | +1 |
ParametricHighlights | +22 |
ParametricHighlightSplit | 75 |
ParametricLights | -24 |
ParametricMidtoneSplit | 50 |
ParametricShadows | -14 |
ParametricShadowSplit | 25 |
ProfileDescription | sRGB IEC61966-2.1 |
RedHue | 0 |
RedSaturation | 0 |
Rights | Øyvind Ask |
Saturation | Normal |
ScaleFactor35efl | 1.5 |
SceneCaptureType | Standard |
SceneType | Directly photographed |
SensingMethod | One-chip color area |
Shadows | 5 |
ShadowTint | 0 |
SharpenDetail | 25 |
SharpenEdgeMasking | 0 |
SharpenRadius | +1.0 |
Sharpness (2) | 86 |
Sharpness | Normal |
ShutterSpeed | 3 |
ShutterSpeedValue | 3 |
Software | Ver.1.00 |
SplitToningBalance | 0 |
SplitToningHighlightHue | 0 |
SplitToningHighlightSaturation | 0 |
SplitToningShadowHue | 0 |
SplitToningShadowSaturation | 0 |
SubjectDistanceRange | Unknown |
TimeZoneOffset | 1 1 |
Tint | -2 |
ToneCurve | 0, 0, 32, 22, 64, 56, 128, 128, 192, 196, 255, 255 |
ToneCurveName | Medium Contrast |
Version | 1.0 |
VignetteAmount | 0 |
WhiteBalance (2) | Custom |
WhiteBalance | Auto |