Felt | Verdi |
AlreadyApplied | True |
Aperture | 4.5 |
ApertureValue | 4.5 |
BitsPerSample | 8 |
BlueHue | 0 |
BlueSaturation | 0 |
Brightness | +50 |
By-line | Øyvind Ask |
CameraProfile | ACR 2.4 |
CFAPattern | [Blue,Green][Green,Red] |
ChromaticAberrationB | 0 |
ChromaticAberrationR | 0 |
CircleOfConfusion | 0.020 mm |
Clarity | 0 |
ColorComponents | 1 |
ColorTemperature | 2824 |
Contrast (2) | +31 |
Contrast | Normal |
ConvertToGrayscale | True |
Copyright | Oyvind Ask |
CopyrightNotice | Øyvind Ask |
CreateDate | 2008:02:15 21:58:20 |
Creator | Øyvind Ask |
CreatorTool | Adobe Photoshop Lightroom |
CreatorWorkEmail | rename@ndt-lan.com |
CropAngle | 0 |
CropBottom | 1 |
CropHeight | 600 |
CropLeft | 0.036969 |
CropRight | 0.97597 |
CropTop | 0.025035 |
CropUnit | pixels |
CropWidth | 869 |
CustomRendered | Normal |
DateTimeDigitized | 2008:02:15 21:58:20.00+01:00 |
DateTimeOriginal (1) | 2008:02:15 21:58:20.00+01:00 |
DateTimeOriginal | 2008:02:15 21:58:20 |
Defringe | 0 |
DigitalZoomRatio | 1 |
Exposure | +0.84 |
ExposureCompensation | 0 |
ExposureMode | Auto |
ExposureProgram | Aperture-priority AE |
ExposureTime | 0.3 |
FillLight | 0 |
Flash | No Flash |
FlashFired | False |
FlashFunction | False |
FlashMode | Unknown |
FlashRedEyeMode | False |
FlashReturn | No return detection |
FNumber | 4.5 |
FocalLength | 60.0 mm |
FocalLength35efl | 60.0 mm (35 mm equivalent: 90.0 mm) |
FocalLengthIn35mmFormat | 90 mm |
FOV | 22.6 deg |
GainControl | None |
GrayMixerAqua | -19 |
GrayMixerBlue | +5 |
GrayMixerGreen | -23 |
GrayMixerMagenta | +4 |
GrayMixerOrange | -14 |
GrayMixerPurple | +13 |
GrayMixerRed | -6 |
GrayMixerYellow | -17 |
GreenHue | 0 |
GreenSaturation | 0 |
HasCrop | True |
HasSettings | True |
HighlightRecovery | 0 |
HyperfocalDistance | 39.94 m |
ImageHeight | 600 |
ImageNumber | 6528 |
ImageSize | 869x600 |
ImageWidth | 869 |
ISO | 200 |
Keywords | Fra vinterlan 2008 |
Lens | 18.0-70.0 mm f/3.5-4.5 |
LensInfo | 18-70mm f/3.5-4.5 |
LightSource | Unknown |
LightValue | 4.9 |
LuminanceSmoothing | 0 |
Make | NIKON CORPORATION |
Marked | True |
MaxApertureValue | 4.4 |
Megapixels | 0.521 |
MeteringMode | Multi-segment |
Model | NIKON D70s |
ModifyDate (1) | 2008:02:17 21:25:52+01:00 |
ModifyDate | 2008:02:17 21:25:52 |
ParametricDarks | +16 |
ParametricHighlights | +13 |
ParametricHighlightSplit | 75 |
ParametricLights | -39 |
ParametricMidtoneSplit | 50 |
ParametricShadows | -12 |
ParametricShadowSplit | 25 |
ProfileDescription | sRGB IEC61966-2.1 |
RedHue | 0 |
RedSaturation | 0 |
Rights | Øyvind Ask |
Saturation | Normal |
ScaleFactor35efl | 1.5 |
SceneCaptureType | Standard |
SceneType | Directly photographed |
SensingMethod | One-chip color area |
Shadows | 5 |
ShadowTint | 0 |
SharpenDetail | 25 |
SharpenEdgeMasking | 0 |
SharpenRadius | +1.0 |
Sharpness (2) | 150 |
Sharpness | Normal |
ShutterSpeed | 0.3 |
ShutterSpeedValue | 0.3 |
Software | Ver.1.00 |
SplitToningBalance | 0 |
SplitToningHighlightHue | 0 |
SplitToningHighlightSaturation | 0 |
SplitToningShadowHue | 0 |
SplitToningShadowSaturation | 0 |
Subject | Fra vinterlan 2008 |
SubjectDistanceRange | Unknown |
TimeZoneOffset | 1 1 |
Tint | 0 |
ToneCurve | 0, 0, 32, 22, 64, 56, 128, 128, 192, 196, 255, 255 |
ToneCurveName | Medium Contrast |
Version | 1.0 |
VignetteAmount | 0 |
WhiteBalance (2) | Custom |
WhiteBalance | Auto |