Felt | Verdi |
AlreadyApplied | True |
Aperture | 1.5 |
ApertureValue | 1.5 |
AutoLateralCA | 0 |
BitsPerSample | 8 |
Blacks2012 | -12 |
BlueHue | 0 |
BlueSaturation | 0 |
Brightness | +50 |
BrightnessValue | 8.129317852 |
CameraProfile | Embedded |
CircleOfConfusion | 0.007 mm |
Clarity2012 | +27 |
ColorComponents | 3 |
ColorGradeBlending | 50 |
ColorGradeGlobalHue | 136 |
ColorGradeGlobalLum | 0 |
ColorGradeGlobalSat | 40 |
ColorGradeHighlightLum | 0 |
ColorGradeMidtoneHue | 0 |
ColorGradeMidtoneLum | 0 |
ColorGradeMidtoneSat | 0 |
ColorGradeShadowLum | 0 |
ColorNoiseReduction | 0 |
ColorSpace | sRGB |
ColorTransform | YCbCr |
CompatibleVersion | 251658240 |
Contrast | +25 |
Contrast2012 | -14 |
ConvertToGrayscale | False |
CreateDate (1) | 2024:06:30 15:47:47.831+02:00 |
CreateDate | 2024:06:30 15:47:47 |
CreatorTool | Adobe Lightroom 7.4.1 (Macintosh) |
CropAngle | 0 |
CropBottom | 1 |
CropConstrainToWarp | 0 |
CropLeft | 0 |
CropRight | 1 |
CropTop | 0 |
DateCreated (1) | 2024:06:30 |
DateCreated | 2024:06:30 15:47:47 |
DateTimeOriginal | 2024:06:30 15:47:47 |
DefringeGreenAmount | 7 |
DefringeGreenHueHi | 89 |
DefringeGreenHueLo | 1 |
DefringePurpleAmount | 0 |
DefringePurpleHueHi | 70 |
DefringePurpleHueLo | 30 |
Dehaze | +95 |
Exposure2012 | 0.00 |
ExposureCompensation | 0 |
ExposureMode | Auto |
ExposureProgram | Program AE |
ExposureTime | 1/900 |
Flash | Off, Did not fire |
FNumber | 1.5 |
FocalLength | 5.7 mm |
FocalLength35efl | 5.7 mm (35 mm equivalent: 26.0 mm) |
FocalLengthIn35mmFormat | 26 mm |
Format | image/jpeg |
FOV | 69.4 deg |
GPSAltitude | 109.6 m |
GPSDateStamp | 2024:06:30 |
GPSDateTime | 2024:06:30 13:47:47Z |
GPSDestBearing | 185.2482607 |
GPSDestBearingRef | True North |
GPSHPositioningError | 4.775769546 m |
GPSImgDirection | 185.25 |
GPSImgDirectionRef | True North |
GPSLatitude (1) | 59 deg 57' 14.94" |
GPSLatitude | 59 deg 57' 14.94" N |
GPSLatitudeRef | North |
GPSLongitude (1) | 11 deg 2' 8.93" |
GPSLongitude | 11 deg 2' 8.93" E |
GPSLongitudeRef | East |
GPSPosition | 59 deg 57' 14.94" N, 11 deg 2' 8.93" E |
GPSSpeed | 0.1913574921 |
GPSSpeedRef | km/h |
GPSTimeStamp | 13:47:47 |
GPSVersionID | 2.2.0.0 |
GrainAmount | 0 |
GreenHue | 0 |
GreenSaturation | 0 |
HasCrop | False |
HasSettings | True |
HDREditMode | 0 |
Highlights2012 | -35 |
HueAdjustmentAqua | +18 |
HueAdjustmentBlue | +56 |
HueAdjustmentGreen | +89 |
HueAdjustmentMagenta | 0 |
HueAdjustmentOrange | -100 |
HueAdjustmentPurple | -3 |
HueAdjustmentRed | +92 |
HueAdjustmentYellow | -46 |
HyperfocalDistance | 3.29 m |
ImageHeight | 1116 |
ImageSize | 1116x1116 |
ImageWidth | 1116 |
IncrementalTemperature | -45 |
IncrementalTint | -48 |
ISO | 50 |
Lens | iPhone 14 back dual wide camera 5.7mm f/1.5 |
LensInfo (1) | 1.53999996185121-5.69999980926332mm f/1.5-2.4 |
LensInfo | 1.539999962-5.699999809mm f/1.5-2.4 |
LensMake | Apple |
LensManualDistortionAmount | 0 |
LensModel | iPhone 14 back dual wide camera 5.7mm f/1.5 |
LensProfileEnable | 0 |
LightValue | 12.0 |
LuminanceAdjustmentAqua | 0 |
LuminanceAdjustmentBlue | 0 |
LuminanceAdjustmentGreen | +83 |
LuminanceAdjustmentMagenta | 0 |
LuminanceAdjustmentOrange | 0 |
LuminanceAdjustmentPurple | 0 |
LuminanceAdjustmentRed | -15 |
LuminanceAdjustmentYellow | 0 |
LuminanceSmoothing | 0 |
Make | Apple |
Megapixels | 1.2 |
MeteringMode | Multi-segment |
Model | iPhone 14 |
ModifyDate (1) | 2024:07:23 22:31:46+02:00 |
ModifyDate | 2024:07:23 22:31:46 |
OverrideLookVignette | False |
ParametricDarks | 0 |
ParametricHighlights | +100 |
ParametricHighlightSplit | 75 |
ParametricLights | -9 |
ParametricMidtoneSplit | 50 |
ParametricShadows | +42 |
ParametricShadowSplit | 25 |
PerspectiveAspect | 0 |
PerspectiveHorizontal | 0 |
PerspectiveRotate | 0.0 |
PerspectiveScale | 100 |
PerspectiveUpright | 0 |
PerspectiveVertical | 0 |
PerspectiveX | 0.00 |
PerspectiveY | 0.00 |
PointColors | -1.000000, -1.000000, -1.000000, -1.000000, -1.000000, -1.000000, -1.000000, -1.000000, -1.000000, -1.000000, -1.000000, -1.000000, -1.000000, -1.000000, -1.000000, -1.000000, -1.000000, -1.000000, -1.000000 |
PostCropVignetteAmount | -6 |
PostCropVignetteFeather | 50 |
PostCropVignetteHighlightContrast | 0 |
PostCropVignetteMidpoint | 50 |
PostCropVignetteRoundness | 0 |
PostCropVignetteStyle | 1 |
ProcessVersion | 15.4 |
ProfileDescription | sRGB IEC61966-2.1 |
RangeMaskMapInfoRangeMaskMapInfoLabMax | 0.986252 0.607569 0.775586 |
RangeMaskMapInfoRangeMaskMapInfoLabMin | 0.000549 0.333455 0.423148 |
RangeMaskMapInfoRangeMaskMapInfoRGBMax | 0.639952 0.729396 0.759825 |
RangeMaskMapInfoRangeMaskMapInfoRGBMin | 0.000095 0.000038 0.000000 |
RawFileName | 535E2430-9C91-4F7B-9DBD-E53EEE9FF6EA.jpg |
RedHue | 0 |
RedSaturation | 0 |
Saturation | -100 |
SaturationAdjustmentAqua | 0 |
SaturationAdjustmentBlue | 0 |
SaturationAdjustmentGreen | 0 |
SaturationAdjustmentMagenta | 0 |
SaturationAdjustmentOrange | 0 |
SaturationAdjustmentPurple | 0 |
SaturationAdjustmentRed | 0 |
SaturationAdjustmentYellow | 0 |
ScaleFactor35efl | 4.6 |
SceneType | Directly photographed |
SensingMethod | One-chip color area |
Shadows | 5 |
Shadows2012 | -12 |
ShadowTint | 0 |
Sharpness | 0 |
ShutterSpeed | 1/900 |
ShutterSpeedValue | 1/900 |
Software | Adobe Lightroom 7.4.1 (Macintosh) |
SplitToningBalance | 0 |
SplitToningHighlightHue | 0 |
SplitToningHighlightSaturation | 0 |
SplitToningShadowHue | 0 |
SplitToningShadowSaturation | 0 |
SubjectArea | 2007 1506 2213 1327 |
Texture | +72 |
ToneCurveName2012 | Custom |
ToneCurvePV2012 | 0, 0, 86, 55, 184, 144, 219, 216, 255, 255 |
ToneCurvePV2012Blue | 0, 0, 181, 218, 255, 255 |
ToneCurvePV2012Green | 0, 0, 255, 255 |
ToneCurvePV2012Red | 0, 0, 55, 78, 219, 211, 255, 255 |
Version | 16.4 |
Vibrance | +100 |
VignetteAmount | 0 |
WhiteBalance (1) | Custom |
WhiteBalance | Auto |
Whites2012 | -7 |