Felt | Verdi |
AlreadyApplied | True |
Aperture | 7.1 |
ApertureValue | 7.1 |
AutoLateralCA | 0 |
BitsPerSample | 8 |
Blacks2012 | -93 |
BlueHue | +52 |
BlueSaturation | 0 |
CameraProfile | Adobe Standard |
CFAPattern | [Red,Green][Green,Blue] |
CircleOfConfusion | 0.030 mm |
Clarity2012 | +34 |
ColorComponents | 3 |
ColorGradeBlending | 50 |
ColorGradeGlobalHue | 0 |
ColorGradeGlobalLum | 0 |
ColorGradeGlobalSat | 0 |
ColorGradeHighlightLum | 0 |
ColorGradeMidtoneHue | 0 |
ColorGradeMidtoneLum | 0 |
ColorGradeMidtoneSat | 0 |
ColorGradeShadowLum | 0 |
ColorNoiseReduction | 0 |
ColorSpace | sRGB |
ColorTemperature | 2985 |
ColorTransform | YCbCr |
CompatibleVersion | 234881024 |
Contrast | Normal |
Contrast2012 | +22 |
ConvertToGrayscale | True |
CreateDate (1) | 2022:06:04 16:41:52.62-01:00 |
CreateDate | 2022:06:04 16:41:52 |
CreatorTool | Adobe Photoshop Lightroom Classic 11.3.1 (Windows) |
CropAngle | 0 |
CropBottom | 1 |
CropConstrainToWarp | 0 |
CropLeft | 0.043745 |
CropRight | 1 |
CropTop | 0.052425 |
CustomRendered | Custom |
DateCreated (1) | 2022:06:04 |
DateCreated | 2022:06:04 16:41:52.62-01:00 |
DateTimeOriginal | 2022:06:04 16:41:52 |
Dehaze | 0 |
Exposure2012 | +1.40 |
ExposureCompensation | 0 |
ExposureMode | Auto |
ExposureProgram | Aperture-priority AE |
ExposureTime | 1/250 |
Flash | No Flash |
FNumber | 7.1 |
FocalLength | 70.0 mm |
FocalLength35efl | 70.0 mm (35 mm equivalent: 70.0 mm) |
FocalLengthIn35mmFormat | 70 mm |
Format | image/jpeg |
FOV | 28.8 deg |
GainControl | None |
GrainAmount | 0 |
GrainFrequency | 39 |
GrainSize | 38 |
GrayMixerAqua | -17 |
GrayMixerBlue | +11 |
GrayMixerGreen | -27 |
GrayMixerMagenta | +4 |
GrayMixerOrange | -3 |
GrayMixerPurple | +17 |
GrayMixerRed | -9 |
GrayMixerYellow | -1 |
GreenHue | +35 |
GreenSaturation | 0 |
HasCrop | True |
HasSettings | True |
Highlights2012 | -100 |
HyperfocalDistance | 22.97 m |
ImageHeight | 3806 |
ImageNumber | 3427 |
ImageSize | 5753x3806 |
ImageWidth | 5753 |
ISO | 250 |
Lens | 70-300mm f/4-5.6G |
LensInfo | 70-300mm f/4-5.6 |
LensManualDistortionAmount | 0 |
LensModel | 70-300mm f/4-5.6G |
LensProfileEnable | 0 |
LightSource | Unknown |
LightValue | 12.3 |
LuminanceSmoothing | 0 |
Make | NIKON CORPORATION |
Megapixels | 21.9 |
MeteringMode | Multi-segment |
Model | NIKON Z 5 |
ModifyDate (1) | 2022:07:09 10:33:38+02:00 |
ModifyDate | 2022:07:09 10:33:38 |
OverrideLookVignette | True |
ParametricDarks | -16 |
ParametricHighlights | -16 |
ParametricHighlightSplit | 75 |
ParametricLights | -16 |
ParametricMidtoneSplit | 50 |
ParametricShadows | -6 |
ParametricShadowSplit | 25 |
PerspectiveAspect | 0 |
PerspectiveHorizontal | 0 |
PerspectiveRotate | 0.0 |
PerspectiveScale | 100 |
PerspectiveUpright | 0 |
PerspectiveVertical | 0 |
PerspectiveX | 0.00 |
PerspectiveY | 0.00 |
PostCropVignetteAmount | -37 |
PostCropVignetteFeather | 50 |
PostCropVignetteHighlightContrast | 0 |
PostCropVignetteMidpoint | 31 |
PostCropVignetteRoundness | 0 |
PostCropVignetteStyle | 1 |
PreservedFileName | DSC_3447.NEF |
ProcessVersion | 11.0 |
ProfileDescription | sRGB IEC61966-2.1 |
RawFileName | DSC_3447.NEF |
RecommendedExposureIndex | 250 |
RedHue | 0 |
RedSaturation | 0 |
Saturation | Normal |
ScaleFactor35efl | 1.0 |
SceneCaptureType | Standard |
SceneType | Directly photographed |
SensingMethod | One-chip color area |
SensitivityType | Recommended Exposure Index |
SerialNumber | 6002522 |
Shadows2012 | +100 |
ShadowTint | -17 |
SharpenDetail | 25 |
SharpenEdgeMasking | 0 |
SharpenRadius | +1.0 |
Sharpness (1) | 70 |
Sharpness | Normal |
ShutterSpeed | 1/250 |
ShutterSpeedValue | 1/250 |
Software | Adobe Photoshop Lightroom Classic 11.3.1 (Windows) |
SplitToningBalance | 0 |
SplitToningHighlightHue | 0 |
SplitToningHighlightSaturation | 0 |
SplitToningShadowHue | 0 |
SplitToningShadowSaturation | 0 |
SubjectDistanceRange | Unknown |
Texture | +26 |
Tint | -35 |
ToneCurveName2012 | Custom |
ToneCurvePV2012 | 0, 23, 60, 60, 127, 130, 194, 203, 255, 245 |
ToneCurvePV2012Blue | 0, 0, 255, 255 |
ToneCurvePV2012Green | 0, 0, 255, 255 |
ToneCurvePV2012Red | 0, 0, 255, 255 |
Version | 14.3 |
VignetteAmount | +30 |
VignetteCorrectionAlreadyApplied | True |
VignetteMidpoint | 30 |
WhiteBalance (1) | Custom |
WhiteBalance | Auto |
Whites2012 | -20 |