Felt | Verdi |
AlreadyApplied | True |
Aperture | 5.6 |
ApertureValue | 5.6 |
ApproximateFocusDistance | 2.24 |
AutoLateralCA | 0 |
BitsPerSample | 8 |
Blacks2012 | +90 |
BlueHue | 0 |
BlueSaturation | 0 |
CameraProfile | Adobe Standard |
CFAPattern | [Red,Green][Green,Blue] |
CircleOfConfusion | 0.020 mm |
Clarity2012 | +95 |
ColorComponents | 3 |
ColorGradeBlending | 100 |
ColorGradeGlobalHue | 0 |
ColorGradeGlobalLum | 0 |
ColorGradeGlobalSat | 0 |
ColorGradeHighlightLum | 0 |
ColorGradeMidtoneHue | 0 |
ColorGradeMidtoneLum | 0 |
ColorGradeMidtoneSat | 0 |
ColorGradeShadowLum | 0 |
ColorNoiseReduction | 4 |
ColorNoiseReductionDetail | 50 |
ColorNoiseReductionSmoothness | 50 |
ColorSpace | sRGB |
ColorTemperature | 5315 |
ColorTransform | YCbCr |
Contrast | Normal |
Contrast2012 | +45 |
CreateDate (1) | 2018:03:11 10:50:23.80 |
CreateDate | 2018:03:11 10:50:23 |
CreatorTool | Adobe Photoshop Lightroom Classic 11.1 (Windows) |
CropAngle | 0 |
CropBottom | 0.979003 |
CropConstrainToWarp | 0 |
CropLeft | 0 |
CropRight | 0.979003 |
CropTop | 0 |
CustomRendered | Normal |
DateCreated (1) | 2018:03:11 |
DateCreated | 2018:03:11 10:50:23.80 |
DateTimeOriginal | 2018:03:11 10:50:23 |
Dehaze | 0 |
DigitalZoomRatio | 1 |
DOF | 3.83 m (1.42 - 5.25 m) |
Exposure2012 | -0.60 |
ExposureCompensation | -1/3 |
ExposureMode | Manual |
ExposureProgram | Manual |
ExposureTime | 1/30 |
Flash | No Flash |
FNumber | 5.6 |
FocalLength | 21.0 mm |
FocalLength35efl | 21.0 mm (35 mm equivalent: 31.0 mm) |
FocalLengthIn35mmFormat | 31 mm |
Format | image/jpeg |
FOV | 60.3 deg |
GainControl | Low gain up |
GrainAmount | 0 |
GrayMixerAqua | -19 |
GrayMixerBlue | +7 |
GrayMixerGreen | -20 |
GrayMixerMagenta | +5 |
GrayMixerOrange | -14 |
GrayMixerPurple | +13 |
GrayMixerRed | -6 |
GrayMixerYellow | -18 |
GreenHue | 0 |
GreenSaturation | 0 |
HasCrop | True |
HasSettings | True |
Highlights2012 | -100 |
HueAdjustmentAqua | -6 |
HueAdjustmentBlue | -19 |
HyperfocalDistance | 3.87 m |
ImageHeight | 3916 |
ImageNumber | 7469 |
ImageSize | 5874x3916 |
ImageWidth | 5874 |
ISO | 400 |
Lens | 18.0-55.0 mm f/3.5-5.6 |
LensID (1) | 162 |
LensID | AF-S DX Nikkor 18-55mm f/3.5-5.6G VR II |
LensInfo | 18-55mm f/3.5-5.6 |
LensManualDistortionAmount | 0 |
LensModel | 18.0-55.0 mm f/3.5-5.6 |
LensProfileEnable | 0 |
LightSource | Unknown |
LightValue | 7.9 |
LookAmount | 1 |
LookGroup | Profiles |
LookName | Adobe Monochrome |
LookParametersCameraProfile | Adobe Standard |
LookParametersClarity2012 | +8 |
LookParametersConvertToGrayscale | True |
LookParametersLookTable | 73ED6C18DDE909DD7EA2D771F5AC282D |
LookParametersProcessVersion | 11.0 |
LookParametersToneCurvePV2012 | 0, 0, 64, 56, 128, 128, 192, 197, 255, 255 |
LookParametersToneCurvePV2012Blue | 0, 0, 255, 255 |
LookParametersToneCurvePV2012Green | 0, 0, 255, 255 |
LookParametersToneCurvePV2012Red | 0, 0, 255, 255 |
LookParametersVersion | 14.1 |
LookSupportsAmount | false |
LookSupportsMonochrome | false |
LookSupportsOutputReferred | false |
LuminanceAdjustmentOrange | +11 |
LuminanceAdjustmentRed | -3 |
LuminanceAdjustmentYellow | +6 |
LuminanceNoiseReductionContrast | 0 |
LuminanceNoiseReductionDetail | 50 |
LuminanceSmoothing | 12 |
Make | NIKON CORPORATION |
MaxApertureValue | 3.7 |
Megapixels | 23.0 |
MeteringMode | Multi-segment |
Model | NIKON D5200 |
ModifyDate (1) | 2022:02:06 11:37:15+01:00 |
ModifyDate | 2022:02:06 11:37:15 |
OverrideLookVignette | False |
ParametricDarks | +15 |
ParametricHighlights | 0 |
ParametricHighlightSplit | 75 |
ParametricLights | +15 |
ParametricMidtoneSplit | 50 |
ParametricShadows | 0 |
ParametricShadowSplit | 25 |
PerspectiveAspect | 0 |
PerspectiveHorizontal | 0 |
PerspectiveRotate | 0.0 |
PerspectiveScale | 100 |
PerspectiveUpright | 0 |
PerspectiveVertical | 0 |
PerspectiveX | 0.00 |
PerspectiveY | 0.00 |
PostCropVignetteAmount | 0 |
ProcessVersion | 11.0 |
ProfileDescription | sRGB IEC61966-2.1 |
RawFileName | DSC_6666.NEF |
RedHue | 0 |
RedSaturation | 0 |
Saturation (1) | +1 |
Saturation | Normal |
SaturationAdjustmentMagenta | -15 |
SaturationAdjustmentRed | -23 |
ScaleFactor35efl | 1.5 |
SceneCaptureType | Standard |
SceneType | Directly photographed |
SensingMethod | One-chip color area |
SensitivityType | Recommended Exposure Index |
SerialNumber | 4724042 |
Shadows2012 | +100 |
ShadowTint | 0 |
SharpenDetail | 7 |
SharpenEdgeMasking | 0 |
SharpenRadius | +1.0 |
Sharpness (1) | 48 |
Sharpness | Normal |
ShutterSpeed | 1/30 |
ShutterSpeedValue | 1/30 |
Software | Adobe Photoshop Lightroom Classic 11.1 (Windows) |
SplitToningBalance | +100 |
SplitToningHighlightHue | 0 |
SplitToningHighlightSaturation | 0 |
SplitToningShadowHue | 249 |
SplitToningShadowSaturation | 85 |
SubjectDistanceRange | Unknown |
Texture | 0 |
Tint | +10 |
ToneCurveName2012 | Linear |
ToneCurvePV2012 | 0, 0, 255, 255 |
ToneCurvePV2012Blue | 0, 0, 255, 255 |
ToneCurvePV2012Green | 0, 0, 255, 255 |
ToneCurvePV2012Red | 0, 0, 255, 255 |
Version | 14.1 |
Vibrance | +16 |
VignetteAmount | 0 |
VignetteMidpoint | 30 |
WhiteBalance (1) | Custom |
WhiteBalance | Auto |
Whites2012 | +26 |