Felt | Verdi |
AlreadyApplied | True |
Aperture | 9.0 |
ApertureValue | 9.0 |
ApproximateFocusDistance | 4294967295 |
Artist | SNPhotography |
AutoLateralCA | 1 |
BitsPerSample | 8 |
Blacks2012 | 0 |
BlueHue | 0 |
BlueSaturation | 0 |
By-line | SNPhotography |
CameraProfile | Adobe Standard |
CFAPattern | [Red,Green][Green,Blue] |
CircleOfConfusion | 0.030 mm |
Clarity2012 | +12 |
ColorComponents | 3 |
ColorNoiseReduction | 25 |
ColorNoiseReductionDetail | 50 |
ColorNoiseReductionSmoothness | 50 |
ColorSpace | sRGB |
ColorTemperature | 9000 |
Contrast | Normal |
Contrast2012 | +7 |
ConvertToGrayscale | False |
Copyright | Sindre Nedrevag |
CopyrightNotice | Sindre Nedrevag |
CreateDate (1) | 2020:09:03 21:01:07.53 |
CreateDate | 2020:09:03 21:01:07 |
Creator | SNPhotography |
CreatorTool | Adobe Photoshop Lightroom Classic 9.4 (Windows) |
CropAngle | 0 |
CropBottom | 0.839612 |
CropConstrainToWarp | 0 |
CropLeft | 0 |
CropRight | 0.962693 |
CropTop | 0 |
CustomRendered | Normal |
DateCreated (1) | 2020:09:03 |
DateCreated | 2020:09:03 21:01:07.53 |
DateTimeOriginal | 2020:09:03 21:01:07 |
DefringeGreenAmount | 0 |
DefringeGreenHueHi | 60 |
DefringeGreenHueLo | 40 |
DefringePurpleAmount | 0 |
DefringePurpleHueHi | 70 |
DefringePurpleHueLo | 30 |
Dehaze | 0 |
DigitalZoomRatio | 1 |
DistortionCorrectionAlreadyApplied | True |
DOF | inf (1.48 m - inf) |
Exposure2012 | +0.20 |
ExposureCompensation | 0 |
ExposureMode | Manual |
ExposureProgram | Manual |
ExposureTime | 15 |
Flash | Off, Did not fire |
FNumber | 9.0 |
FocalLength | 20.0 mm |
FocalLength35efl | 20.0 mm (35 mm equivalent: 20.0 mm) |
FocalLengthIn35mmFormat | 20 mm |
Format | image/jpeg |
FOV | 84.0 deg |
GainControl | None |
GradientBasedCorrActive | true |
GradientBasedCorrAmount | 1.000000 |
GradientBasedCorrBrightness | 0.000000 |
GradientBasedCorrClarity2012 | 0.000000 |
GradientBasedCorrContrast2012 | 0.145300 |
GradientBasedCorrCorrectionRangeMaskColorAmount | 0.500000 |
GradientBasedCorrCorrectionRangeMaskDepthFeather | 0.500000 |
GradientBasedCorrCorrectionRangeMaskDepthMax | 1.000000 |
GradientBasedCorrCorrectionRangeMaskDepthMin | 0.000000 |
GradientBasedCorrCorrectionRangeMaskLumFeather | 0.500000 |
GradientBasedCorrCorrectionRangeMaskLumMax | 1.000000 |
GradientBasedCorrCorrectionRangeMaskLumMin | 0.000000 |
GradientBasedCorrCorrectionRangeMaskType | 0 |
GradientBasedCorrCorrectionRangeMaskVersion | +2 |
GradientBasedCorrDefringe | 0.000000 |
GradientBasedCorrExposure2012 | 0.000000 |
GradientBasedCorrHighlights2012 | -0.076920 |
GradientBasedCorrHue | 0.000000 |
GradientBasedCorrLocalBlacks2012 | 0.000000 |
GradientBasedCorrLocalDehaze | 0.145300 |
GradientBasedCorrLocalHue | 0.000000 |
GradientBasedCorrLocalTexture | 0.000000 |
GradientBasedCorrLocalWhites2012 | 0.000000 |
GradientBasedCorrLuminanceNoise | 0.247860 |
GradientBasedCorrMaskCenterWeight | 0.202125 |
GradientBasedCorrMaskFlow | 0.842000 |
GradientBasedCorrMaskFullX | 0.446694 |
GradientBasedCorrMaskFullY | 0.266089 |
GradientBasedCorrMaskRadius (1) | 0.058089 |
GradientBasedCorrMaskRadius (2) | 0.058508 |
GradientBasedCorrMaskRadius (3) | 0.058495 |
GradientBasedCorrMaskRadius (4) | 0.059217 |
GradientBasedCorrMaskRadius (5) | 0.059266 |
GradientBasedCorrMaskRadius (6) | 0.059296 |
GradientBasedCorrMaskRadius | 0.059286 |
GradientBasedCorrMaskValue (1) | 1.000000 |
GradientBasedCorrMaskValue | 0.000000 |
GradientBasedCorrMaskWhat (1) | Mask/Gradient |
GradientBasedCorrMaskWhat | Mask/Paint |
GradientBasedCorrMaskZeroX | 0.500995 |
GradientBasedCorrMaskZeroY | 0.482580 |
GradientBasedCorrMoire | 0.000000 |
GradientBasedCorrSaturation (1) | 0.128210 |
GradientBasedCorrSaturation | 0.000000 |
GradientBasedCorrShadows2012 | 0.452990 |
GradientBasedCorrSharpness | 0.000000 |
GradientBasedCorrTemperature | -0.128210 |
GradientBasedCorrTint | 0.042740 |
GradientBasedCorrWhat | Correction |
GrainAmount | 0 |
GreenHue | 0 |
GreenSaturation | 0 |
HasCrop | True |
HasExtendedXMP | 16E33230A27E522BB278CAF9B48DED21 |
HasSettings | True |
Highlights2012 | 0 |
HueAdjustmentAqua | 0 |
HueAdjustmentBlue | 0 |
HueAdjustmentGreen | 0 |
HueAdjustmentMagenta | 0 |
HueAdjustmentOrange | 0 |
HueAdjustmentPurple | 0 |
HueAdjustmentRed | 0 |
HueAdjustmentYellow | 0 |
HyperfocalDistance | 1.48 m |
ImageHeight | 1490 |
ImageNumber | 6605 |
ImageSize | 2560x1490 |
ImageWidth | 2560 |
ISO | 50 |
LateralChromaticAberrationCorrectionAlreadyApplied | True |
Lens | 20.0 mm f/1.8 |
LensID (1) | 169 |
LensID | AF-S Nikkor 20mm f/1.8G ED |
LensInfo | 20mm f/1.8 |
LensManualDistortionAmount | 0 |
LensModel | 20.0 mm f/1.8 |
LensProfileChromaticAberrationScale | 100 |
LensProfileDistortionScale | 100 |
LensProfileEnable | 1 |
LensProfileFilename | NIKON D3 (Nikon AF-S NIKKOR 20mm f1.8G ED) - RAW.lcp |
LensProfileIsEmbedded | False |
LensProfileName | Adobe (Nikon AF-S NIKKOR 20mm f/1.8G ED) |
LensProfileSetup | LensDefaults |
LensProfileVignettingScale | 100 |
LightSource | Unknown |
LightValue | 3.4 |
LookAmount | 1.000000 |
LookGroup | Profiles |
LookName | Adobe Color |
LookParametersCameraProfile | Adobe Standard |
LookParametersConvertToGrayscale | False |
LookParametersLookTable | E1095149FDB39D7A057BAB208837E2E1 |
LookParametersProcessVersion | 11.0 |
LookParametersToneCurvePV2012 | 0, 0, 22, 16, 40, 35, 127, 127, 224, 230, 240, 246, 255, 255 |
LookParametersToneCurvePV2012Blue | 0, 0, 255, 255 |
LookParametersToneCurvePV2012Green | 0, 0, 255, 255 |
LookParametersToneCurvePV2012Red | 0, 0, 255, 255 |
LookParametersVersion | 12.4 |
LookSupportsAmount | false |
LookSupportsMonochrome | false |
LookSupportsOutputReferred | false |
LuminanceAdjustmentAqua | 0 |
LuminanceAdjustmentBlue | 0 |
LuminanceAdjustmentGreen | 0 |
LuminanceAdjustmentMagenta | 0 |
LuminanceAdjustmentOrange | -5 |
LuminanceAdjustmentPurple | 0 |
LuminanceAdjustmentRed | 0 |
LuminanceAdjustmentYellow | -8 |
LuminanceSmoothing | 0 |
Make | NIKON CORPORATION |
MaxApertureValue | 1.7 |
Megapixels | 3.8 |
MeteringMode | Multi-segment |
Model | NIKON D750 |
ModifyDate (1) | 2020:09:04 18:26:22+02:00 |
ModifyDate | 2020:09:04 18:26:22 |
Orientation | Horizontal (normal) |
OverrideLookVignette | False |
PaintCorrectionActive | true |
PaintCorrectionAmount | 1.000000 |
PaintCorrectionBrightness | 0.000000 |
PaintCorrectionClarity2012 | 0.000000 |
PaintCorrectionContrast2012 | 0.000000 |
PaintCorrectionCorrectionRangeMaskColorAmount | 0.500000 |
PaintCorrectionCorrectionRangeMaskDepthFeather | 0.500000 |
PaintCorrectionCorrectionRangeMaskDepthMax | 1.000000 |
PaintCorrectionCorrectionRangeMaskDepthMin | 0.000000 |
PaintCorrectionCorrectionRangeMaskLumFeather | 0.500000 |
PaintCorrectionCorrectionRangeMaskLumMax | 1.000000 |
PaintCorrectionCorrectionRangeMaskLumMin | 0.000000 |
PaintCorrectionCorrectionRangeMaskType | 0 |
PaintCorrectionCorrectionRangeMaskVersion | +2 |
PaintCorrectionDefringe | 0.000000 |
PaintCorrectionExposure2012 (1) | 0.042750 |
PaintCorrectionExposure2012 (2) | 0.059750 |
PaintCorrectionExposure2012 | -0.025750 |
PaintCorrectionHighlights2012 (1) | 0.282050 |
PaintCorrectionHighlights2012 (2) | 0.111110 |
PaintCorrectionHighlights2012 | 0.000000 |
PaintCorrectionHue | 0.000000 |
PaintCorrectionLocalBlacks2012 | 0.000000 |
PaintCorrectionLocalDehaze | 0.000000 |
PaintCorrectionLocalHue | 0.000000 |
PaintCorrectionLocalTexture | 0.000000 |
PaintCorrectionLocalWhites2012 (2) | 0.000000 |
PaintCorrectionLocalWhites2012 | 0.025640 |
PaintCorrectionLuminanceNoise | 0.000000 |
PaintCorrectionMaskCenterWeight | 0.066077 |
PaintCorrectionMaskFlow | 0.850000 |
PaintCorrectionMaskRadius (1) | 0.020649 |
PaintCorrectionMaskRadius (10) | 0.020262 |
PaintCorrectionMaskRadius (11) | 0.010830 |
PaintCorrectionMaskRadius (12) | 0.010813 |
PaintCorrectionMaskRadius (13) | 0.015502 |
PaintCorrectionMaskRadius (14) | 0.015455 |
PaintCorrectionMaskRadius (15) | 0.010908 |
PaintCorrectionMaskRadius (16) | 0.010945 |
PaintCorrectionMaskRadius (17) | 0.010986 |
PaintCorrectionMaskRadius (18) | 0.015795 |
PaintCorrectionMaskRadius (19) | 0.015758 |
PaintCorrectionMaskRadius (2) | 0.020564 |
PaintCorrectionMaskRadius (20) | 0.015708 |
PaintCorrectionMaskRadius (21) | 0.015663 |
PaintCorrectionMaskRadius (22) | 0.015606 |
PaintCorrectionMaskRadius (23) | 0.015567 |
PaintCorrectionMaskRadius (24) | 0.010872 |
PaintCorrectionMaskRadius (26) | 0.010924 |
PaintCorrectionMaskRadius (27) | 0.010885 |
PaintCorrectionMaskRadius (28) | 0.010825 |
PaintCorrectionMaskRadius (29) | 0.010783 |
PaintCorrectionMaskRadius (3) | 0.020501 |
PaintCorrectionMaskRadius (30) | 0.010799 |
PaintCorrectionMaskRadius (31) | 0.010793 |
PaintCorrectionMaskRadius (32) | 0.010775 |
PaintCorrectionMaskRadius (33) | 0.010769 |
PaintCorrectionMaskRadius (34) | 0.015607 |
PaintCorrectionMaskRadius (35) | 0.015703 |
PaintCorrectionMaskRadius (36) | 0.025066 |
PaintCorrectionMaskRadius (37) | 0.015619 |
PaintCorrectionMaskRadius (38) | 0.006884 |
PaintCorrectionMaskRadius (39) | 0.006873 |
PaintCorrectionMaskRadius (4) | 0.015604 |
PaintCorrectionMaskRadius (40) | 0.006734 |
PaintCorrectionMaskRadius (41) | 0.006786 |
PaintCorrectionMaskRadius (42) | 0.011006 |
PaintCorrectionMaskRadius (43) | 0.010955 |
PaintCorrectionMaskRadius (44) | 0.010897 |
PaintCorrectionMaskRadius (45) | 0.010902 |
PaintCorrectionMaskRadius (46) | 0.010864 |
PaintCorrectionMaskRadius (47) | 0.010891 |
PaintCorrectionMaskRadius (48) | 0.011001 |
PaintCorrectionMaskRadius (49) | 0.010964 |
PaintCorrectionMaskRadius (5) | 0.020380 |
PaintCorrectionMaskRadius (50) | 0.011043 |
PaintCorrectionMaskRadius (51) | 0.010827 |
PaintCorrectionMaskRadius (53) | 0.010852 |
PaintCorrectionMaskRadius (55) | 0.030336 |
PaintCorrectionMaskRadius (56) | 0.030142 |
PaintCorrectionMaskRadius (57) | 0.030618 |
PaintCorrectionMaskRadius (58) | 0.030546 |
PaintCorrectionMaskRadius (59) | 0.015566 |
PaintCorrectionMaskRadius (6) | 0.020368 |
PaintCorrectionMaskRadius (60) | 0.015524 |
PaintCorrectionMaskRadius (61) | 0.015550 |
PaintCorrectionMaskRadius (62) | 0.015659 |
PaintCorrectionMaskRadius (63) | 0.015676 |
PaintCorrectionMaskRadius (64) | 0.020525 |
PaintCorrectionMaskRadius (65) | 0.020462 |
PaintCorrectionMaskRadius (66) | 0.020550 |
PaintCorrectionMaskRadius (7) | 0.020357 |
PaintCorrectionMaskRadius (8) | 0.020325 |
PaintCorrectionMaskRadius (9) | 0.020293 |
PaintCorrectionMaskRadius | 0.020609 |
PaintCorrectionMaskValue | 1.000000 |
PaintCorrectionMaskWhat | Mask/Paint |
PaintCorrectionMoire | 0.000000 |
PaintCorrectionSaturation (1) | 0.076920 |
PaintCorrectionSaturation | 0.000000 |
PaintCorrectionShadows2012 (2) | 0.000000 |
PaintCorrectionShadows2012 | -0.059830 |
PaintCorrectionSharpness | 0.000000 |
PaintCorrectionTemperature | 0.000000 |
PaintCorrectionTint | 0.000000 |
PaintCorrectionWhat | Correction |
ParametricDarks | 0 |
ParametricHighlights | 0 |
ParametricHighlightSplit | 75 |
ParametricLights | +4 |
ParametricMidtoneSplit | 50 |
ParametricShadows | 0 |
ParametricShadowSplit | 25 |
PerspectiveAspect | 0 |
PerspectiveHorizontal | 0 |
PerspectiveRotate | 0.0 |
PerspectiveScale | 102 |
PerspectiveUpright | 0 |
PerspectiveVertical | 0 |
PerspectiveX | 0.00 |
PerspectiveY | 0.00 |
PostCropVignetteAmount | 0 |
PreservedFileName | SAN_6393.NEF |
ProcessVersion | 11.0 |
ProfileDescription | sRGB IEC61966-2.1 |
RawFileName | SAN_6393.NEF |
RedHue | 0 |
RedSaturation | 0 |
Rights | Sindre Nedrevag |
Saturation (1) | +5 |
Saturation | Normal |
SaturationAdjustmentAqua | 0 |
SaturationAdjustmentBlue | 0 |
SaturationAdjustmentGreen | 0 |
SaturationAdjustmentMagenta | 0 |
SaturationAdjustmentOrange | +18 |
SaturationAdjustmentPurple | 0 |
SaturationAdjustmentRed | 0 |
SaturationAdjustmentYellow | +20 |
ScaleFactor35efl | 1.0 |
SceneCaptureType | Landscape |
SceneType | Directly photographed |
SensingMethod | One-chip color area |
SensitivityType | Recommended Exposure Index |
SerialNumber | 6145564 |
Shadows2012 | +20 |
ShadowTint | 0 |
SharpenDetail | 25 |
SharpenEdgeMasking | 0 |
SharpenRadius | +1.0 |
Sharpness (1) | 40 |
Sharpness | Normal |
ShutterSpeed | 15 |
ShutterSpeedValue | 15 |
Software | Adobe Photoshop Lightroom Classic 9.4 (Windows) |
SplitToningBalance | 0 |
SplitToningHighlightHue | 0 |
SplitToningHighlightSaturation | 0 |
SplitToningShadowHue | 0 |
SplitToningShadowSaturation | 0 |
SubjectDistanceRange | Unknown |
Texture | +7 |
Tint | +17 |
ToneCurve | 0, 0, 255, 255 |
ToneCurveBlue | 0, 0, 255, 255 |
ToneCurveGreen | 0, 0, 255, 255 |
ToneCurveName | Linear |
ToneCurveName2012 | Linear |
ToneCurvePV2012 | 0, 0, 255, 255 |
ToneCurvePV2012Blue | 0, 0, 255, 255 |
ToneCurvePV2012Green | 0, 0, 255, 255 |
ToneCurvePV2012Red | 0, 0, 255, 255 |
ToneCurveRed | 0, 0, 255, 255 |
ToneMapStrength | 0 |
Version | 12.4 |
Vibrance | +20 |
VignetteAmount | -14 |
VignetteCorrectionAlreadyApplied | True |
VignetteMidpoint | 50 |
WhiteBalance (1) | Custom |
WhiteBalance | Manual |
Whites2012 | 0 |