Felt | Verdi |
AlreadyApplied | True |
Aperture | 5.6 |
ApertureValue | 5.6 |
ApproximateFocusDistance | 8.32 |
AutoLateralCA | 0 |
BitsPerSample (1) | 8 8 8 |
BitsPerSample | 8 |
Blacks2012 | 0 |
BlueHue | 0 |
BlueSaturation | 0 |
Brightness | +50 |
CameraProfile | Adobe Standard |
CircleOfConfusion | 0.019 mm |
Clarity | +100 |
Clarity2012 | 0 |
ColorComponents | 3 |
ColorMode | RGB |
ColorNoiseReduction | 25 |
ColorNoiseReductionDetail | 50 |
ColorSpace | Uncalibrated |
ColorTemperature | 4600 |
ColorTransform | YCbCr |
Contrast | +55 |
Contrast2012 | 0 |
ConvertToGrayscale | False |
CreateDate | 2013:05:01 09:25:35 |
CreatorTool | Adobe Photoshop CS5 Windows |
CustomRendered | Normal |
DateAcquired | 2013:05:18 09:38:37 |
DateCreated (1) | 2013:05:01 |
DateCreated | 2013:05:01 09:25:35.059 |
DateTimeOriginal | 2013:05:01 09:25:35 |
Defringe | 0 |
DOF | 2.34 m (7.31 - 9.65 m) |
ExifImageHeight | 1500 |
ExifImageWidth | 2187 |
Exposure | 0.00 |
Exposure2012 | 0.00 |
ExposureCompensation | -1/3 |
ExposureMode | Auto |
ExposureProgram | Program AE |
ExposureTime | 1/20 |
FillLight | 0 |
Firmware | 1.2.3 |
Flash | Off, Did not fire |
FlashCompensation | 0 |
FNumber | 5.6 |
FocalLength | 80.0 mm |
FocalLength35efl | 80.0 mm (35 mm equivalent: 125.6 mm) |
Format | image/jpeg |
FOV | 16.3 deg |
GrainAmount | 0 |
GreenHue | 0 |
GreenSaturation | 0 |
HasCrop | False |
HasSettings | True |
HighlightRecovery | 50 |
Highlights2012 | 0 |
HueAdjustmentAqua | 0 |
HueAdjustmentBlue | 0 |
HueAdjustmentGreen | 0 |
HueAdjustmentMagenta | 0 |
HueAdjustmentOrange | 0 |
HueAdjustmentPurple | 0 |
HueAdjustmentRed | 0 |
HueAdjustmentYellow | 0 |
HyperfocalDistance | 59.73 m |
ICCProfileName | Adobe RGB (1998) |
ImageHeight (1) | 1000 |
ImageHeight | 1500 |
ImageNumber | 0 |
ImageSize | 2187x1500 |
ImageWidth (1) | 1458 |
ImageWidth | 2187 |
ISO | 250 |
Lens | 18-250mm |
LensID (1) | 137 |
LensID | Sigma 18-250mm f/3.5-6.3 DC OS HSM |
LensInfo | 18-250mm f/? |
LensManualDistortionAmount | 0 |
LensModel | 18-250mm |
LensProfileEnable | 0 |
LensProfileSetup | LensDefaults |
LightValue | 8.0 |
LuminanceAdjustmentAqua | 0 |
LuminanceAdjustmentBlue | 0 |
LuminanceAdjustmentGreen | 0 |
LuminanceAdjustmentMagenta | 0 |
LuminanceAdjustmentOrange | 0 |
LuminanceAdjustmentPurple | 0 |
LuminanceAdjustmentRed | 0 |
LuminanceAdjustmentYellow | 0 |
LuminanceSmoothing | 0 |
Make | Canon |
MaxApertureValue | 5.4 |
Megapixels | 3.3 |
MeteringMode | Spot |
Model | Canon EOS 7D |
ModifyDate (1) | 2020:06:22 00:19:11+02:00 |
ModifyDate | 2020:06:22 00:19:11 |
Orientation | Horizontal (normal) |
ParametricDarks | 0 |
ParametricHighlights | 0 |
ParametricHighlightSplit | 75 |
ParametricLights | 0 |
ParametricMidtoneSplit | 50 |
ParametricShadows | 0 |
ParametricShadowSplit | 25 |
PerspectiveHorizontal | 0 |
PerspectiveRotate | 0.0 |
PerspectiveScale | 100 |
PerspectiveVertical | 0 |
PhotometricInterpretation | RGB |
PostCropVignetteAmount | 0 |
ProcessVersion | 5.7 |
ProfileDescription | Adobe RGB (1998) |
Rating | 0 |
RawFileName | IMG_4120.CR2 |
RedHue | 0 |
RedSaturation | 0 |
SamplesPerPixel | 3 |
Saturation | +36 |
SaturationAdjustmentAqua | 0 |
SaturationAdjustmentBlue | 0 |
SaturationAdjustmentGreen | 0 |
SaturationAdjustmentMagenta | 0 |
SaturationAdjustmentOrange | 0 |
SaturationAdjustmentPurple | 0 |
SaturationAdjustmentRed | 0 |
SaturationAdjustmentYellow | 0 |
ScaleFactor35efl | 1.6 |
SceneCaptureType | Standard |
SerialNumber | 2081000176 |
Shadows | 5 |
Shadows2012 | 0 |
ShadowTint | 0 |
SharpenDetail | 25 |
SharpenEdgeMasking | 0 |
SharpenRadius | +1.0 |
Sharpness | 25 |
ShutterSpeed | 1/20 |
ShutterSpeedValue | 1/20 |
Software | Adobe Photoshop 21.2 (Windows) |
SplitToningBalance | 0 |
SplitToningHighlightHue | 0 |
SplitToningHighlightSaturation | 0 |
SplitToningShadowHue | 0 |
SplitToningShadowSaturation | 0 |
SubjectDistance | 8.32 m |
Tint | +5 |
ToneCurve | 0, 0, 32, 22, 64, 56, 128, 128, 192, 196, 255, 255 |
ToneCurveBlue | 0, 0, 255, 255 |
ToneCurveGreen | 0, 0, 255, 255 |
ToneCurveName | Medium Contrast |
ToneCurveName2012 | Linear |
ToneCurvePV2012 | 0, 0, 255, 255 |
ToneCurvePV2012Blue | 0, 0, 255, 255 |
ToneCurvePV2012Green | 0, 0, 255, 255 |
ToneCurvePV2012Red | 0, 0, 255, 255 |
ToneCurveRed | 0, 0, 255, 255 |
URL_List | |
Version | 6.7 |
Vibrance | +43 |
VignetteAmount | 0 |
WhiteBalance (1) | As Shot |
WhiteBalance | Auto |
Whites2012 | 0 |