Felt | Verdi |
AlreadyApplied | True |
Aperture | 8.0 |
ApertureValue | 8.0 |
ApproximateFocusDistance | 4294967295 |
Artist | Photographer: Holje Torpe |
BitsPerSample | 8 |
BlueHue | 0 |
BlueSaturation | 0 |
Brightness | +50 |
By-line | Photographer: Holje Torpe |
CameraProfile | Adobe Standard |
ChromaticAberrationB | 0 |
ChromaticAberrationR | 0 |
CircleOfConfusion | 0.031 mm |
Clarity | +25 |
ColorComponents | 3 |
ColorMode | RGB |
ColorNoiseReduction | 25 |
ColorNoiseReductionDetail | 50 |
ColorSpace | Uncalibrated |
ColorTemperature | 4800 |
ColorTransform | YCbCr |
Contrast | +25 |
ConvertToGrayscale | False |
Copyright | Copyright: Holje Torpe |
CopyrightNotice | Copyright: Holje Torpe |
CreateDate (1) | 2015:08:09 14:17:59.49+02:00 |
CreateDate | 2015:08:09 14:17:59 |
Creator | Photographer: Holje Torpe |
CreatorTool | Adobe Photoshop CS5.1 Macintosh |
CustomRendered | Normal |
DateCreated (1) | 2015:08:09 |
DateCreated | 2015:08:09 14:17:59.049 |
DateTimeOriginal | 2015:08:09 14:17:59 |
Defringe | 0 |
DOF | inf (1.97 m - inf) |
ExifImageHeight | 3744 |
ExifImageWidth | 5616 |
Exposure | +0.65 |
ExposureCompensation | 0 |
ExposureMode | Manual |
ExposureProgram | Manual |
ExposureTime | 1/8 |
FillLight | 8 |
Firmware | 2.1.2 |
Flash | On, Fired |
FlashCompensation | 0 |
FNumber | 8.0 |
FocalLength | 22.0 mm |
FocalLength35efl | 22.0 mm (35 mm equivalent: 21.5 mm) |
Format | image/jpeg |
FOV | 79.9 deg |
GrainAmount | 0 |
GreenHue | 0 |
GreenSaturation | 0 |
HasCrop | False |
HasSettings | True |
HighlightRecovery | 0 |
HueAdjustmentAqua | 0 |
HueAdjustmentBlue | 0 |
HueAdjustmentGreen | 0 |
HueAdjustmentMagenta | 0 |
HueAdjustmentOrange | 0 |
HueAdjustmentPurple | 0 |
HueAdjustmentRed | 0 |
HueAdjustmentYellow | 0 |
HyperfocalDistance | 1.97 m |
ICCProfileName | Adobe RGB (1998) |
ImageHeight | 3744 |
ImageNumber | 0 |
ImageSize | 5616x3744 |
ImageWidth | 5616 |
ISO | 50 |
Lens | EF16-35mm f/2.8L II USM |
LensID (1) | 246 |
LensID | Canon EF 16-35mm f/2.8L II USM |
LensInfo | 16-35mm f/? |
LensManualDistortionAmount | 0 |
LensModel | EF16-35mm f/2.8L II USM |
LensProfileEnable | 0 |
LensProfileSetup | LensDefaults |
LightValue | 10.0 |
LuminanceAdjustmentAqua | 0 |
LuminanceAdjustmentBlue | 0 |
LuminanceAdjustmentGreen | 0 |
LuminanceAdjustmentMagenta | 0 |
LuminanceAdjustmentOrange | 0 |
LuminanceAdjustmentPurple | 0 |
LuminanceAdjustmentRed | 0 |
LuminanceAdjustmentYellow | 0 |
LuminanceSmoothing | 0 |
Make | Canon |
MaxApertureValue | 2.8 |
Megapixels | 21.0 |
MeteringMode | Multi-segment |
Model | Canon EOS 5D Mark II |
ModifyDate (1) | 2016:08:09 20:08:28+02:00 |
ModifyDate | 2016:08:09 20:08:28 |
Orientation | Horizontal (normal) |
OwnerName | Hoelje Torpe |
PaintCorrectionActive | true |
PaintCorrectionAmount | 1.000000 |
PaintCorrectionBrightness | 0.000000 |
PaintCorrectionClarity | 0.000000 |
PaintCorrectionContrast | 0.000000 |
PaintCorrectionExposure | 0.000000 |
PaintCorrectionHue | 0.000000 |
PaintCorrectionMaskCenterWeight | 0.000000 |
PaintCorrectionMaskFlow | 0.888889 |
PaintCorrectionMaskRadius | 0.234647 |
PaintCorrectionMaskValue | 1.000000 |
PaintCorrectionMaskWhat | Mask/Paint |
PaintCorrectionSaturation (1) | -0.500000 |
PaintCorrectionSaturation | 0.000000 |
PaintCorrectionSharpness | 0.000000 |
PaintCorrectionWhat | Correction |
ParametricDarks | 0 |
ParametricHighlights | 0 |
ParametricHighlightSplit | 75 |
ParametricLights | 0 |
ParametricMidtoneSplit | 50 |
ParametricShadows | 0 |
ParametricShadowSplit | 25 |
PerspectiveHorizontal | 0 |
PerspectiveRotate | 0.0 |
PerspectiveScale | 100 |
PerspectiveVertical | 0 |
PostCropVignetteAmount | 0 |
ProcessVersion | 5.7 |
ProfileDescription | Adobe RGB (1998) |
Rating | 0 |
RawFileName | IMG_2770.CR2 |
RedHue | 0 |
RedSaturation | 0 |
Rights | Copyright: Holje Torpe |
Saturation | 0 |
SaturationAdjustmentAqua | 0 |
SaturationAdjustmentBlue | 0 |
SaturationAdjustmentGreen | 0 |
SaturationAdjustmentMagenta | 0 |
SaturationAdjustmentOrange | 0 |
SaturationAdjustmentPurple | 0 |
SaturationAdjustmentRed | 0 |
SaturationAdjustmentYellow | 0 |
ScaleFactor35efl | 1.0 |
SceneCaptureType | Standard |
SensitivityType | Unknown |
SerialNumber | 332342648 |
Shadows | 5 |
ShadowTint | 0 |
SharpenDetail | 25 |
SharpenEdgeMasking | 0 |
SharpenRadius | +1.0 |
Sharpness | 25 |
ShutterSpeed | 1/8 |
ShutterSpeedValue | 1/8 |
SidecarForExtension | CR2 |
Software | Adobe Photoshop CS5.1 Macintosh |
SplitToningBalance | 0 |
SplitToningHighlightHue | 0 |
SplitToningHighlightSaturation | 0 |
SplitToningShadowHue | 0 |
SplitToningShadowSaturation | 0 |
SubjectDistance | 4294967295 m |
Tint | -6 |
ToneCurve | 0, 0, 32, 22, 64, 56, 128, 128, 192, 196, 255, 255 |
ToneCurveName | Medium Contrast |
URL_List | |
Version | 6.3 |
Vibrance | 0 |
VignetteAmount | 0 |
WhiteBalance (1) | As Shot |
WhiteBalance | Auto |