Felt | Verdi |
AlreadyApplied | True |
Aperture | 5.0 |
ApertureValue | 5.0 |
AutoLateralCA | 1 |
AutoWhiteVersion | 134348800 |
BitsPerSample | 8 |
Blacks2012 | 0 |
BlueHue | 0 |
BlueSaturation | 0 |
BrightnessValue | -6.09 |
CameraProfile | Adobe Standard |
CircleOfConfusion | 0.020 mm |
Clarity2012 | +28 |
ColorComponents | 3 |
ColorNoiseReduction | 25 |
ColorNoiseReductionDetail | 50 |
ColorNoiseReductionSmoothness | 50 |
ColorSpace | sRGB |
ColorTemperature | 10250 |
ColorTransform | YCbCr |
Contrast2012 | +63 |
ConvertToGrayscale | False |
CreateDate | 2017:10:14 12:00:07 |
CreatorTool | Adobe Photoshop Lightroom 6.12 (Windows) |
CropAngle | 0 |
CropBottom | 0.891989 |
CropConstrainToWarp | 0 |
CropLeft | 0.057991 |
CropRight | 0.776394 |
CropTop | 0.173586 |
CustomRendered | Normal |
DateCreated (1) | 2017:10:14 |
DateCreated | 2017:10:14 12:00:07 |
DateTimeOriginal | 2017:10:14 12:00:07 |
DefringeGreenAmount | 0 |
DefringeGreenHueHi | 60 |
DefringeGreenHueLo | 40 |
DefringePurpleAmount | 0 |
DefringePurpleHueHi | 70 |
DefringePurpleHueLo | 30 |
Dehaze | 0 |
DistortionCorrectionAlreadyApplied | True |
Exposure2012 | -0.21 |
ExposureCompensation | 0 |
ExposureMode | Manual |
ExposureProgram | Manual |
ExposureTime | 15 |
Flash | Off, Did not fire |
FNumber | 5.0 |
FocalLength | 35.0 mm |
FocalLength35efl | 35.0 mm (35 mm equivalent: 53.0 mm) |
FocalLengthIn35mmFormat | 53 mm |
Format | image/jpeg |
FOV | 37.5 deg |
GradientBasedCorrActive | true |
GradientBasedCorrAmount | 1.000000 |
GradientBasedCorrBrightness | 0.000000 |
GradientBasedCorrClarity2012 | 0.000000 |
GradientBasedCorrContrast2012 | 0.000000 |
GradientBasedCorrDefringe | 0.000000 |
GradientBasedCorrExposure2012 | -0.239500 |
GradientBasedCorrHighlights2012 | 0.000000 |
GradientBasedCorrHue | 0.000000 |
GradientBasedCorrLocalBlacks2012 | 0.000000 |
GradientBasedCorrLocalDehaze | 0.000000 |
GradientBasedCorrLocalWhites2012 | 0.000000 |
GradientBasedCorrLuminanceNoise | 0.000000 |
GradientBasedCorrMaskFullX | 0.444247 |
GradientBasedCorrMaskFullY | 0.401637 |
GradientBasedCorrMaskValue | 1.000000 |
GradientBasedCorrMaskWhat | Mask/Gradient |
GradientBasedCorrMaskZeroX | 0.433508 |
GradientBasedCorrMaskZeroY | 0.529389 |
GradientBasedCorrMoire | 0.000000 |
GradientBasedCorrSaturation (1) | 0.006900 |
GradientBasedCorrSaturation | 0.000000 |
GradientBasedCorrShadows2012 | 0.000000 |
GradientBasedCorrSharpness | 0.000000 |
GradientBasedCorrTemperature | 0.000000 |
GradientBasedCorrTint | 0.000000 |
GradientBasedCorrWhat | Correction |
GrainAmount | 0 |
GreenHue | 0 |
GreenSaturation | 0 |
HasCrop | True |
HasExtendedXMP | EFF9CD51BF1203F00806ECFA4A281162 |
HasSettings | True |
Highlights2012 | 0 |
HueAdjustmentAqua | 0 |
HueAdjustmentBlue | 0 |
HueAdjustmentGreen | 0 |
HueAdjustmentMagenta | 0 |
HueAdjustmentOrange | 0 |
HueAdjustmentPurple | 0 |
HueAdjustmentRed | 0 |
HueAdjustmentYellow | 0 |
HyperfocalDistance | 12.35 m |
ImageHeight | 2345 |
ImageSize | 3517x2345 |
ImageWidth | 3517 |
ISO | 200 |
LateralChromaticAberrationCorrectionAlreadyApplied | True |
Lens | XF35mmF2 R WR |
LensInfo | 35mm f/2 |
LensMake | FUJIFILM |
LensManualDistortionAmount | 0 |
LensModel | XF35mmF2 R WR |
LensProfileEnable | 0 |
LensProfileSetup | LensDefaults |
LensSerialNumber | 58A12789 |
LightSource | Unknown |
LightValue | -0.3 |
LuminanceAdjustmentAqua | 0 |
LuminanceAdjustmentBlue | 0 |
LuminanceAdjustmentGreen | -49 |
LuminanceAdjustmentMagenta | 0 |
LuminanceAdjustmentOrange | 0 |
LuminanceAdjustmentPurple | 0 |
LuminanceAdjustmentRed | 0 |
LuminanceAdjustmentYellow | 0 |
LuminanceSmoothing | 0 |
Make | FUJIFILM |
MaxApertureValue | 2.0 |
Megapixels | 8.2 |
MeteringMode | Average |
Model | X-T1 |
ModifyDate (1) | 2017:10:17 17:30:06+02:00 |
ModifyDate | 2017:10:17 17:30:06 |
PaintCorrectionActive | true |
PaintCorrectionAmount | 1.000000 |
PaintCorrectionBrightness | 0.000000 |
PaintCorrectionClarity2012 (1) | 0.450700 |
PaintCorrectionClarity2012 (2) | 0.507040 |
PaintCorrectionClarity2012 (3) | 0.408450 |
PaintCorrectionClarity2012 (5) | 0.140850 |
PaintCorrectionClarity2012 (6) | 0.126760 |
PaintCorrectionClarity2012 (7) | 0.169010 |
PaintCorrectionClarity2012 (9) | 0.295770 |
PaintCorrectionClarity2012 | 0.000000 |
PaintCorrectionContrast2012 (1) | 0.633800 |
PaintCorrectionContrast2012 (2) | 0.380280 |
PaintCorrectionContrast2012 (3) | 0.070420 |
PaintCorrectionContrast2012 (4) | 0.225350 |
PaintCorrectionContrast2012 (5) | 0.183100 |
PaintCorrectionContrast2012 (7) | -0.042250 |
PaintCorrectionContrast2012 (9) | -0.619720 |
PaintCorrectionContrast2012 | 0.000000 |
PaintCorrectionDefringe | 0.000000 |
PaintCorrectionExposure2012 (10) | 0.295750 |
PaintCorrectionExposure2012 (2) | -0.535250 |
PaintCorrectionExposure2012 (3) | 0.408500 |
PaintCorrectionExposure2012 (5) | -0.746500 |
PaintCorrectionExposure2012 (6) | 0.042250 |
PaintCorrectionExposure2012 (8) | 0.225250 |
PaintCorrectionExposure2012 (9) | 0.732500 |
PaintCorrectionExposure2012 | -0.253500 |
PaintCorrectionHighlights2012 (2) | -0.366200 |
PaintCorrectionHighlights2012 (5) | -0.183100 |
PaintCorrectionHighlights2012 | 0.000000 |
PaintCorrectionHue | 0.000000 |
PaintCorrectionLocalBlacks2012 (5) | 0.591550 |
PaintCorrectionLocalBlacks2012 (6) | 0.408450 |
PaintCorrectionLocalBlacks2012 | 0.000000 |
PaintCorrectionLocalDehaze (1) | 0.183100 |
PaintCorrectionLocalDehaze (2) | -0.084510 |
PaintCorrectionLocalDehaze (4) | 0.000000 |
PaintCorrectionLocalDehaze (8) | 0.014080 |
PaintCorrectionLocalDehaze | 0.239440 |
PaintCorrectionLocalWhites2012 (4) | -0.633800 |
PaintCorrectionLocalWhites2012 (5) | -0.140850 |
PaintCorrectionLocalWhites2012 (6) | 0.070420 |
PaintCorrectionLocalWhites2012 | 0.000000 |
PaintCorrectionLuminanceNoise | 0.000000 |
PaintCorrectionMaskCenterWeight (83) | 0.000000 |
PaintCorrectionMaskCenterWeight | 0.085307 |
PaintCorrectionMaskFlow (2) | 0.205000 |
PaintCorrectionMaskFlow (83) | 0.424000 |
PaintCorrectionMaskFlow | 0.285000 |
PaintCorrectionMaskRadius (1) | 0.060887 |
PaintCorrectionMaskRadius (112) | 0.004516 |
PaintCorrectionMaskRadius (116) | 0.018301 |
PaintCorrectionMaskRadius (119) | 0.033125 |
PaintCorrectionMaskRadius (133) | 0.011278 |
PaintCorrectionMaskRadius (14) | 0.029253 |
PaintCorrectionMaskRadius (22) | 0.016815 |
PaintCorrectionMaskRadius (23) | 0.025032 |
PaintCorrectionMaskRadius (31) | 0.037918 |
PaintCorrectionMaskRadius (40) | 0.056144 |
PaintCorrectionMaskRadius (42) | 0.033548 |
PaintCorrectionMaskRadius (55) | 0.057478 |
PaintCorrectionMaskRadius (66) | 0.039991 |
PaintCorrectionMaskRadius (73) | 0.035795 |
PaintCorrectionMaskRadius (81) | 0.027615 |
PaintCorrectionMaskRadius (83) | 0.039638 |
PaintCorrectionMaskRadius (90) | 0.023631 |
PaintCorrectionMaskRadius (96) | 0.029321 |
PaintCorrectionMaskRadius (99) | 0.025583 |
PaintCorrectionMaskRadius | 0.021909 |
PaintCorrectionMaskValue (3) | 0.381000 |
PaintCorrectionMaskValue (83) | 0.000000 |
PaintCorrectionMaskValue | 0.535000 |
PaintCorrectionMaskWhat | Mask/Paint |
PaintCorrectionMoire | 0.000000 |
PaintCorrectionSaturation (1) | 0.126760 |
PaintCorrectionSaturation (11) | 0.253520 |
PaintCorrectionSaturation (15) | 0.006900 |
PaintCorrectionSaturation (3) | 0.549300 |
PaintCorrectionSaturation (5) | 0.197180 |
PaintCorrectionSaturation (9) | 0.788730 |
PaintCorrectionSaturation | 0.000000 |
PaintCorrectionShadows2012 (5) | -0.183100 |
PaintCorrectionShadows2012 (6) | 0.098590 |
PaintCorrectionShadows2012 (7) | 0.380280 |
PaintCorrectionShadows2012 (9) | 0.591550 |
PaintCorrectionShadows2012 | 0.000000 |
PaintCorrectionSharpness (2) | 0.197180 |
PaintCorrectionSharpness | 0.000000 |
PaintCorrectionTemperature (10) | 0.042250 |
PaintCorrectionTemperature (5) | 0.408450 |
PaintCorrectionTemperature (6) | 0.028170 |
PaintCorrectionTemperature | 0.000000 |
PaintCorrectionTint | 0.000000 |
PaintCorrectionWhat | Correction |
ParametricDarks | +44 |
ParametricHighlights | +7 |
ParametricHighlightSplit | 78 |
ParametricLights | -17 |
ParametricMidtoneSplit | 50 |
ParametricShadows | +75 |
ParametricShadowSplit | 25 |
PerspectiveAspect | 0 |
PerspectiveHorizontal | 0 |
PerspectiveRotate | 0.0 |
PerspectiveScale | 100 |
PerspectiveUpright | 0 |
PerspectiveVertical | 0 |
PerspectiveX | 0.00 |
PerspectiveY | 0.00 |
PostCropVignetteAmount | -14 |
PostCropVignetteFeather | 50 |
PostCropVignetteHighlightContrast | 0 |
PostCropVignetteMidpoint | 50 |
PostCropVignetteRoundness | 0 |
PostCropVignetteStyle | 1 |
ProcessVersion | 6.7 |
ProfileDescription | sRGB IEC61966-2.1 |
RedHue | 0 |
RedSaturation | 0 |
Saturation | +45 |
SaturationAdjustmentAqua | 0 |
SaturationAdjustmentBlue | -49 |
SaturationAdjustmentGreen | -18 |
SaturationAdjustmentMagenta | 0 |
SaturationAdjustmentOrange | 0 |
SaturationAdjustmentPurple | 0 |
SaturationAdjustmentRed | 0 |
SaturationAdjustmentYellow | 0 |
ScaleFactor35efl | 1.5 |
SceneCaptureType | Standard |
SceneType | Directly photographed |
SensingMethod | One-chip color area |
SensitivityType | Standard Output Sensitivity |
Shadows2012 | +51 |
ShadowTint | 0 |
SharpenDetail | 25 |
SharpenEdgeMasking | 0 |
SharpenRadius | +1.0 |
Sharpness (1) | 25 |
Sharpness | Normal |
ShutterSpeed | 15 |
ShutterSpeedValue | 15 |
Software | Adobe Photoshop Lightroom 6.12 (Windows) |
SplitToningBalance | 0 |
SplitToningHighlightHue | 0 |
SplitToningHighlightSaturation | 0 |
SplitToningShadowHue | 0 |
SplitToningShadowSaturation | 0 |
SubjectDistanceRange | Unknown |
Tint | +36 |
ToneCurve | 0, 0, 255, 255 |
ToneCurveBlue | 0, 0, 255, 255 |
ToneCurveGreen | 0, 0, 255, 255 |
ToneCurveName | Linear |
ToneCurveName2012 | Linear |
ToneCurvePV2012 | 0, 0, 255, 255 |
ToneCurvePV2012Blue | 0, 0, 255, 255 |
ToneCurvePV2012Green | 0, 0, 255, 255 |
ToneCurvePV2012Red | 0, 0, 255, 255 |
ToneCurveRed | 0, 0, 255, 255 |
ToneMapStrength | 0 |
Version | 9.12 |
Vibrance | +15 |
VignetteAmount | 0 |
WhiteBalance (1) | As Shot |
WhiteBalance | Auto |
Whites2012 | +45 |