Felt | Verdi |
AlreadyApplied | True |
Aperture | 5.0 |
ApertureValue | 5.0 |
ApproximateFocusDistance | 2.15 |
AutoLateralCA | 1 |
AutoWhiteVersion | 134348800 |
BitsPerSample | 8 |
Blacks2012 | +10 |
BlueHue | 0 |
BlueSaturation | 0 |
CameraProfile | Embedded |
CircGradBasedCorrActive | true |
CircGradBasedCorrAmount | 1.000000 |
CircGradBasedCorrBrightness | 0.000000 |
CircGradBasedCorrClarity2012 (1) | 0.061447 |
CircGradBasedCorrClarity2012 (2) | 0.069171 |
CircGradBasedCorrClarity2012 (3) | 0.103581 |
CircGradBasedCorrClarity2012 (4) | 0.145804 |
CircGradBasedCorrClarity2012 (5) | 0.106654 |
CircGradBasedCorrClarity2012 (6) | 0.067855 |
CircGradBasedCorrClarity2012 (7) | 0.081900 |
CircGradBasedCorrClarity2012 (8) | 0.081110 |
CircGradBasedCorrClarity2012 (9) | 0.089185 |
CircGradBasedCorrClarity2012 | 0.054073 |
CircGradBasedCorrContrast2012 (5) | 0.000000 |
CircGradBasedCorrContrast2012 (7) | 0.072331 |
CircGradBasedCorrContrast2012 (8) | 0.120874 |
CircGradBasedCorrContrast2012 (9) | 0.098666 |
CircGradBasedCorrContrast2012 | 0.024666 |
CircGradBasedCorrDefringe | -0.000878 |
CircGradBasedCorrExposure2012 (1) | 0.112535 |
CircGradBasedCorrExposure2012 (2) | 0.029758 |
CircGradBasedCorrExposure2012 (3) | 0.068206 |
CircGradBasedCorrExposure2012 (4) | 0.052317 |
CircGradBasedCorrExposure2012 (5) | 0.064695 |
CircGradBasedCorrExposure2012 (6) | 0.101562 |
CircGradBasedCorrExposure2012 (7) | 0.038624 |
CircGradBasedCorrExposure2012 (8) | 0.074175 |
CircGradBasedCorrExposure2012 (9) | -0.046612 |
CircGradBasedCorrExposure2012 | 0.061798 |
CircGradBasedCorrHighlights2012 (1) | -0.297577 |
CircGradBasedCorrHighlights2012 (9) | -0.328652 |
CircGradBasedCorrHighlights2012 | -0.590414 |
CircGradBasedCorrHue | 43.523399 |
CircGradBasedCorrLuminanceNoise | 0.000000 |
CircGradBasedCorrMaskAngle (5) | -10.434100 |
CircGradBasedCorrMaskAngle (6) | -17.366500 |
CircGradBasedCorrMaskAngle (7) | 40.271500 |
CircGradBasedCorrMaskAngle (8) | 8.493840 |
CircGradBasedCorrMaskAngle | 0.000000 |
CircGradBasedCorrMaskBottom (1) | 0.353697 |
CircGradBasedCorrMaskBottom (2) | 0.240003 |
CircGradBasedCorrMaskBottom (3) | 0.230333 |
CircGradBasedCorrMaskBottom (4) | 0.336849 |
CircGradBasedCorrMaskBottom (5) | 0.167791 |
CircGradBasedCorrMaskBottom (6) | 0.147398 |
CircGradBasedCorrMaskBottom (7) | 0.471067 |
CircGradBasedCorrMaskBottom (8) | 0.770403 |
CircGradBasedCorrMaskBottom (9) | 0.728278 |
CircGradBasedCorrMaskBottom | 0.334955 |
CircGradBasedCorrMaskFeather | +56 |
CircGradBasedCorrMaskFlipped | true |
CircGradBasedCorrMaskLeft (1) | 0.501060 |
CircGradBasedCorrMaskLeft (2) | 0.507873 |
CircGradBasedCorrMaskLeft (3) | 0.586173 |
CircGradBasedCorrMaskLeft (4) | 0.637316 |
CircGradBasedCorrMaskLeft (5) | 0.465893 |
CircGradBasedCorrMaskLeft (6) | 0.569066 |
CircGradBasedCorrMaskLeft (7) | 0.648636 |
CircGradBasedCorrMaskLeft (8) | 0.129885 |
CircGradBasedCorrMaskLeft (9) | 0.593469 |
CircGradBasedCorrMaskLeft | 0.554858 |
CircGradBasedCorrMaskMidpoint | +50 |
CircGradBasedCorrMaskRight (1) | 0.614700 |
CircGradBasedCorrMaskRight (2) | 0.521205 |
CircGradBasedCorrMaskRight (3) | 0.600327 |
CircGradBasedCorrMaskRight (4) | 0.657254 |
CircGradBasedCorrMaskRight (5) | 0.524159 |
CircGradBasedCorrMaskRight (6) | 0.623252 |
CircGradBasedCorrMaskRight (7) | 0.609106 |
CircGradBasedCorrMaskRight (8) | 0.531396 |
CircGradBasedCorrMaskRight (9) | 0.814793 |
CircGradBasedCorrMaskRight | 0.575176 |
CircGradBasedCorrMaskRoundness | 0 |
CircGradBasedCorrMaskTop (1) | 0.134079 |
CircGradBasedCorrMaskTop (2) | 0.221556 |
CircGradBasedCorrMaskTop (3) | 0.210308 |
CircGradBasedCorrMaskTop (4) | 0.311104 |
CircGradBasedCorrMaskTop (5) | 0.142360 |
CircGradBasedCorrMaskTop (6) | 0.133360 |
CircGradBasedCorrMaskTop (7) | 0.211407 |
CircGradBasedCorrMaskTop (8) | 0.261639 |
CircGradBasedCorrMaskTop (9) | 0.372212 |
CircGradBasedCorrMaskTop | 0.300485 |
CircGradBasedCorrMaskValue | 1.000000 |
CircGradBasedCorrMaskVersion | +2 |
CircGradBasedCorrMaskWhat | Mask/CircularGradient |
CircGradBasedCorrMoire | 0.000000 |
CircGradBasedCorrSaturation (7) | 0.051879 |
CircGradBasedCorrSaturation | 0.000000 |
CircGradBasedCorrShadows2012 (1) | 0.041608 |
CircGradBasedCorrShadows2012 (3) | 0.077686 |
CircGradBasedCorrShadows2012 (4) | 0.040643 |
CircGradBasedCorrShadows2012 (5) | 0.081987 |
CircGradBasedCorrShadows2012 (6) | 0.085147 |
CircGradBasedCorrShadows2012 (7) | 0.268697 |
CircGradBasedCorrShadows2012 (8) | 0.165906 |
CircGradBasedCorrShadows2012 (9) | 0.150456 |
CircGradBasedCorrShadows2012 | 0.005530 |
CircGradBasedCorrSharpness (1) | -0.034498 |
CircGradBasedCorrSharpness (2) | 0.145629 |
CircGradBasedCorrSharpness (3) | 0.128687 |
CircGradBasedCorrSharpness (4) | 0.106829 |
CircGradBasedCorrSharpness (5) | 0.081987 |
CircGradBasedCorrSharpness (6) | 0.076457 |
CircGradBasedCorrSharpness (7) | 0.084445 |
CircGradBasedCorrSharpness (8) | 0.081110 |
CircGradBasedCorrSharpness (9) | 0.086552 |
CircGradBasedCorrSharpness | 0.030723 |
CircGradBasedCorrTemperature | 0.001931 |
CircGradBasedCorrTint | 0.000000 |
CircGradBasedCorrWhat | Correction |
CircleOfConfusion | 0.030 mm |
Clarity2012 | +11 |
ColorComponents | 3 |
ColorNoiseReduction | 16 |
ColorNoiseReductionDetail | 50 |
ColorNoiseReductionSmoothness | 50 |
ColorSpace | sRGB |
ColorTransform | YCbCr |
Contrast2012 | +7 |
ConvertToGrayscale | True |
CreateDate (1) | 2017:08:15 19:55:27.00 |
CreateDate | 2017:08:15 19:55:27 |
CreatorTool | Adobe Photoshop Lightroom 5.7.1 (Macintosh) |
CropAngle | 0 |
CropBottom | 0.553178 |
CropConstrainToWarp | 0 |
CropLeft | 0.336685 |
CropRight | 0.81146 |
CropTop | 0.045336 |
CustomRendered | Normal |
DateCreated (1) | 2017:08:15 |
DateCreated | 2017:08:15 19:55:27.00 |
DateTimeOriginal | 2017:08:15 19:55:27 |
DOF | 0.49 m (1.93 - 2.43 m) |
Exposure2012 | +0.32 |
ExposureCompensation | 0 |
ExposureMode | Manual |
ExposureProgram | Manual |
ExposureTime | 1/80 |
Firmware | 1.1.6 |
Flash | Off, Did not fire |
FlashCompensation | 0 |
FNumber | 5.0 |
FocalLength | 53.0 mm |
FocalLength35efl | 53.0 mm (35 mm equivalent: 52.3 mm) |
Format | image/jpeg |
FOV | 38.0 deg |
GrainAmount | 0 |
GrayMixerAqua | -17 |
GrayMixerBlue | -13 |
GrayMixerGreen | -28 |
GrayMixerMagenta | +5 |
GrayMixerOrange | +20 |
GrayMixerPurple | +19 |
GrayMixerRed | -11 |
GrayMixerYellow | -25 |
GreenHue | 0 |
GreenSaturation | 0 |
HasCrop | True |
HasExtendedXMP | 78777CB21F60A46BD237EFE6672814A1 |
HasSettings | True |
Highlights2012 | -10 |
HyperfocalDistance | 18.46 m |
ImageHeight | 1853 |
ImageNumber | 0 |
ImageSize | 2598x1853 |
ImageWidth | 2598 |
IncrementalTemperature | 0 |
IncrementalTint | 0 |
ISO | 250 |
Lens | EF24-70mm f/2.8L II USM |
LensID (1) | 495 |
LensID | Canon EF 24-70mm f/2.8L II USM |
LensInfo | 24-70mm f/? |
LensManualDistortionAmount | 0 |
LensModel | EF24-70mm f/2.8L II USM |
LensProfileChromaticAberrationScale | 100 |
LensProfileDistortionScale | 100 |
LensProfileEnable | 1 |
LensProfileFilename | Canon EOS-1Ds Mark III (Canon EF 24-70mm f2.8 L USM).lcp |
LensProfileName | Adobe (Canon EF 24-70mm f/2.8 L USM) |
LensProfileSetup | Custom |
LensProfileVignettingScale | 100 |
LensSerialNumber | 3630000901 |
LightValue | 9.6 |
LuminanceNoiseReductionContrast | 19 |
LuminanceNoiseReductionDetail | 50 |
LuminanceSmoothing | 16 |
Make | Canon |
MaxApertureValue | 2.8 |
Megapixels | 4.8 |
MeteringMode | Multi-segment |
Model | Canon EOS 6D |
ModifyDate (1) | 2017:08:17 13:03:02+02:00 |
ModifyDate | 2017:08:17 13:03:02 |
ParametricDarks | +6 |
ParametricHighlights | -10 |
ParametricHighlightSplit | 75 |
ParametricLights | +4 |
ParametricMidtoneSplit | 50 |
ParametricShadows | +6 |
ParametricShadowSplit | 25 |
PerspectiveAspect | 0 |
PerspectiveHorizontal | 0 |
PerspectiveRotate | 0.0 |
PerspectiveScale | 100 |
PerspectiveUpright | 1 |
PerspectiveVertical | 0 |
PostCropVignetteAmount | +17 |
PostCropVignetteFeather | 50 |
PostCropVignetteMidpoint | 50 |
PostCropVignetteRoundness | 0 |
PostCropVignetteStyle | 1 |
ProcessVersion | 6.7 |
ProfileDescription | sRGB IEC61966-2.1 |
RecommendedExposureIndex | 250 |
RedHue | 0 |
RedSaturation | 0 |
ScaleFactor35efl | 1.0 |
SceneCaptureType | Standard |
SensitivityType | Recommended Exposure Index |
SerialNumber | 373051003880 |
Shadows2012 | +2 |
ShadowTint | 0 |
SharpenDetail | 75 |
SharpenEdgeMasking | 0 |
SharpenRadius | +1.0 |
Sharpness | 101 |
ShutterSpeed | 1/80 |
ShutterSpeedValue | 1/80 |
Software | Adobe Photoshop Lightroom 5.7.1 (Macintosh) |
SplitToningBalance | 0 |
SplitToningHighlightHue | 0 |
SplitToningHighlightSaturation | 0 |
SplitToningShadowHue | 0 |
SplitToningShadowSaturation | 0 |
ToneCurve | 0, 0, 255, 255 |
ToneCurveBlue | 0, 0, 255, 255 |
ToneCurveGreen | 0, 0, 255, 255 |
ToneCurveName | Linear |
ToneCurveName2012 | Custom |
ToneCurvePV2012 | 0, 0, 84, 83, 135, 135, 185, 179, 255, 255 |
ToneCurvePV2012Blue | 0, 0, 255, 255 |
ToneCurvePV2012Green | 0, 0, 255, 255 |
ToneCurvePV2012Red | 0, 0, 255, 255 |
ToneCurveRed | 0, 0, 255, 255 |
Version | 8.7.1 |
VignetteAmount | 0 |
WhiteBalance (1) | As Shot |
WhiteBalance | Auto |
Whites2012 | +2 |