Felt | Verdi |
AlreadyApplied | True |
Aperture | 7.1 |
ApertureValue | 7.1 |
ApproximateFocusDistance | 21.9 |
AutoLateralCA | 0 |
BitsPerSample | 8 |
Blacks2012 | +13 |
BlueHue | 0 |
BlueSaturation | 0 |
CameraProfile | Adobe Standard |
CircleOfConfusion | 0.019 mm |
Clarity2012 | +26 |
ColorComponents | 3 |
ColorMode | RGB |
ColorNoiseReduction | 25 |
ColorNoiseReductionDetail | 50 |
ColorSpace | sRGB |
ColorTemperature | 5800 |
ColorTransform | YCbCr |
Contrast2012 | +16 |
ConvertToGrayscale | False |
CreateDate (1) | 2014:04:11 17:26:59+02:00 |
CreateDate | 2014:04:11 17:26:59 |
CustomRendered | Normal |
DateCreated (1) | 2014:04:11 |
DateCreated | 2014:04:11 17:26:59.086 |
DateTimeOriginal | 2014:04:11 17:26:59 |
DefringeGreenAmount | 0 |
DefringeGreenHueHi | 60 |
DefringeGreenHueLo | 40 |
DefringePurpleAmount | 0 |
DefringePurpleHueHi | 70 |
DefringePurpleHueLo | 30 |
DOF | 0.72 m (21.54 - 22.27 m) |
ExifImageHeight | 3100 |
ExifImageWidth | 4799 |
Exposure2012 | +0.30 |
ExposureCompensation | -2/3 |
ExposureMode | Auto |
ExposureProgram | Shutter speed priority AE |
ExposureTime | 1/500 |
Firmware | 2.0.5 |
Flash | Off, Did not fire |
FlashCompensation | 0 |
FNumber | 7.1 |
FocalLength | 420.0 mm |
FocalLength35efl | 420.0 mm (35 mm equivalent: 659.5 mm) |
Format | image/jpeg |
FOV | 3.1 deg |
GrainAmount | 0 |
GreenHue | 0 |
GreenSaturation | 0 |
HasCrop | False |
HasSettings | True |
Highlights2012 | +6 |
HueAdjustmentAqua | 0 |
HueAdjustmentBlue | 0 |
HueAdjustmentGreen | 0 |
HueAdjustmentMagenta | 0 |
HueAdjustmentOrange | 0 |
HueAdjustmentPurple | 0 |
HueAdjustmentRed | 0 |
HueAdjustmentYellow | 0 |
HyperfocalDistance | 1298.50 m |
ICCProfileName | sRGB IEC61966-2.1 |
ImageHeight | 3100 |
ImageNumber | 0 |
ImageSize | 4799x3100 |
ImageWidth | 4799 |
ISO | 160 |
Lens | 100-300mm |
LensID (1) | 152 |
LensID | Sigma 100-300mm f/4 |
LensInfo | 100-300mm f/? |
LensManualDistortionAmount | 0 |
LensModel | 100-300mm |
LensProfileEnable | 0 |
LensProfileSetup | LensDefaults |
LightValue | 13.9 |
LuminanceAdjustmentAqua | 0 |
LuminanceAdjustmentBlue | 0 |
LuminanceAdjustmentGreen | 0 |
LuminanceAdjustmentMagenta | 0 |
LuminanceAdjustmentOrange | 0 |
LuminanceAdjustmentPurple | 0 |
LuminanceAdjustmentRed | 0 |
LuminanceAdjustmentYellow | 0 |
LuminanceNoiseReductionContrast | 15 |
LuminanceNoiseReductionDetail | 54 |
LuminanceSmoothing | 14 |
Make | Canon |
MaxApertureValue | 5.7 |
Megapixels | 14.9 |
MeteringMode | Partial |
Model | Canon EOS 7D |
ModifyDate (1) | 2014:04:12 23:11:39+02:00 |
ModifyDate | 2014:04:12 23:11:39 |
Orientation | Horizontal (normal) |
ParametricDarks | 0 |
ParametricHighlights | 0 |
ParametricHighlightSplit | 75 |
ParametricLights | 0 |
ParametricMidtoneSplit | 50 |
ParametricShadows | 0 |
ParametricShadowSplit | 25 |
PerspectiveAspect | 0 |
PerspectiveHorizontal | 0 |
PerspectiveRotate | 0.0 |
PerspectiveScale | 100 |
PerspectiveUpright | 0 |
PerspectiveVertical | 0 |
PostCropVignetteAmount | 0 |
ProcessVersion | 6.7 |
ProfileDescription | sRGB IEC61966-2.1 |
Rating | 0 |
RawFileName | _MG_8124.CR2 |
RecommendedExposureIndex | 160 |
RedHue | 0 |
RedSaturation | 0 |
Saturation | 0 |
SaturationAdjustmentAqua | 0 |
SaturationAdjustmentBlue | 0 |
SaturationAdjustmentGreen | 0 |
SaturationAdjustmentMagenta | 0 |
SaturationAdjustmentOrange | 0 |
SaturationAdjustmentPurple | 0 |
SaturationAdjustmentRed | 0 |
SaturationAdjustmentYellow | 0 |
ScaleFactor35efl | 1.6 |
SceneCaptureType | Standard |
SensitivityType | Recommended Exposure Index |
SerialNumber | 0530517720 |
Shadows2012 | +36 |
ShadowTint | 0 |
SharpenDetail | 26 |
SharpenEdgeMasking | 10 |
SharpenRadius | +2.0 |
Sharpness | 97 |
ShutterSpeed | 1/500 |
ShutterSpeedValue | 1/500 |
Software | Adobe Photoshop Elements 12.0 Windows |
SplitToningBalance | 0 |
SplitToningHighlightHue | 0 |
SplitToningHighlightSaturation | 0 |
SplitToningShadowHue | 0 |
SplitToningShadowSaturation | 0 |
Tint | -1 |
ToneCurveName2012 | Linear |
ToneCurvePV2012 | 0, 0, 255, 255 |
ToneCurvePV2012Blue | 0, 0, 255, 255 |
ToneCurvePV2012Green | 0, 0, 255, 255 |
ToneCurvePV2012Red | 0, 0, 255, 255 |
URL_List | |
Version | 8.0 |
Vibrance | 0 |
VignetteAmount | 0 |
WhiteBalance (1) | As Shot |
WhiteBalance | Auto |
Whites2012 | 0 |